BEGIN:VCALENDAR
VERSION:2.0
PRODID:-//St Paul&#039;s Lutheran Church, Henty NSW - ECPv6.15.14//NONSGML v1.0//EN
CALSCALE:GREGORIAN
METHOD:PUBLISH
X-ORIGINAL-URL:https://henty.lutheran.org.au
X-WR-CALDESC:Events for St Paul&#039;s Lutheran Church, Henty NSW
REFRESH-INTERVAL;VALUE=DURATION:PT1H
X-Robots-Tag:noindex
X-PUBLISHED-TTL:PT1H
BEGIN:VTIMEZONE
TZID:Australia/Sydney
BEGIN:STANDARD
TZOFFSETFROM:+1100
TZOFFSETTO:+1000
TZNAME:AEST
DTSTART:20230401T160000
END:STANDARD
BEGIN:DAYLIGHT
TZOFFSETFROM:+1000
TZOFFSETTO:+1100
TZNAME:AEDT
DTSTART:20230930T160000
END:DAYLIGHT
BEGIN:STANDARD
TZOFFSETFROM:+1100
TZOFFSETTO:+1000
TZNAME:AEST
DTSTART:20240406T160000
END:STANDARD
BEGIN:DAYLIGHT
TZOFFSETFROM:+1000
TZOFFSETTO:+1100
TZNAME:AEDT
DTSTART:20241005T160000
END:DAYLIGHT
BEGIN:STANDARD
TZOFFSETFROM:+1100
TZOFFSETTO:+1000
TZNAME:AEST
DTSTART:20250405T160000
END:STANDARD
BEGIN:DAYLIGHT
TZOFFSETFROM:+1000
TZOFFSETTO:+1100
TZNAME:AEDT
DTSTART:20251004T160000
END:DAYLIGHT
END:VTIMEZONE
BEGIN:VEVENT
DTSTART;TZID=Australia/Sydney:20241110T103000
DTEND;TZID=Australia/Sydney:20241110T113000
DTSTAMP:20260420T051020
CREATED:20220213T022451Z
LAST-MODIFIED:20220213T095801Z
UID:10000041-1731234600-1731238200@henty.lutheran.org.au
SUMMARY:Worship Service
DESCRIPTION:
URL:https://henty.lutheran.org.au/event/worship-service-2/2024-11-10/
LOCATION:St Paul’s Henty\, 41 Lyne St\, Henty\, NSW\, 2658\, Australia
CATEGORIES:Worship
ATTACH;FMTTYPE=image/jpeg:https://henty.lutheran.org.au/wp-content/uploads/2018/11/DSCN4965-e1547603409710.jpg
GEO:-35.5179779;147.0294185
X-APPLE-STRUCTURED-LOCATION;VALUE=URI;X-ADDRESS=St Paul’s Henty 41 Lyne St Henty NSW 2658 Australia;X-APPLE-RADIUS=500;X-TITLE=41 Lyne St:geo:147.0294185,-35.5179779
END:VEVENT
BEGIN:VEVENT
DTSTART;TZID=Australia/Sydney:20241103T090000
DTEND;TZID=Australia/Sydney:20241103T100000
DTSTAMP:20260420T051020
CREATED:20220213T022302Z
LAST-MODIFIED:20220213T095538Z
UID:10000148-1730624400-1730628000@henty.lutheran.org.au
SUMMARY:Worship Service
DESCRIPTION:Join us for a cuppa after the service!
URL:https://henty.lutheran.org.au/event/worship-service/2024-11-03/
LOCATION:St Paul’s Henty\, 41 Lyne St\, Henty\, NSW\, 2658\, Australia
CATEGORIES:Worship
ATTACH;FMTTYPE=image/jpeg:https://henty.lutheran.org.au/wp-content/uploads/2018/11/DSCN4965-e1547603409710.jpg
GEO:-35.5179779;147.0294185
X-APPLE-STRUCTURED-LOCATION;VALUE=URI;X-ADDRESS=St Paul’s Henty 41 Lyne St Henty NSW 2658 Australia;X-APPLE-RADIUS=500;X-TITLE=41 Lyne St:geo:147.0294185,-35.5179779
END:VEVENT
BEGIN:VEVENT
DTSTART;TZID=Australia/Sydney:20241027T103000
DTEND;TZID=Australia/Sydney:20241027T113000
DTSTAMP:20260420T051020
CREATED:20250728T140817Z
LAST-MODIFIED:20250728T140817Z
UID:10000093-1730025000-1730028600@henty.lutheran.org.au
SUMMARY:Worship Service
DESCRIPTION:
URL:https://henty.lutheran.org.au/event/worship-service-2/2024-10-27/
LOCATION:St Paul’s Henty\, 41 Lyne St\, Henty\, NSW\, 2658\, Australia
CATEGORIES:Worship
ATTACH;FMTTYPE=image/jpeg:https://henty.lutheran.org.au/wp-content/uploads/2018/11/DSCN4965-e1547603409710.jpg
GEO:-35.5179779;147.0294185
X-APPLE-STRUCTURED-LOCATION;VALUE=URI;X-ADDRESS=St Paul’s Henty 41 Lyne St Henty NSW 2658 Australia;X-APPLE-RADIUS=500;X-TITLE=41 Lyne St:geo:147.0294185,-35.5179779
END:VEVENT
BEGIN:VEVENT
DTSTART;TZID=Australia/Sydney:20241020T090000
DTEND;TZID=Australia/Sydney:20241020T100000
DTSTAMP:20260420T051020
CREATED:20250728T140817Z
LAST-MODIFIED:20250728T140817Z
UID:10000200-1729414800-1729418400@henty.lutheran.org.au
SUMMARY:Worship Service
DESCRIPTION:Join us for a cuppa after the service!
URL:https://henty.lutheran.org.au/event/worship-service/2024-10-20/
LOCATION:St Paul’s Henty\, 41 Lyne St\, Henty\, NSW\, 2658\, Australia
CATEGORIES:Worship
ATTACH;FMTTYPE=image/jpeg:https://henty.lutheran.org.au/wp-content/uploads/2018/11/DSCN4965-e1547603409710.jpg
GEO:-35.5179779;147.0294185
X-APPLE-STRUCTURED-LOCATION;VALUE=URI;X-ADDRESS=St Paul’s Henty 41 Lyne St Henty NSW 2658 Australia;X-APPLE-RADIUS=500;X-TITLE=41 Lyne St:geo:147.0294185,-35.5179779
END:VEVENT
BEGIN:VEVENT
DTSTART;TZID=Australia/Sydney:20241013T103000
DTEND;TZID=Australia/Sydney:20241013T113000
DTSTAMP:20260420T051020
CREATED:20220213T022451Z
LAST-MODIFIED:20220213T095801Z
UID:10000040-1728815400-1728819000@henty.lutheran.org.au
SUMMARY:Worship Service
DESCRIPTION:
URL:https://henty.lutheran.org.au/event/worship-service-2/2024-10-13/
LOCATION:St Paul’s Henty\, 41 Lyne St\, Henty\, NSW\, 2658\, Australia
CATEGORIES:Worship
ATTACH;FMTTYPE=image/jpeg:https://henty.lutheran.org.au/wp-content/uploads/2018/11/DSCN4965-e1547603409710.jpg
GEO:-35.5179779;147.0294185
X-APPLE-STRUCTURED-LOCATION;VALUE=URI;X-ADDRESS=St Paul’s Henty 41 Lyne St Henty NSW 2658 Australia;X-APPLE-RADIUS=500;X-TITLE=41 Lyne St:geo:147.0294185,-35.5179779
END:VEVENT
BEGIN:VEVENT
DTSTART;TZID=Australia/Sydney:20241006T090000
DTEND;TZID=Australia/Sydney:20241006T100000
DTSTAMP:20260420T051020
CREATED:20220213T022302Z
LAST-MODIFIED:20220213T095538Z
UID:10000147-1728205200-1728208800@henty.lutheran.org.au
SUMMARY:Worship Service
DESCRIPTION:Join us for a cuppa after the service!
URL:https://henty.lutheran.org.au/event/worship-service/2024-10-06/
LOCATION:St Paul’s Henty\, 41 Lyne St\, Henty\, NSW\, 2658\, Australia
CATEGORIES:Worship
ATTACH;FMTTYPE=image/jpeg:https://henty.lutheran.org.au/wp-content/uploads/2018/11/DSCN4965-e1547603409710.jpg
GEO:-35.5179779;147.0294185
X-APPLE-STRUCTURED-LOCATION;VALUE=URI;X-ADDRESS=St Paul’s Henty 41 Lyne St Henty NSW 2658 Australia;X-APPLE-RADIUS=500;X-TITLE=41 Lyne St:geo:147.0294185,-35.5179779
END:VEVENT
BEGIN:VEVENT
DTSTART;TZID=Australia/Sydney:20240922T103000
DTEND;TZID=Australia/Sydney:20240922T113000
DTSTAMP:20260420T051020
CREATED:20250728T140817Z
LAST-MODIFIED:20250728T140817Z
UID:10000092-1727001000-1727004600@henty.lutheran.org.au
SUMMARY:Worship Service
DESCRIPTION:
URL:https://henty.lutheran.org.au/event/worship-service-2/2024-09-22/
LOCATION:St Paul’s Henty\, 41 Lyne St\, Henty\, NSW\, 2658\, Australia
CATEGORIES:Worship
ATTACH;FMTTYPE=image/jpeg:https://henty.lutheran.org.au/wp-content/uploads/2018/11/DSCN4965-e1547603409710.jpg
GEO:-35.5179779;147.0294185
X-APPLE-STRUCTURED-LOCATION;VALUE=URI;X-ADDRESS=St Paul’s Henty 41 Lyne St Henty NSW 2658 Australia;X-APPLE-RADIUS=500;X-TITLE=41 Lyne St:geo:147.0294185,-35.5179779
END:VEVENT
BEGIN:VEVENT
DTSTART;TZID=Australia/Sydney:20240915T090000
DTEND;TZID=Australia/Sydney:20240915T100000
DTSTAMP:20260420T051020
CREATED:20250728T140817Z
LAST-MODIFIED:20250728T140817Z
UID:10000199-1726390800-1726394400@henty.lutheran.org.au
SUMMARY:Worship Service
DESCRIPTION:Join us for a cuppa after the service!
URL:https://henty.lutheran.org.au/event/worship-service/2024-09-15/
LOCATION:St Paul’s Henty\, 41 Lyne St\, Henty\, NSW\, 2658\, Australia
CATEGORIES:Worship
ATTACH;FMTTYPE=image/jpeg:https://henty.lutheran.org.au/wp-content/uploads/2018/11/DSCN4965-e1547603409710.jpg
GEO:-35.5179779;147.0294185
X-APPLE-STRUCTURED-LOCATION;VALUE=URI;X-ADDRESS=St Paul’s Henty 41 Lyne St Henty NSW 2658 Australia;X-APPLE-RADIUS=500;X-TITLE=41 Lyne St:geo:147.0294185,-35.5179779
END:VEVENT
BEGIN:VEVENT
DTSTART;TZID=Australia/Sydney:20240908T103000
DTEND;TZID=Australia/Sydney:20240908T113000
DTSTAMP:20260420T051020
CREATED:20220213T022451Z
LAST-MODIFIED:20220213T095801Z
UID:10000039-1725791400-1725795000@henty.lutheran.org.au
SUMMARY:Worship Service
DESCRIPTION:
URL:https://henty.lutheran.org.au/event/worship-service-2/2024-09-08/
LOCATION:St Paul’s Henty\, 41 Lyne St\, Henty\, NSW\, 2658\, Australia
CATEGORIES:Worship
ATTACH;FMTTYPE=image/jpeg:https://henty.lutheran.org.au/wp-content/uploads/2018/11/DSCN4965-e1547603409710.jpg
GEO:-35.5179779;147.0294185
X-APPLE-STRUCTURED-LOCATION;VALUE=URI;X-ADDRESS=St Paul’s Henty 41 Lyne St Henty NSW 2658 Australia;X-APPLE-RADIUS=500;X-TITLE=41 Lyne St:geo:147.0294185,-35.5179779
END:VEVENT
BEGIN:VEVENT
DTSTART;TZID=Australia/Sydney:20240901T090000
DTEND;TZID=Australia/Sydney:20240901T100000
DTSTAMP:20260420T051020
CREATED:20220213T022302Z
LAST-MODIFIED:20220213T095538Z
UID:10000146-1725181200-1725184800@henty.lutheran.org.au
SUMMARY:Worship Service
DESCRIPTION:Join us for a cuppa after the service!
URL:https://henty.lutheran.org.au/event/worship-service/2024-09-01/
LOCATION:St Paul’s Henty\, 41 Lyne St\, Henty\, NSW\, 2658\, Australia
CATEGORIES:Worship
ATTACH;FMTTYPE=image/jpeg:https://henty.lutheran.org.au/wp-content/uploads/2018/11/DSCN4965-e1547603409710.jpg
GEO:-35.5179779;147.0294185
X-APPLE-STRUCTURED-LOCATION;VALUE=URI;X-ADDRESS=St Paul’s Henty 41 Lyne St Henty NSW 2658 Australia;X-APPLE-RADIUS=500;X-TITLE=41 Lyne St:geo:147.0294185,-35.5179779
END:VEVENT
BEGIN:VEVENT
DTSTART;TZID=Australia/Sydney:20240825T103000
DTEND;TZID=Australia/Sydney:20240825T113000
DTSTAMP:20260420T051020
CREATED:20250728T140817Z
LAST-MODIFIED:20250728T140817Z
UID:10000091-1724581800-1724585400@henty.lutheran.org.au
SUMMARY:Worship Service
DESCRIPTION:
URL:https://henty.lutheran.org.au/event/worship-service-2/2024-08-25/
LOCATION:St Paul’s Henty\, 41 Lyne St\, Henty\, NSW\, 2658\, Australia
CATEGORIES:Worship
ATTACH;FMTTYPE=image/jpeg:https://henty.lutheran.org.au/wp-content/uploads/2018/11/DSCN4965-e1547603409710.jpg
GEO:-35.5179779;147.0294185
X-APPLE-STRUCTURED-LOCATION;VALUE=URI;X-ADDRESS=St Paul’s Henty 41 Lyne St Henty NSW 2658 Australia;X-APPLE-RADIUS=500;X-TITLE=41 Lyne St:geo:147.0294185,-35.5179779
END:VEVENT
BEGIN:VEVENT
DTSTART;TZID=Australia/Sydney:20240818T090000
DTEND;TZID=Australia/Sydney:20240818T100000
DTSTAMP:20260420T051020
CREATED:20250728T140817Z
LAST-MODIFIED:20250728T140817Z
UID:10000198-1723971600-1723975200@henty.lutheran.org.au
SUMMARY:Worship Service
DESCRIPTION:Join us for a cuppa after the service!
URL:https://henty.lutheran.org.au/event/worship-service/2024-08-18/
LOCATION:St Paul’s Henty\, 41 Lyne St\, Henty\, NSW\, 2658\, Australia
CATEGORIES:Worship
ATTACH;FMTTYPE=image/jpeg:https://henty.lutheran.org.au/wp-content/uploads/2018/11/DSCN4965-e1547603409710.jpg
GEO:-35.5179779;147.0294185
X-APPLE-STRUCTURED-LOCATION;VALUE=URI;X-ADDRESS=St Paul’s Henty 41 Lyne St Henty NSW 2658 Australia;X-APPLE-RADIUS=500;X-TITLE=41 Lyne St:geo:147.0294185,-35.5179779
END:VEVENT
BEGIN:VEVENT
DTSTART;TZID=Australia/Sydney:20240811T103000
DTEND;TZID=Australia/Sydney:20240811T113000
DTSTAMP:20260420T051020
CREATED:20220213T022451Z
LAST-MODIFIED:20220213T095801Z
UID:10000038-1723372200-1723375800@henty.lutheran.org.au
SUMMARY:Worship Service
DESCRIPTION:
URL:https://henty.lutheran.org.au/event/worship-service-2/2024-08-11/
LOCATION:St Paul’s Henty\, 41 Lyne St\, Henty\, NSW\, 2658\, Australia
CATEGORIES:Worship
ATTACH;FMTTYPE=image/jpeg:https://henty.lutheran.org.au/wp-content/uploads/2018/11/DSCN4965-e1547603409710.jpg
GEO:-35.5179779;147.0294185
X-APPLE-STRUCTURED-LOCATION;VALUE=URI;X-ADDRESS=St Paul’s Henty 41 Lyne St Henty NSW 2658 Australia;X-APPLE-RADIUS=500;X-TITLE=41 Lyne St:geo:147.0294185,-35.5179779
END:VEVENT
BEGIN:VEVENT
DTSTART;TZID=Australia/Sydney:20240804T090000
DTEND;TZID=Australia/Sydney:20240804T100000
DTSTAMP:20260420T051020
CREATED:20220213T022302Z
LAST-MODIFIED:20220213T095538Z
UID:10000145-1722762000-1722765600@henty.lutheran.org.au
SUMMARY:Worship Service
DESCRIPTION:Join us for a cuppa after the service!
URL:https://henty.lutheran.org.au/event/worship-service/2024-08-04/
LOCATION:St Paul’s Henty\, 41 Lyne St\, Henty\, NSW\, 2658\, Australia
CATEGORIES:Worship
ATTACH;FMTTYPE=image/jpeg:https://henty.lutheran.org.au/wp-content/uploads/2018/11/DSCN4965-e1547603409710.jpg
GEO:-35.5179779;147.0294185
X-APPLE-STRUCTURED-LOCATION;VALUE=URI;X-ADDRESS=St Paul’s Henty 41 Lyne St Henty NSW 2658 Australia;X-APPLE-RADIUS=500;X-TITLE=41 Lyne St:geo:147.0294185,-35.5179779
END:VEVENT
BEGIN:VEVENT
DTSTART;TZID=Australia/Sydney:20240728T103000
DTEND;TZID=Australia/Sydney:20240728T113000
DTSTAMP:20260420T051020
CREATED:20250728T140817Z
LAST-MODIFIED:20250728T140817Z
UID:10000090-1722162600-1722166200@henty.lutheran.org.au
SUMMARY:Worship Service
DESCRIPTION:
URL:https://henty.lutheran.org.au/event/worship-service-2/2024-07-28/
LOCATION:St Paul’s Henty\, 41 Lyne St\, Henty\, NSW\, 2658\, Australia
CATEGORIES:Worship
ATTACH;FMTTYPE=image/jpeg:https://henty.lutheran.org.au/wp-content/uploads/2018/11/DSCN4965-e1547603409710.jpg
GEO:-35.5179779;147.0294185
X-APPLE-STRUCTURED-LOCATION;VALUE=URI;X-ADDRESS=St Paul’s Henty 41 Lyne St Henty NSW 2658 Australia;X-APPLE-RADIUS=500;X-TITLE=41 Lyne St:geo:147.0294185,-35.5179779
END:VEVENT
BEGIN:VEVENT
DTSTART;TZID=Australia/Sydney:20240721T090000
DTEND;TZID=Australia/Sydney:20240721T100000
DTSTAMP:20260420T051020
CREATED:20250728T140817Z
LAST-MODIFIED:20250728T140817Z
UID:10000197-1721552400-1721556000@henty.lutheran.org.au
SUMMARY:Worship Service
DESCRIPTION:Join us for a cuppa after the service!
URL:https://henty.lutheran.org.au/event/worship-service/2024-07-21/
LOCATION:St Paul’s Henty\, 41 Lyne St\, Henty\, NSW\, 2658\, Australia
CATEGORIES:Worship
ATTACH;FMTTYPE=image/jpeg:https://henty.lutheran.org.au/wp-content/uploads/2018/11/DSCN4965-e1547603409710.jpg
GEO:-35.5179779;147.0294185
X-APPLE-STRUCTURED-LOCATION;VALUE=URI;X-ADDRESS=St Paul’s Henty 41 Lyne St Henty NSW 2658 Australia;X-APPLE-RADIUS=500;X-TITLE=41 Lyne St:geo:147.0294185,-35.5179779
END:VEVENT
BEGIN:VEVENT
DTSTART;TZID=Australia/Sydney:20240714T103000
DTEND;TZID=Australia/Sydney:20240714T113000
DTSTAMP:20260420T051020
CREATED:20220213T022451Z
LAST-MODIFIED:20220213T095801Z
UID:10000037-1720953000-1720956600@henty.lutheran.org.au
SUMMARY:Worship Service
DESCRIPTION:
URL:https://henty.lutheran.org.au/event/worship-service-2/2024-07-14/
LOCATION:St Paul’s Henty\, 41 Lyne St\, Henty\, NSW\, 2658\, Australia
CATEGORIES:Worship
ATTACH;FMTTYPE=image/jpeg:https://henty.lutheran.org.au/wp-content/uploads/2018/11/DSCN4965-e1547603409710.jpg
GEO:-35.5179779;147.0294185
X-APPLE-STRUCTURED-LOCATION;VALUE=URI;X-ADDRESS=St Paul’s Henty 41 Lyne St Henty NSW 2658 Australia;X-APPLE-RADIUS=500;X-TITLE=41 Lyne St:geo:147.0294185,-35.5179779
END:VEVENT
BEGIN:VEVENT
DTSTART;TZID=Australia/Sydney:20240707T090000
DTEND;TZID=Australia/Sydney:20240707T100000
DTSTAMP:20260420T051020
CREATED:20220213T022302Z
LAST-MODIFIED:20220213T095538Z
UID:10000144-1720342800-1720346400@henty.lutheran.org.au
SUMMARY:Worship Service
DESCRIPTION:Join us for a cuppa after the service!
URL:https://henty.lutheran.org.au/event/worship-service/2024-07-07/
LOCATION:St Paul’s Henty\, 41 Lyne St\, Henty\, NSW\, 2658\, Australia
CATEGORIES:Worship
ATTACH;FMTTYPE=image/jpeg:https://henty.lutheran.org.au/wp-content/uploads/2018/11/DSCN4965-e1547603409710.jpg
GEO:-35.5179779;147.0294185
X-APPLE-STRUCTURED-LOCATION;VALUE=URI;X-ADDRESS=St Paul’s Henty 41 Lyne St Henty NSW 2658 Australia;X-APPLE-RADIUS=500;X-TITLE=41 Lyne St:geo:147.0294185,-35.5179779
END:VEVENT
BEGIN:VEVENT
DTSTART;TZID=Australia/Sydney:20240623T103000
DTEND;TZID=Australia/Sydney:20240623T113000
DTSTAMP:20260420T051020
CREATED:20250728T140817Z
LAST-MODIFIED:20250728T140817Z
UID:10000089-1719138600-1719142200@henty.lutheran.org.au
SUMMARY:Worship Service
DESCRIPTION:
URL:https://henty.lutheran.org.au/event/worship-service-2/2024-06-23/
LOCATION:St Paul’s Henty\, 41 Lyne St\, Henty\, NSW\, 2658\, Australia
CATEGORIES:Worship
ATTACH;FMTTYPE=image/jpeg:https://henty.lutheran.org.au/wp-content/uploads/2018/11/DSCN4965-e1547603409710.jpg
GEO:-35.5179779;147.0294185
X-APPLE-STRUCTURED-LOCATION;VALUE=URI;X-ADDRESS=St Paul’s Henty 41 Lyne St Henty NSW 2658 Australia;X-APPLE-RADIUS=500;X-TITLE=41 Lyne St:geo:147.0294185,-35.5179779
END:VEVENT
BEGIN:VEVENT
DTSTART;TZID=Australia/Sydney:20240616T090000
DTEND;TZID=Australia/Sydney:20240616T100000
DTSTAMP:20260420T051020
CREATED:20250728T140817Z
LAST-MODIFIED:20250728T140817Z
UID:10000196-1718528400-1718532000@henty.lutheran.org.au
SUMMARY:Worship Service
DESCRIPTION:Join us for a cuppa after the service!
URL:https://henty.lutheran.org.au/event/worship-service/2024-06-16/
LOCATION:St Paul’s Henty\, 41 Lyne St\, Henty\, NSW\, 2658\, Australia
CATEGORIES:Worship
ATTACH;FMTTYPE=image/jpeg:https://henty.lutheran.org.au/wp-content/uploads/2018/11/DSCN4965-e1547603409710.jpg
GEO:-35.5179779;147.0294185
X-APPLE-STRUCTURED-LOCATION;VALUE=URI;X-ADDRESS=St Paul’s Henty 41 Lyne St Henty NSW 2658 Australia;X-APPLE-RADIUS=500;X-TITLE=41 Lyne St:geo:147.0294185,-35.5179779
END:VEVENT
BEGIN:VEVENT
DTSTART;TZID=Australia/Sydney:20240609T103000
DTEND;TZID=Australia/Sydney:20240609T113000
DTSTAMP:20260420T051020
CREATED:20220213T022451Z
LAST-MODIFIED:20220213T095801Z
UID:10000036-1717929000-1717932600@henty.lutheran.org.au
SUMMARY:Worship Service
DESCRIPTION:
URL:https://henty.lutheran.org.au/event/worship-service-2/2024-06-09/
LOCATION:St Paul’s Henty\, 41 Lyne St\, Henty\, NSW\, 2658\, Australia
CATEGORIES:Worship
ATTACH;FMTTYPE=image/jpeg:https://henty.lutheran.org.au/wp-content/uploads/2018/11/DSCN4965-e1547603409710.jpg
GEO:-35.5179779;147.0294185
X-APPLE-STRUCTURED-LOCATION;VALUE=URI;X-ADDRESS=St Paul’s Henty 41 Lyne St Henty NSW 2658 Australia;X-APPLE-RADIUS=500;X-TITLE=41 Lyne St:geo:147.0294185,-35.5179779
END:VEVENT
BEGIN:VEVENT
DTSTART;TZID=Australia/Sydney:20240602T090000
DTEND;TZID=Australia/Sydney:20240602T100000
DTSTAMP:20260420T051020
CREATED:20220213T022302Z
LAST-MODIFIED:20220213T095538Z
UID:10000143-1717318800-1717322400@henty.lutheran.org.au
SUMMARY:Worship Service
DESCRIPTION:Join us for a cuppa after the service!
URL:https://henty.lutheran.org.au/event/worship-service/2024-06-02/
LOCATION:St Paul’s Henty\, 41 Lyne St\, Henty\, NSW\, 2658\, Australia
CATEGORIES:Worship
ATTACH;FMTTYPE=image/jpeg:https://henty.lutheran.org.au/wp-content/uploads/2018/11/DSCN4965-e1547603409710.jpg
GEO:-35.5179779;147.0294185
X-APPLE-STRUCTURED-LOCATION;VALUE=URI;X-ADDRESS=St Paul’s Henty 41 Lyne St Henty NSW 2658 Australia;X-APPLE-RADIUS=500;X-TITLE=41 Lyne St:geo:147.0294185,-35.5179779
END:VEVENT
BEGIN:VEVENT
DTSTART;TZID=Australia/Sydney:20240526T103000
DTEND;TZID=Australia/Sydney:20240526T113000
DTSTAMP:20260420T051020
CREATED:20250728T140817Z
LAST-MODIFIED:20250728T140817Z
UID:10000088-1716719400-1716723000@henty.lutheran.org.au
SUMMARY:Worship Service
DESCRIPTION:
URL:https://henty.lutheran.org.au/event/worship-service-2/2024-05-26/
LOCATION:St Paul’s Henty\, 41 Lyne St\, Henty\, NSW\, 2658\, Australia
CATEGORIES:Worship
ATTACH;FMTTYPE=image/jpeg:https://henty.lutheran.org.au/wp-content/uploads/2018/11/DSCN4965-e1547603409710.jpg
GEO:-35.5179779;147.0294185
X-APPLE-STRUCTURED-LOCATION;VALUE=URI;X-ADDRESS=St Paul’s Henty 41 Lyne St Henty NSW 2658 Australia;X-APPLE-RADIUS=500;X-TITLE=41 Lyne St:geo:147.0294185,-35.5179779
END:VEVENT
BEGIN:VEVENT
DTSTART;TZID=Australia/Sydney:20240519T090000
DTEND;TZID=Australia/Sydney:20240519T100000
DTSTAMP:20260420T051020
CREATED:20250728T140817Z
LAST-MODIFIED:20250728T140817Z
UID:10000195-1716109200-1716112800@henty.lutheran.org.au
SUMMARY:Worship Service
DESCRIPTION:Join us for a cuppa after the service!
URL:https://henty.lutheran.org.au/event/worship-service/2024-05-19/
LOCATION:St Paul’s Henty\, 41 Lyne St\, Henty\, NSW\, 2658\, Australia
CATEGORIES:Worship
ATTACH;FMTTYPE=image/jpeg:https://henty.lutheran.org.au/wp-content/uploads/2018/11/DSCN4965-e1547603409710.jpg
GEO:-35.5179779;147.0294185
X-APPLE-STRUCTURED-LOCATION;VALUE=URI;X-ADDRESS=St Paul’s Henty 41 Lyne St Henty NSW 2658 Australia;X-APPLE-RADIUS=500;X-TITLE=41 Lyne St:geo:147.0294185,-35.5179779
END:VEVENT
BEGIN:VEVENT
DTSTART;TZID=Australia/Sydney:20240512T103000
DTEND;TZID=Australia/Sydney:20240512T113000
DTSTAMP:20260420T051020
CREATED:20220213T022451Z
LAST-MODIFIED:20220213T095801Z
UID:10000035-1715509800-1715513400@henty.lutheran.org.au
SUMMARY:Worship Service
DESCRIPTION:
URL:https://henty.lutheran.org.au/event/worship-service-2/2024-05-12/
LOCATION:St Paul’s Henty\, 41 Lyne St\, Henty\, NSW\, 2658\, Australia
CATEGORIES:Worship
ATTACH;FMTTYPE=image/jpeg:https://henty.lutheran.org.au/wp-content/uploads/2018/11/DSCN4965-e1547603409710.jpg
GEO:-35.5179779;147.0294185
X-APPLE-STRUCTURED-LOCATION;VALUE=URI;X-ADDRESS=St Paul’s Henty 41 Lyne St Henty NSW 2658 Australia;X-APPLE-RADIUS=500;X-TITLE=41 Lyne St:geo:147.0294185,-35.5179779
END:VEVENT
BEGIN:VEVENT
DTSTART;TZID=Australia/Sydney:20240505T090000
DTEND;TZID=Australia/Sydney:20240505T100000
DTSTAMP:20260420T051020
CREATED:20220213T022302Z
LAST-MODIFIED:20220213T095538Z
UID:10000142-1714899600-1714903200@henty.lutheran.org.au
SUMMARY:Worship Service
DESCRIPTION:Join us for a cuppa after the service!
URL:https://henty.lutheran.org.au/event/worship-service/2024-05-05/
LOCATION:St Paul’s Henty\, 41 Lyne St\, Henty\, NSW\, 2658\, Australia
CATEGORIES:Worship
ATTACH;FMTTYPE=image/jpeg:https://henty.lutheran.org.au/wp-content/uploads/2018/11/DSCN4965-e1547603409710.jpg
GEO:-35.5179779;147.0294185
X-APPLE-STRUCTURED-LOCATION;VALUE=URI;X-ADDRESS=St Paul’s Henty 41 Lyne St Henty NSW 2658 Australia;X-APPLE-RADIUS=500;X-TITLE=41 Lyne St:geo:147.0294185,-35.5179779
END:VEVENT
BEGIN:VEVENT
DTSTART;TZID=Australia/Sydney:20240428T103000
DTEND;TZID=Australia/Sydney:20240428T113000
DTSTAMP:20260420T051020
CREATED:20250728T140817Z
LAST-MODIFIED:20250728T140817Z
UID:10000087-1714300200-1714303800@henty.lutheran.org.au
SUMMARY:Worship Service
DESCRIPTION:
URL:https://henty.lutheran.org.au/event/worship-service-2/2024-04-28/
LOCATION:St Paul’s Henty\, 41 Lyne St\, Henty\, NSW\, 2658\, Australia
CATEGORIES:Worship
ATTACH;FMTTYPE=image/jpeg:https://henty.lutheran.org.au/wp-content/uploads/2018/11/DSCN4965-e1547603409710.jpg
GEO:-35.5179779;147.0294185
X-APPLE-STRUCTURED-LOCATION;VALUE=URI;X-ADDRESS=St Paul’s Henty 41 Lyne St Henty NSW 2658 Australia;X-APPLE-RADIUS=500;X-TITLE=41 Lyne St:geo:147.0294185,-35.5179779
END:VEVENT
BEGIN:VEVENT
DTSTART;TZID=Australia/Sydney:20240421T090000
DTEND;TZID=Australia/Sydney:20240421T100000
DTSTAMP:20260420T051020
CREATED:20250728T140817Z
LAST-MODIFIED:20250728T140817Z
UID:10000194-1713690000-1713693600@henty.lutheran.org.au
SUMMARY:Worship Service
DESCRIPTION:Join us for a cuppa after the service!
URL:https://henty.lutheran.org.au/event/worship-service/2024-04-21/
LOCATION:St Paul’s Henty\, 41 Lyne St\, Henty\, NSW\, 2658\, Australia
CATEGORIES:Worship
ATTACH;FMTTYPE=image/jpeg:https://henty.lutheran.org.au/wp-content/uploads/2018/11/DSCN4965-e1547603409710.jpg
GEO:-35.5179779;147.0294185
X-APPLE-STRUCTURED-LOCATION;VALUE=URI;X-ADDRESS=St Paul’s Henty 41 Lyne St Henty NSW 2658 Australia;X-APPLE-RADIUS=500;X-TITLE=41 Lyne St:geo:147.0294185,-35.5179779
END:VEVENT
BEGIN:VEVENT
DTSTART;TZID=Australia/Sydney:20240414T103000
DTEND;TZID=Australia/Sydney:20240414T113000
DTSTAMP:20260420T051020
CREATED:20220213T022451Z
LAST-MODIFIED:20220213T095801Z
UID:10000034-1713090600-1713094200@henty.lutheran.org.au
SUMMARY:Worship Service
DESCRIPTION:
URL:https://henty.lutheran.org.au/event/worship-service-2/2024-04-14/
LOCATION:St Paul’s Henty\, 41 Lyne St\, Henty\, NSW\, 2658\, Australia
CATEGORIES:Worship
ATTACH;FMTTYPE=image/jpeg:https://henty.lutheran.org.au/wp-content/uploads/2018/11/DSCN4965-e1547603409710.jpg
GEO:-35.5179779;147.0294185
X-APPLE-STRUCTURED-LOCATION;VALUE=URI;X-ADDRESS=St Paul’s Henty 41 Lyne St Henty NSW 2658 Australia;X-APPLE-RADIUS=500;X-TITLE=41 Lyne St:geo:147.0294185,-35.5179779
END:VEVENT
BEGIN:VEVENT
DTSTART;TZID=Australia/Sydney:20240407T090000
DTEND;TZID=Australia/Sydney:20240407T100000
DTSTAMP:20260420T051020
CREATED:20220213T022302Z
LAST-MODIFIED:20220213T095538Z
UID:10000141-1712480400-1712484000@henty.lutheran.org.au
SUMMARY:Worship Service
DESCRIPTION:Join us for a cuppa after the service!
URL:https://henty.lutheran.org.au/event/worship-service/2024-04-07/
LOCATION:St Paul’s Henty\, 41 Lyne St\, Henty\, NSW\, 2658\, Australia
CATEGORIES:Worship
ATTACH;FMTTYPE=image/jpeg:https://henty.lutheran.org.au/wp-content/uploads/2018/11/DSCN4965-e1547603409710.jpg
GEO:-35.5179779;147.0294185
X-APPLE-STRUCTURED-LOCATION;VALUE=URI;X-ADDRESS=St Paul’s Henty 41 Lyne St Henty NSW 2658 Australia;X-APPLE-RADIUS=500;X-TITLE=41 Lyne St:geo:147.0294185,-35.5179779
END:VEVENT
END:VCALENDAR