BEGIN:VCALENDAR
VERSION:2.0
PRODID:-//St Paul&#039;s Lutheran Church, Henty NSW - ECPv6.15.14//NONSGML v1.0//EN
CALSCALE:GREGORIAN
METHOD:PUBLISH
X-WR-CALNAME:St Paul&#039;s Lutheran Church, Henty NSW
X-ORIGINAL-URL:https://henty.lutheran.org.au
X-WR-CALDESC:Events for St Paul&#039;s Lutheran Church, Henty NSW
REFRESH-INTERVAL;VALUE=DURATION:PT1H
X-Robots-Tag:noindex
X-PUBLISHED-TTL:PT1H
BEGIN:VTIMEZONE
TZID:Australia/Sydney
BEGIN:STANDARD
TZOFFSETFROM:+1100
TZOFFSETTO:+1000
TZNAME:AEST
DTSTART:20210403T160000
END:STANDARD
BEGIN:DAYLIGHT
TZOFFSETFROM:+1000
TZOFFSETTO:+1100
TZNAME:AEDT
DTSTART:20211002T160000
END:DAYLIGHT
BEGIN:STANDARD
TZOFFSETFROM:+1100
TZOFFSETTO:+1000
TZNAME:AEST
DTSTART:20220402T160000
END:STANDARD
BEGIN:DAYLIGHT
TZOFFSETFROM:+1000
TZOFFSETTO:+1100
TZNAME:AEDT
DTSTART:20221001T160000
END:DAYLIGHT
BEGIN:STANDARD
TZOFFSETFROM:+1100
TZOFFSETTO:+1000
TZNAME:AEST
DTSTART:20230401T160000
END:STANDARD
BEGIN:DAYLIGHT
TZOFFSETFROM:+1000
TZOFFSETTO:+1100
TZNAME:AEDT
DTSTART:20230930T160000
END:DAYLIGHT
END:VTIMEZONE
BEGIN:VEVENT
DTSTART;TZID=Australia/Sydney:20220522T103000
DTEND;TZID=Australia/Sydney:20220522T113000
DTSTAMP:20260420T235321
CREATED:20250728T140817Z
LAST-MODIFIED:20250728T140817Z
UID:10000065-1653215400-1653219000@henty.lutheran.org.au
SUMMARY:Worship Service
DESCRIPTION:
URL:https://henty.lutheran.org.au/event/worship-service-2/2022-05-22/
LOCATION:St Paul’s Henty\, 41 Lyne St\, Henty\, NSW\, 2658\, Australia
CATEGORIES:Worship
ATTACH;FMTTYPE=image/jpeg:https://henty.lutheran.org.au/wp-content/uploads/2018/11/DSCN4965-e1547603409710.jpg
GEO:-35.5179779;147.0294185
X-APPLE-STRUCTURED-LOCATION;VALUE=URI;X-ADDRESS=St Paul’s Henty 41 Lyne St Henty NSW 2658 Australia;X-APPLE-RADIUS=500;X-TITLE=41 Lyne St:geo:147.0294185,-35.5179779
END:VEVENT
BEGIN:VEVENT
DTSTART;TZID=Australia/Sydney:20220515T090000
DTEND;TZID=Australia/Sydney:20220515T100000
DTSTAMP:20260420T235321
CREATED:20250728T140817Z
LAST-MODIFIED:20250728T140817Z
UID:10000171-1652605200-1652608800@henty.lutheran.org.au
SUMMARY:Worship Service
DESCRIPTION:Join us for a cuppa after the service!
URL:https://henty.lutheran.org.au/event/worship-service/2022-05-15/
LOCATION:St Paul’s Henty\, 41 Lyne St\, Henty\, NSW\, 2658\, Australia
CATEGORIES:Worship
ATTACH;FMTTYPE=image/jpeg:https://henty.lutheran.org.au/wp-content/uploads/2018/11/DSCN4965-e1547603409710.jpg
GEO:-35.5179779;147.0294185
X-APPLE-STRUCTURED-LOCATION;VALUE=URI;X-ADDRESS=St Paul’s Henty 41 Lyne St Henty NSW 2658 Australia;X-APPLE-RADIUS=500;X-TITLE=41 Lyne St:geo:147.0294185,-35.5179779
END:VEVENT
BEGIN:VEVENT
DTSTART;TZID=Australia/Sydney:20220508T103000
DTEND;TZID=Australia/Sydney:20220508T113000
DTSTAMP:20260420T235321
CREATED:20220213T022451Z
LAST-MODIFIED:20220213T095801Z
UID:10000011-1652005800-1652009400@henty.lutheran.org.au
SUMMARY:Worship Service
DESCRIPTION:
URL:https://henty.lutheran.org.au/event/worship-service-2/2022-05-08/
LOCATION:St Paul’s Henty\, 41 Lyne St\, Henty\, NSW\, 2658\, Australia
CATEGORIES:Worship
ATTACH;FMTTYPE=image/jpeg:https://henty.lutheran.org.au/wp-content/uploads/2018/11/DSCN4965-e1547603409710.jpg
GEO:-35.5179779;147.0294185
X-APPLE-STRUCTURED-LOCATION;VALUE=URI;X-ADDRESS=St Paul’s Henty 41 Lyne St Henty NSW 2658 Australia;X-APPLE-RADIUS=500;X-TITLE=41 Lyne St:geo:147.0294185,-35.5179779
END:VEVENT
BEGIN:VEVENT
DTSTART;TZID=Australia/Sydney:20220501T090000
DTEND;TZID=Australia/Sydney:20220501T100000
DTSTAMP:20260420T235321
CREATED:20220213T022302Z
LAST-MODIFIED:20220213T095538Z
UID:10000118-1651395600-1651399200@henty.lutheran.org.au
SUMMARY:Worship Service
DESCRIPTION:Join us for a cuppa after the service!
URL:https://henty.lutheran.org.au/event/worship-service/2022-05-01/
LOCATION:St Paul’s Henty\, 41 Lyne St\, Henty\, NSW\, 2658\, Australia
CATEGORIES:Worship
ATTACH;FMTTYPE=image/jpeg:https://henty.lutheran.org.au/wp-content/uploads/2018/11/DSCN4965-e1547603409710.jpg
GEO:-35.5179779;147.0294185
X-APPLE-STRUCTURED-LOCATION;VALUE=URI;X-ADDRESS=St Paul’s Henty 41 Lyne St Henty NSW 2658 Australia;X-APPLE-RADIUS=500;X-TITLE=41 Lyne St:geo:147.0294185,-35.5179779
END:VEVENT
BEGIN:VEVENT
DTSTART;TZID=Australia/Sydney:20220424T103000
DTEND;TZID=Australia/Sydney:20220424T113000
DTSTAMP:20260420T235321
CREATED:20250728T140817Z
LAST-MODIFIED:20250728T140817Z
UID:10000064-1650796200-1650799800@henty.lutheran.org.au
SUMMARY:Worship Service
DESCRIPTION:
URL:https://henty.lutheran.org.au/event/worship-service-2/2022-04-24/
LOCATION:St Paul’s Henty\, 41 Lyne St\, Henty\, NSW\, 2658\, Australia
CATEGORIES:Worship
ATTACH;FMTTYPE=image/jpeg:https://henty.lutheran.org.au/wp-content/uploads/2018/11/DSCN4965-e1547603409710.jpg
GEO:-35.5179779;147.0294185
X-APPLE-STRUCTURED-LOCATION;VALUE=URI;X-ADDRESS=St Paul’s Henty 41 Lyne St Henty NSW 2658 Australia;X-APPLE-RADIUS=500;X-TITLE=41 Lyne St:geo:147.0294185,-35.5179779
END:VEVENT
BEGIN:VEVENT
DTSTART;TZID=Australia/Sydney:20220417T083000
DTEND;TZID=Australia/Sydney:20220417T100000
DTSTAMP:20260420T235321
CREATED:20220213T025002Z
LAST-MODIFIED:20220213T025011Z
UID:10000003-1650184200-1650189600@henty.lutheran.org.au
SUMMARY:Easter Worship Service
DESCRIPTION:
URL:https://henty.lutheran.org.au/event/worship-service-2019-04-21/
LOCATION:St Paul’s Henty\, 41 Lyne St\, Henty\, NSW\, 2658\, Australia
CATEGORIES:Worship
ATTACH;FMTTYPE=image/jpeg:https://henty.lutheran.org.au/wp-content/uploads/2019/01/HeIsRisen.jpg
GEO:-35.5179779;147.0294185
X-APPLE-STRUCTURED-LOCATION;VALUE=URI;X-ADDRESS=St Paul’s Henty 41 Lyne St Henty NSW 2658 Australia;X-APPLE-RADIUS=500;X-TITLE=41 Lyne St:geo:147.0294185,-35.5179779
END:VEVENT
BEGIN:VEVENT
DTSTART;TZID=Australia/Sydney:20220415T093000
DTEND;TZID=Australia/Sydney:20220415T230000
DTSTAMP:20260420T235321
CREATED:20220213T024534Z
LAST-MODIFIED:20220213T094501Z
UID:10000004-1650015000-1650063600@henty.lutheran.org.au
SUMMARY:Worship - Good Friday
DESCRIPTION:
URL:https://henty.lutheran.org.au/event/worship-good-friday/
LOCATION:St Paul’s Henty\, 41 Lyne St\, Henty\, NSW\, 2658\, Australia
CATEGORIES:Worship
ATTACH;FMTTYPE=image/jpeg:https://henty.lutheran.org.au/wp-content/uploads/2019/01/cross-fs.jpg
GEO:-35.5179779;147.0294185
X-APPLE-STRUCTURED-LOCATION;VALUE=URI;X-ADDRESS=St Paul’s Henty 41 Lyne St Henty NSW 2658 Australia;X-APPLE-RADIUS=500;X-TITLE=41 Lyne St:geo:147.0294185,-35.5179779
END:VEVENT
BEGIN:VEVENT
DTSTART;TZID=Australia/Sydney:20220414T193000
DTEND;TZID=Australia/Sydney:20220414T210000
DTSTAMP:20260420T235321
CREATED:20220213T023350Z
LAST-MODIFIED:20220213T024512Z
UID:10000005-1649964600-1649970000@henty.lutheran.org.au
SUMMARY:Worship - Maundy Thursday
DESCRIPTION:
URL:https://henty.lutheran.org.au/event/worship-maundy-thursday/
LOCATION:St Paul’s Henty\, 41 Lyne St\, Henty\, NSW\, 2658\, Australia
CATEGORIES:Worship
GEO:-35.5179779;147.0294185
X-APPLE-STRUCTURED-LOCATION;VALUE=URI;X-ADDRESS=St Paul’s Henty 41 Lyne St Henty NSW 2658 Australia;X-APPLE-RADIUS=500;X-TITLE=41 Lyne St:geo:147.0294185,-35.5179779
END:VEVENT
BEGIN:VEVENT
DTSTART;TZID=Australia/Sydney:20220410T103000
DTEND;TZID=Australia/Sydney:20220410T113000
DTSTAMP:20260420T235321
CREATED:20220213T022451Z
LAST-MODIFIED:20220213T095801Z
UID:10000010-1649586600-1649590200@henty.lutheran.org.au
SUMMARY:Worship Service
DESCRIPTION:
URL:https://henty.lutheran.org.au/event/worship-service-2/2022-04-10/
LOCATION:St Paul’s Henty\, 41 Lyne St\, Henty\, NSW\, 2658\, Australia
CATEGORIES:Worship
ATTACH;FMTTYPE=image/jpeg:https://henty.lutheran.org.au/wp-content/uploads/2018/11/DSCN4965-e1547603409710.jpg
GEO:-35.5179779;147.0294185
X-APPLE-STRUCTURED-LOCATION;VALUE=URI;X-ADDRESS=St Paul’s Henty 41 Lyne St Henty NSW 2658 Australia;X-APPLE-RADIUS=500;X-TITLE=41 Lyne St:geo:147.0294185,-35.5179779
END:VEVENT
BEGIN:VEVENT
DTSTART;TZID=Australia/Sydney:20220403T090000
DTEND;TZID=Australia/Sydney:20220403T100000
DTSTAMP:20260420T235321
CREATED:20220213T022302Z
LAST-MODIFIED:20220213T095538Z
UID:10000117-1648976400-1648980000@henty.lutheran.org.au
SUMMARY:Worship Service
DESCRIPTION:Join us for a cuppa after the service!
URL:https://henty.lutheran.org.au/event/worship-service/2022-04-03/
LOCATION:St Paul’s Henty\, 41 Lyne St\, Henty\, NSW\, 2658\, Australia
CATEGORIES:Worship
ATTACH;FMTTYPE=image/jpeg:https://henty.lutheran.org.au/wp-content/uploads/2018/11/DSCN4965-e1547603409710.jpg
GEO:-35.5179779;147.0294185
X-APPLE-STRUCTURED-LOCATION;VALUE=URI;X-ADDRESS=St Paul’s Henty 41 Lyne St Henty NSW 2658 Australia;X-APPLE-RADIUS=500;X-TITLE=41 Lyne St:geo:147.0294185,-35.5179779
END:VEVENT
BEGIN:VEVENT
DTSTART;TZID=Australia/Sydney:20220330T193000
DTEND;TZID=Australia/Sydney:20220330T203000
DTSTAMP:20260420T235321
CREATED:20220213T022509Z
LAST-MODIFIED:20220213T101001Z
UID:10000224-1648668600-1648672200@henty.lutheran.org.au
SUMMARY:Lenten Devotion
DESCRIPTION:A mid-week evening devotion with Pastor during the season of Lent.
URL:https://henty.lutheran.org.au/event/lenten-devotion/2022-03-30/
LOCATION:St Paul’s Henty\, 41 Lyne St\, Henty\, NSW\, 2658\, Australia
GEO:-35.5179779;147.0294185
X-APPLE-STRUCTURED-LOCATION;VALUE=URI;X-ADDRESS=St Paul’s Henty 41 Lyne St Henty NSW 2658 Australia;X-APPLE-RADIUS=500;X-TITLE=41 Lyne St:geo:147.0294185,-35.5179779
END:VEVENT
BEGIN:VEVENT
DTSTART;TZID=Australia/Sydney:20220327T103000
DTEND;TZID=Australia/Sydney:20220327T113000
DTSTAMP:20260420T235321
CREATED:20250728T140817Z
LAST-MODIFIED:20250728T140817Z
UID:10000063-1648377000-1648380600@henty.lutheran.org.au
SUMMARY:Worship Service
DESCRIPTION:
URL:https://henty.lutheran.org.au/event/worship-service-2/2022-03-27/
LOCATION:St Paul’s Henty\, 41 Lyne St\, Henty\, NSW\, 2658\, Australia
CATEGORIES:Worship
ATTACH;FMTTYPE=image/jpeg:https://henty.lutheran.org.au/wp-content/uploads/2018/11/DSCN4965-e1547603409710.jpg
GEO:-35.5179779;147.0294185
X-APPLE-STRUCTURED-LOCATION;VALUE=URI;X-ADDRESS=St Paul’s Henty 41 Lyne St Henty NSW 2658 Australia;X-APPLE-RADIUS=500;X-TITLE=41 Lyne St:geo:147.0294185,-35.5179779
END:VEVENT
BEGIN:VEVENT
DTSTART;TZID=Australia/Sydney:20220320T090000
DTEND;TZID=Australia/Sydney:20220320T100000
DTSTAMP:20260420T235321
CREATED:20250728T140817Z
LAST-MODIFIED:20250728T140817Z
UID:10000170-1647766800-1647770400@henty.lutheran.org.au
SUMMARY:Worship Service
DESCRIPTION:Join us for a cuppa after the service!
URL:https://henty.lutheran.org.au/event/worship-service/2022-03-20/
LOCATION:St Paul’s Henty\, 41 Lyne St\, Henty\, NSW\, 2658\, Australia
CATEGORIES:Worship
ATTACH;FMTTYPE=image/jpeg:https://henty.lutheran.org.au/wp-content/uploads/2018/11/DSCN4965-e1547603409710.jpg
GEO:-35.5179779;147.0294185
X-APPLE-STRUCTURED-LOCATION;VALUE=URI;X-ADDRESS=St Paul’s Henty 41 Lyne St Henty NSW 2658 Australia;X-APPLE-RADIUS=500;X-TITLE=41 Lyne St:geo:147.0294185,-35.5179779
END:VEVENT
BEGIN:VEVENT
DTSTART;TZID=Australia/Sydney:20220316T193000
DTEND;TZID=Australia/Sydney:20220316T203000
DTSTAMP:20260420T235321
CREATED:20220213T022509Z
LAST-MODIFIED:20220213T101001Z
UID:10000223-1647459000-1647462600@henty.lutheran.org.au
SUMMARY:Lenten Devotion
DESCRIPTION:A mid-week evening devotion with Pastor during the season of Lent.
URL:https://henty.lutheran.org.au/event/lenten-devotion/2022-03-16/
LOCATION:St Paul’s Henty\, 41 Lyne St\, Henty\, NSW\, 2658\, Australia
GEO:-35.5179779;147.0294185
X-APPLE-STRUCTURED-LOCATION;VALUE=URI;X-ADDRESS=St Paul’s Henty 41 Lyne St Henty NSW 2658 Australia;X-APPLE-RADIUS=500;X-TITLE=41 Lyne St:geo:147.0294185,-35.5179779
END:VEVENT
BEGIN:VEVENT
DTSTART;TZID=Australia/Sydney:20220313T103000
DTEND;TZID=Australia/Sydney:20220313T113000
DTSTAMP:20260420T235321
CREATED:20220213T022451Z
LAST-MODIFIED:20220213T095801Z
UID:10000009-1647167400-1647171000@henty.lutheran.org.au
SUMMARY:Worship Service
DESCRIPTION:
URL:https://henty.lutheran.org.au/event/worship-service-2/2022-03-13/
LOCATION:St Paul’s Henty\, 41 Lyne St\, Henty\, NSW\, 2658\, Australia
CATEGORIES:Worship
ATTACH;FMTTYPE=image/jpeg:https://henty.lutheran.org.au/wp-content/uploads/2018/11/DSCN4965-e1547603409710.jpg
GEO:-35.5179779;147.0294185
X-APPLE-STRUCTURED-LOCATION;VALUE=URI;X-ADDRESS=St Paul’s Henty 41 Lyne St Henty NSW 2658 Australia;X-APPLE-RADIUS=500;X-TITLE=41 Lyne St:geo:147.0294185,-35.5179779
END:VEVENT
BEGIN:VEVENT
DTSTART;TZID=Australia/Sydney:20220306T090000
DTEND;TZID=Australia/Sydney:20220306T100000
DTSTAMP:20260420T235321
CREATED:20220213T022302Z
LAST-MODIFIED:20220213T095538Z
UID:10000116-1646557200-1646560800@henty.lutheran.org.au
SUMMARY:Worship Service
DESCRIPTION:Join us for a cuppa after the service!
URL:https://henty.lutheran.org.au/event/worship-service/2022-03-06/
LOCATION:St Paul’s Henty\, 41 Lyne St\, Henty\, NSW\, 2658\, Australia
CATEGORIES:Worship
ATTACH;FMTTYPE=image/jpeg:https://henty.lutheran.org.au/wp-content/uploads/2018/11/DSCN4965-e1547603409710.jpg
GEO:-35.5179779;147.0294185
X-APPLE-STRUCTURED-LOCATION;VALUE=URI;X-ADDRESS=St Paul’s Henty 41 Lyne St Henty NSW 2658 Australia;X-APPLE-RADIUS=500;X-TITLE=41 Lyne St:geo:147.0294185,-35.5179779
END:VEVENT
BEGIN:VEVENT
DTSTART;TZID=Australia/Sydney:20220302T193000
DTEND;TZID=Australia/Sydney:20220302T210000
DTSTAMP:20260420T235321
CREATED:20220213T023041Z
LAST-MODIFIED:20220213T024220Z
UID:10000006-1646249400-1646254800@henty.lutheran.org.au
SUMMARY:Worship service - Ash Wednesday
DESCRIPTION:
URL:https://henty.lutheran.org.au/event/worship-service-ash-wednesday/
LOCATION:St Paul’s Henty\, 41 Lyne St\, Henty\, NSW\, 2658\, Australia
ATTACH;FMTTYPE=image/jpeg:https://henty.lutheran.org.au/wp-content/uploads/2019/01/AshWednesday.jpg
GEO:-35.5179779;147.0294185
X-APPLE-STRUCTURED-LOCATION;VALUE=URI;X-ADDRESS=St Paul’s Henty 41 Lyne St Henty NSW 2658 Australia;X-APPLE-RADIUS=500;X-TITLE=41 Lyne St:geo:147.0294185,-35.5179779
END:VEVENT
BEGIN:VEVENT
DTSTART;TZID=Australia/Sydney:20220227T103000
DTEND;TZID=Australia/Sydney:20220227T113000
DTSTAMP:20260420T235321
CREATED:20250728T140817Z
LAST-MODIFIED:20250728T140817Z
UID:10000062-1645957800-1645961400@henty.lutheran.org.au
SUMMARY:Worship Service
DESCRIPTION:
URL:https://henty.lutheran.org.au/event/worship-service-2/2022-02-27/
LOCATION:St Paul’s Henty\, 41 Lyne St\, Henty\, NSW\, 2658\, Australia
CATEGORIES:Worship
ATTACH;FMTTYPE=image/jpeg:https://henty.lutheran.org.au/wp-content/uploads/2018/11/DSCN4965-e1547603409710.jpg
GEO:-35.5179779;147.0294185
X-APPLE-STRUCTURED-LOCATION;VALUE=URI;X-ADDRESS=St Paul’s Henty 41 Lyne St Henty NSW 2658 Australia;X-APPLE-RADIUS=500;X-TITLE=41 Lyne St:geo:147.0294185,-35.5179779
END:VEVENT
BEGIN:VEVENT
DTSTART;TZID=Australia/Sydney:20220220T090000
DTEND;TZID=Australia/Sydney:20220220T100000
DTSTAMP:20260420T235321
CREATED:20250728T140817Z
LAST-MODIFIED:20250728T140817Z
UID:10000169-1645347600-1645351200@henty.lutheran.org.au
SUMMARY:Worship Service
DESCRIPTION:Join us for a cuppa after the service!
URL:https://henty.lutheran.org.au/event/worship-service/2022-02-20/
LOCATION:St Paul’s Henty\, 41 Lyne St\, Henty\, NSW\, 2658\, Australia
CATEGORIES:Worship
ATTACH;FMTTYPE=image/jpeg:https://henty.lutheran.org.au/wp-content/uploads/2018/11/DSCN4965-e1547603409710.jpg
GEO:-35.5179779;147.0294185
X-APPLE-STRUCTURED-LOCATION;VALUE=URI;X-ADDRESS=St Paul’s Henty 41 Lyne St Henty NSW 2658 Australia;X-APPLE-RADIUS=500;X-TITLE=41 Lyne St:geo:147.0294185,-35.5179779
END:VEVENT
BEGIN:VEVENT
DTSTART;TZID=Australia/Sydney:20220213T103000
DTEND;TZID=Australia/Sydney:20220213T113000
DTSTAMP:20260420T235321
CREATED:20220213T022451Z
LAST-MODIFIED:20220213T095801Z
UID:10000008-1644748200-1644751800@henty.lutheran.org.au
SUMMARY:Worship Service
DESCRIPTION:
URL:https://henty.lutheran.org.au/event/worship-service-2/2022-02-13/
LOCATION:St Paul’s Henty\, 41 Lyne St\, Henty\, NSW\, 2658\, Australia
CATEGORIES:Worship
ATTACH;FMTTYPE=image/jpeg:https://henty.lutheran.org.au/wp-content/uploads/2018/11/DSCN4965-e1547603409710.jpg
GEO:-35.5179779;147.0294185
X-APPLE-STRUCTURED-LOCATION;VALUE=URI;X-ADDRESS=St Paul’s Henty 41 Lyne St Henty NSW 2658 Australia;X-APPLE-RADIUS=500;X-TITLE=41 Lyne St:geo:147.0294185,-35.5179779
END:VEVENT
BEGIN:VEVENT
DTSTART;TZID=Australia/Sydney:20220206T090000
DTEND;TZID=Australia/Sydney:20220206T100000
DTSTAMP:20260420T235321
CREATED:20220213T022302Z
LAST-MODIFIED:20220213T095538Z
UID:10000115-1644138000-1644141600@henty.lutheran.org.au
SUMMARY:Worship Service
DESCRIPTION:Join us for a cuppa after the service!
URL:https://henty.lutheran.org.au/event/worship-service/2022-02-06/
LOCATION:St Paul’s Henty\, 41 Lyne St\, Henty\, NSW\, 2658\, Australia
CATEGORIES:Worship
ATTACH;FMTTYPE=image/jpeg:https://henty.lutheran.org.au/wp-content/uploads/2018/11/DSCN4965-e1547603409710.jpg
GEO:-35.5179779;147.0294185
X-APPLE-STRUCTURED-LOCATION;VALUE=URI;X-ADDRESS=St Paul’s Henty 41 Lyne St Henty NSW 2658 Australia;X-APPLE-RADIUS=500;X-TITLE=41 Lyne St:geo:147.0294185,-35.5179779
END:VEVENT
END:VCALENDAR