BEGIN:VCALENDAR
VERSION:2.0
PRODID:-//St Paul&#039;s Lutheran Church, Henty NSW - ECPv6.15.14//NONSGML v1.0//EN
CALSCALE:GREGORIAN
METHOD:PUBLISH
X-WR-CALNAME:St Paul&#039;s Lutheran Church, Henty NSW
X-ORIGINAL-URL:https://henty.lutheran.org.au
X-WR-CALDESC:Events for St Paul&#039;s Lutheran Church, Henty NSW
REFRESH-INTERVAL;VALUE=DURATION:PT1H
X-Robots-Tag:noindex
X-PUBLISHED-TTL:PT1H
BEGIN:VTIMEZONE
TZID:Australia/Sydney
BEGIN:STANDARD
TZOFFSETFROM:+1100
TZOFFSETTO:+1000
TZNAME:AEST
DTSTART:20210403T160000
END:STANDARD
BEGIN:DAYLIGHT
TZOFFSETFROM:+1000
TZOFFSETTO:+1100
TZNAME:AEDT
DTSTART:20211002T160000
END:DAYLIGHT
BEGIN:STANDARD
TZOFFSETFROM:+1100
TZOFFSETTO:+1000
TZNAME:AEST
DTSTART:20220402T160000
END:STANDARD
BEGIN:DAYLIGHT
TZOFFSETFROM:+1000
TZOFFSETTO:+1100
TZNAME:AEDT
DTSTART:20221001T160000
END:DAYLIGHT
BEGIN:STANDARD
TZOFFSETFROM:+1100
TZOFFSETTO:+1000
TZNAME:AEST
DTSTART:20230401T160000
END:STANDARD
BEGIN:DAYLIGHT
TZOFFSETFROM:+1000
TZOFFSETTO:+1100
TZNAME:AEDT
DTSTART:20230930T160000
END:DAYLIGHT
END:VTIMEZONE
BEGIN:VEVENT
DTSTART;TZID=Australia/Sydney:20221023T103000
DTEND;TZID=Australia/Sydney:20221023T113000
DTSTAMP:20260420T205337
CREATED:20250728T140817Z
LAST-MODIFIED:20250728T140817Z
UID:10000070-1666521000-1666524600@henty.lutheran.org.au
SUMMARY:Worship Service
DESCRIPTION:
URL:https://henty.lutheran.org.au/event/worship-service-2/2022-10-23/
LOCATION:St Paul’s Henty\, 41 Lyne St\, Henty\, NSW\, 2658\, Australia
CATEGORIES:Worship
ATTACH;FMTTYPE=image/jpeg:https://henty.lutheran.org.au/wp-content/uploads/2018/11/DSCN4965-e1547603409710.jpg
GEO:-35.5179779;147.0294185
X-APPLE-STRUCTURED-LOCATION;VALUE=URI;X-ADDRESS=St Paul’s Henty 41 Lyne St Henty NSW 2658 Australia;X-APPLE-RADIUS=500;X-TITLE=41 Lyne St:geo:147.0294185,-35.5179779
END:VEVENT
BEGIN:VEVENT
DTSTART;TZID=Australia/Sydney:20221016T090000
DTEND;TZID=Australia/Sydney:20221016T100000
DTSTAMP:20260420T205337
CREATED:20250728T140817Z
LAST-MODIFIED:20250728T140817Z
UID:10000176-1665910800-1665914400@henty.lutheran.org.au
SUMMARY:Worship Service
DESCRIPTION:Join us for a cuppa after the service!
URL:https://henty.lutheran.org.au/event/worship-service/2022-10-16/
LOCATION:St Paul’s Henty\, 41 Lyne St\, Henty\, NSW\, 2658\, Australia
CATEGORIES:Worship
ATTACH;FMTTYPE=image/jpeg:https://henty.lutheran.org.au/wp-content/uploads/2018/11/DSCN4965-e1547603409710.jpg
GEO:-35.5179779;147.0294185
X-APPLE-STRUCTURED-LOCATION;VALUE=URI;X-ADDRESS=St Paul’s Henty 41 Lyne St Henty NSW 2658 Australia;X-APPLE-RADIUS=500;X-TITLE=41 Lyne St:geo:147.0294185,-35.5179779
END:VEVENT
BEGIN:VEVENT
DTSTART;TZID=Australia/Sydney:20221009T103000
DTEND;TZID=Australia/Sydney:20221009T113000
DTSTAMP:20260420T205337
CREATED:20220213T022451Z
LAST-MODIFIED:20220213T095801Z
UID:10000016-1665311400-1665315000@henty.lutheran.org.au
SUMMARY:Worship Service
DESCRIPTION:
URL:https://henty.lutheran.org.au/event/worship-service-2/2022-10-09/
LOCATION:St Paul’s Henty\, 41 Lyne St\, Henty\, NSW\, 2658\, Australia
CATEGORIES:Worship
ATTACH;FMTTYPE=image/jpeg:https://henty.lutheran.org.au/wp-content/uploads/2018/11/DSCN4965-e1547603409710.jpg
GEO:-35.5179779;147.0294185
X-APPLE-STRUCTURED-LOCATION;VALUE=URI;X-ADDRESS=St Paul’s Henty 41 Lyne St Henty NSW 2658 Australia;X-APPLE-RADIUS=500;X-TITLE=41 Lyne St:geo:147.0294185,-35.5179779
END:VEVENT
BEGIN:VEVENT
DTSTART;TZID=Australia/Sydney:20221002T090000
DTEND;TZID=Australia/Sydney:20221002T100000
DTSTAMP:20260420T205337
CREATED:20220213T022302Z
LAST-MODIFIED:20220213T095538Z
UID:10000123-1664701200-1664704800@henty.lutheran.org.au
SUMMARY:Worship Service
DESCRIPTION:Join us for a cuppa after the service!
URL:https://henty.lutheran.org.au/event/worship-service/2022-10-02/
LOCATION:St Paul’s Henty\, 41 Lyne St\, Henty\, NSW\, 2658\, Australia
CATEGORIES:Worship
ATTACH;FMTTYPE=image/jpeg:https://henty.lutheran.org.au/wp-content/uploads/2018/11/DSCN4965-e1547603409710.jpg
GEO:-35.5179779;147.0294185
X-APPLE-STRUCTURED-LOCATION;VALUE=URI;X-ADDRESS=St Paul’s Henty 41 Lyne St Henty NSW 2658 Australia;X-APPLE-RADIUS=500;X-TITLE=41 Lyne St:geo:147.0294185,-35.5179779
END:VEVENT
BEGIN:VEVENT
DTSTART;TZID=Australia/Sydney:20220925T103000
DTEND;TZID=Australia/Sydney:20220925T113000
DTSTAMP:20260420T205337
CREATED:20250728T140817Z
LAST-MODIFIED:20250728T140817Z
UID:10000069-1664101800-1664105400@henty.lutheran.org.au
SUMMARY:Worship Service
DESCRIPTION:
URL:https://henty.lutheran.org.au/event/worship-service-2/2022-09-25/
LOCATION:St Paul’s Henty\, 41 Lyne St\, Henty\, NSW\, 2658\, Australia
CATEGORIES:Worship
ATTACH;FMTTYPE=image/jpeg:https://henty.lutheran.org.au/wp-content/uploads/2018/11/DSCN4965-e1547603409710.jpg
GEO:-35.5179779;147.0294185
X-APPLE-STRUCTURED-LOCATION;VALUE=URI;X-ADDRESS=St Paul’s Henty 41 Lyne St Henty NSW 2658 Australia;X-APPLE-RADIUS=500;X-TITLE=41 Lyne St:geo:147.0294185,-35.5179779
END:VEVENT
BEGIN:VEVENT
DTSTART;TZID=Australia/Sydney:20220918T090000
DTEND;TZID=Australia/Sydney:20220918T100000
DTSTAMP:20260420T205337
CREATED:20250728T140817Z
LAST-MODIFIED:20250728T140817Z
UID:10000175-1663491600-1663495200@henty.lutheran.org.au
SUMMARY:Worship Service
DESCRIPTION:Join us for a cuppa after the service!
URL:https://henty.lutheran.org.au/event/worship-service/2022-09-18/
LOCATION:St Paul’s Henty\, 41 Lyne St\, Henty\, NSW\, 2658\, Australia
CATEGORIES:Worship
ATTACH;FMTTYPE=image/jpeg:https://henty.lutheran.org.au/wp-content/uploads/2018/11/DSCN4965-e1547603409710.jpg
GEO:-35.5179779;147.0294185
X-APPLE-STRUCTURED-LOCATION;VALUE=URI;X-ADDRESS=St Paul’s Henty 41 Lyne St Henty NSW 2658 Australia;X-APPLE-RADIUS=500;X-TITLE=41 Lyne St:geo:147.0294185,-35.5179779
END:VEVENT
BEGIN:VEVENT
DTSTART;TZID=Australia/Sydney:20220911T103000
DTEND;TZID=Australia/Sydney:20220911T113000
DTSTAMP:20260420T205337
CREATED:20220213T022451Z
LAST-MODIFIED:20220213T095801Z
UID:10000015-1662892200-1662895800@henty.lutheran.org.au
SUMMARY:Worship Service
DESCRIPTION:
URL:https://henty.lutheran.org.au/event/worship-service-2/2022-09-11/
LOCATION:St Paul’s Henty\, 41 Lyne St\, Henty\, NSW\, 2658\, Australia
CATEGORIES:Worship
ATTACH;FMTTYPE=image/jpeg:https://henty.lutheran.org.au/wp-content/uploads/2018/11/DSCN4965-e1547603409710.jpg
GEO:-35.5179779;147.0294185
X-APPLE-STRUCTURED-LOCATION;VALUE=URI;X-ADDRESS=St Paul’s Henty 41 Lyne St Henty NSW 2658 Australia;X-APPLE-RADIUS=500;X-TITLE=41 Lyne St:geo:147.0294185,-35.5179779
END:VEVENT
BEGIN:VEVENT
DTSTART;TZID=Australia/Sydney:20220904T090000
DTEND;TZID=Australia/Sydney:20220904T100000
DTSTAMP:20260420T205337
CREATED:20220213T022302Z
LAST-MODIFIED:20220213T095538Z
UID:10000122-1662282000-1662285600@henty.lutheran.org.au
SUMMARY:Worship Service
DESCRIPTION:Join us for a cuppa after the service!
URL:https://henty.lutheran.org.au/event/worship-service/2022-09-04/
LOCATION:St Paul’s Henty\, 41 Lyne St\, Henty\, NSW\, 2658\, Australia
CATEGORIES:Worship
ATTACH;FMTTYPE=image/jpeg:https://henty.lutheran.org.au/wp-content/uploads/2018/11/DSCN4965-e1547603409710.jpg
GEO:-35.5179779;147.0294185
X-APPLE-STRUCTURED-LOCATION;VALUE=URI;X-ADDRESS=St Paul’s Henty 41 Lyne St Henty NSW 2658 Australia;X-APPLE-RADIUS=500;X-TITLE=41 Lyne St:geo:147.0294185,-35.5179779
END:VEVENT
BEGIN:VEVENT
DTSTART;TZID=Australia/Sydney:20220828T103000
DTEND;TZID=Australia/Sydney:20220828T113000
DTSTAMP:20260420T205337
CREATED:20250728T140817Z
LAST-MODIFIED:20250728T140817Z
UID:10000068-1661682600-1661686200@henty.lutheran.org.au
SUMMARY:Worship Service
DESCRIPTION:
URL:https://henty.lutheran.org.au/event/worship-service-2/2022-08-28/
LOCATION:St Paul’s Henty\, 41 Lyne St\, Henty\, NSW\, 2658\, Australia
CATEGORIES:Worship
ATTACH;FMTTYPE=image/jpeg:https://henty.lutheran.org.au/wp-content/uploads/2018/11/DSCN4965-e1547603409710.jpg
GEO:-35.5179779;147.0294185
X-APPLE-STRUCTURED-LOCATION;VALUE=URI;X-ADDRESS=St Paul’s Henty 41 Lyne St Henty NSW 2658 Australia;X-APPLE-RADIUS=500;X-TITLE=41 Lyne St:geo:147.0294185,-35.5179779
END:VEVENT
BEGIN:VEVENT
DTSTART;TZID=Australia/Sydney:20220821T090000
DTEND;TZID=Australia/Sydney:20220821T100000
DTSTAMP:20260420T205337
CREATED:20250728T140817Z
LAST-MODIFIED:20250728T140817Z
UID:10000174-1661072400-1661076000@henty.lutheran.org.au
SUMMARY:Worship Service
DESCRIPTION:Join us for a cuppa after the service!
URL:https://henty.lutheran.org.au/event/worship-service/2022-08-21/
LOCATION:St Paul’s Henty\, 41 Lyne St\, Henty\, NSW\, 2658\, Australia
CATEGORIES:Worship
ATTACH;FMTTYPE=image/jpeg:https://henty.lutheran.org.au/wp-content/uploads/2018/11/DSCN4965-e1547603409710.jpg
GEO:-35.5179779;147.0294185
X-APPLE-STRUCTURED-LOCATION;VALUE=URI;X-ADDRESS=St Paul’s Henty 41 Lyne St Henty NSW 2658 Australia;X-APPLE-RADIUS=500;X-TITLE=41 Lyne St:geo:147.0294185,-35.5179779
END:VEVENT
BEGIN:VEVENT
DTSTART;TZID=Australia/Sydney:20220814T103000
DTEND;TZID=Australia/Sydney:20220814T113000
DTSTAMP:20260420T205337
CREATED:20220213T022451Z
LAST-MODIFIED:20220213T095801Z
UID:10000014-1660473000-1660476600@henty.lutheran.org.au
SUMMARY:Worship Service
DESCRIPTION:
URL:https://henty.lutheran.org.au/event/worship-service-2/2022-08-14/
LOCATION:St Paul’s Henty\, 41 Lyne St\, Henty\, NSW\, 2658\, Australia
CATEGORIES:Worship
ATTACH;FMTTYPE=image/jpeg:https://henty.lutheran.org.au/wp-content/uploads/2018/11/DSCN4965-e1547603409710.jpg
GEO:-35.5179779;147.0294185
X-APPLE-STRUCTURED-LOCATION;VALUE=URI;X-ADDRESS=St Paul’s Henty 41 Lyne St Henty NSW 2658 Australia;X-APPLE-RADIUS=500;X-TITLE=41 Lyne St:geo:147.0294185,-35.5179779
END:VEVENT
BEGIN:VEVENT
DTSTART;TZID=Australia/Sydney:20220807T090000
DTEND;TZID=Australia/Sydney:20220807T100000
DTSTAMP:20260420T205337
CREATED:20220213T022302Z
LAST-MODIFIED:20220213T095538Z
UID:10000121-1659862800-1659866400@henty.lutheran.org.au
SUMMARY:Worship Service
DESCRIPTION:Join us for a cuppa after the service!
URL:https://henty.lutheran.org.au/event/worship-service/2022-08-07/
LOCATION:St Paul’s Henty\, 41 Lyne St\, Henty\, NSW\, 2658\, Australia
CATEGORIES:Worship
ATTACH;FMTTYPE=image/jpeg:https://henty.lutheran.org.au/wp-content/uploads/2018/11/DSCN4965-e1547603409710.jpg
GEO:-35.5179779;147.0294185
X-APPLE-STRUCTURED-LOCATION;VALUE=URI;X-ADDRESS=St Paul’s Henty 41 Lyne St Henty NSW 2658 Australia;X-APPLE-RADIUS=500;X-TITLE=41 Lyne St:geo:147.0294185,-35.5179779
END:VEVENT
BEGIN:VEVENT
DTSTART;TZID=Australia/Sydney:20220724T103000
DTEND;TZID=Australia/Sydney:20220724T113000
DTSTAMP:20260420T205337
CREATED:20250728T140817Z
LAST-MODIFIED:20250728T140817Z
UID:10000067-1658658600-1658662200@henty.lutheran.org.au
SUMMARY:Worship Service
DESCRIPTION:
URL:https://henty.lutheran.org.au/event/worship-service-2/2022-07-24/
LOCATION:St Paul’s Henty\, 41 Lyne St\, Henty\, NSW\, 2658\, Australia
CATEGORIES:Worship
ATTACH;FMTTYPE=image/jpeg:https://henty.lutheran.org.au/wp-content/uploads/2018/11/DSCN4965-e1547603409710.jpg
GEO:-35.5179779;147.0294185
X-APPLE-STRUCTURED-LOCATION;VALUE=URI;X-ADDRESS=St Paul’s Henty 41 Lyne St Henty NSW 2658 Australia;X-APPLE-RADIUS=500;X-TITLE=41 Lyne St:geo:147.0294185,-35.5179779
END:VEVENT
BEGIN:VEVENT
DTSTART;TZID=Australia/Sydney:20220717T090000
DTEND;TZID=Australia/Sydney:20220717T100000
DTSTAMP:20260420T205337
CREATED:20250728T140817Z
LAST-MODIFIED:20250728T140817Z
UID:10000173-1658048400-1658052000@henty.lutheran.org.au
SUMMARY:Worship Service
DESCRIPTION:Join us for a cuppa after the service!
URL:https://henty.lutheran.org.au/event/worship-service/2022-07-17/
LOCATION:St Paul’s Henty\, 41 Lyne St\, Henty\, NSW\, 2658\, Australia
CATEGORIES:Worship
ATTACH;FMTTYPE=image/jpeg:https://henty.lutheran.org.au/wp-content/uploads/2018/11/DSCN4965-e1547603409710.jpg
GEO:-35.5179779;147.0294185
X-APPLE-STRUCTURED-LOCATION;VALUE=URI;X-ADDRESS=St Paul’s Henty 41 Lyne St Henty NSW 2658 Australia;X-APPLE-RADIUS=500;X-TITLE=41 Lyne St:geo:147.0294185,-35.5179779
END:VEVENT
BEGIN:VEVENT
DTSTART;TZID=Australia/Sydney:20220710T103000
DTEND;TZID=Australia/Sydney:20220710T113000
DTSTAMP:20260420T205337
CREATED:20220213T022451Z
LAST-MODIFIED:20220213T095801Z
UID:10000013-1657449000-1657452600@henty.lutheran.org.au
SUMMARY:Worship Service
DESCRIPTION:
URL:https://henty.lutheran.org.au/event/worship-service-2/2022-07-10/
LOCATION:St Paul’s Henty\, 41 Lyne St\, Henty\, NSW\, 2658\, Australia
CATEGORIES:Worship
ATTACH;FMTTYPE=image/jpeg:https://henty.lutheran.org.au/wp-content/uploads/2018/11/DSCN4965-e1547603409710.jpg
GEO:-35.5179779;147.0294185
X-APPLE-STRUCTURED-LOCATION;VALUE=URI;X-ADDRESS=St Paul’s Henty 41 Lyne St Henty NSW 2658 Australia;X-APPLE-RADIUS=500;X-TITLE=41 Lyne St:geo:147.0294185,-35.5179779
END:VEVENT
BEGIN:VEVENT
DTSTART;TZID=Australia/Sydney:20220703T090000
DTEND;TZID=Australia/Sydney:20220703T100000
DTSTAMP:20260420T205337
CREATED:20220213T022302Z
LAST-MODIFIED:20220213T095538Z
UID:10000120-1656838800-1656842400@henty.lutheran.org.au
SUMMARY:Worship Service
DESCRIPTION:Join us for a cuppa after the service!
URL:https://henty.lutheran.org.au/event/worship-service/2022-07-03/
LOCATION:St Paul’s Henty\, 41 Lyne St\, Henty\, NSW\, 2658\, Australia
CATEGORIES:Worship
ATTACH;FMTTYPE=image/jpeg:https://henty.lutheran.org.au/wp-content/uploads/2018/11/DSCN4965-e1547603409710.jpg
GEO:-35.5179779;147.0294185
X-APPLE-STRUCTURED-LOCATION;VALUE=URI;X-ADDRESS=St Paul’s Henty 41 Lyne St Henty NSW 2658 Australia;X-APPLE-RADIUS=500;X-TITLE=41 Lyne St:geo:147.0294185,-35.5179779
END:VEVENT
BEGIN:VEVENT
DTSTART;TZID=Australia/Sydney:20220626T103000
DTEND;TZID=Australia/Sydney:20220626T113000
DTSTAMP:20260420T205337
CREATED:20250728T140817Z
LAST-MODIFIED:20250728T140817Z
UID:10000066-1656239400-1656243000@henty.lutheran.org.au
SUMMARY:Worship Service
DESCRIPTION:
URL:https://henty.lutheran.org.au/event/worship-service-2/2022-06-26/
LOCATION:St Paul’s Henty\, 41 Lyne St\, Henty\, NSW\, 2658\, Australia
CATEGORIES:Worship
ATTACH;FMTTYPE=image/jpeg:https://henty.lutheran.org.au/wp-content/uploads/2018/11/DSCN4965-e1547603409710.jpg
GEO:-35.5179779;147.0294185
X-APPLE-STRUCTURED-LOCATION;VALUE=URI;X-ADDRESS=St Paul’s Henty 41 Lyne St Henty NSW 2658 Australia;X-APPLE-RADIUS=500;X-TITLE=41 Lyne St:geo:147.0294185,-35.5179779
END:VEVENT
BEGIN:VEVENT
DTSTART;TZID=Australia/Sydney:20220619T090000
DTEND;TZID=Australia/Sydney:20220619T100000
DTSTAMP:20260420T205337
CREATED:20250728T140817Z
LAST-MODIFIED:20250728T140817Z
UID:10000172-1655629200-1655632800@henty.lutheran.org.au
SUMMARY:Worship Service
DESCRIPTION:Join us for a cuppa after the service!
URL:https://henty.lutheran.org.au/event/worship-service/2022-06-19/
LOCATION:St Paul’s Henty\, 41 Lyne St\, Henty\, NSW\, 2658\, Australia
CATEGORIES:Worship
ATTACH;FMTTYPE=image/jpeg:https://henty.lutheran.org.au/wp-content/uploads/2018/11/DSCN4965-e1547603409710.jpg
GEO:-35.5179779;147.0294185
X-APPLE-STRUCTURED-LOCATION;VALUE=URI;X-ADDRESS=St Paul’s Henty 41 Lyne St Henty NSW 2658 Australia;X-APPLE-RADIUS=500;X-TITLE=41 Lyne St:geo:147.0294185,-35.5179779
END:VEVENT
BEGIN:VEVENT
DTSTART;TZID=Australia/Sydney:20220612T103000
DTEND;TZID=Australia/Sydney:20220612T113000
DTSTAMP:20260420T205337
CREATED:20220213T022451Z
LAST-MODIFIED:20220213T095801Z
UID:10000012-1655029800-1655033400@henty.lutheran.org.au
SUMMARY:Worship Service
DESCRIPTION:
URL:https://henty.lutheran.org.au/event/worship-service-2/2022-06-12/
LOCATION:St Paul’s Henty\, 41 Lyne St\, Henty\, NSW\, 2658\, Australia
CATEGORIES:Worship
ATTACH;FMTTYPE=image/jpeg:https://henty.lutheran.org.au/wp-content/uploads/2018/11/DSCN4965-e1547603409710.jpg
GEO:-35.5179779;147.0294185
X-APPLE-STRUCTURED-LOCATION;VALUE=URI;X-ADDRESS=St Paul’s Henty 41 Lyne St Henty NSW 2658 Australia;X-APPLE-RADIUS=500;X-TITLE=41 Lyne St:geo:147.0294185,-35.5179779
END:VEVENT
BEGIN:VEVENT
DTSTART;TZID=Australia/Sydney:20220605T090000
DTEND;TZID=Australia/Sydney:20220605T100000
DTSTAMP:20260420T205337
CREATED:20220213T022302Z
LAST-MODIFIED:20220213T095538Z
UID:10000119-1654419600-1654423200@henty.lutheran.org.au
SUMMARY:Worship Service
DESCRIPTION:Join us for a cuppa after the service!
URL:https://henty.lutheran.org.au/event/worship-service/2022-06-05/
LOCATION:St Paul’s Henty\, 41 Lyne St\, Henty\, NSW\, 2658\, Australia
CATEGORIES:Worship
ATTACH;FMTTYPE=image/jpeg:https://henty.lutheran.org.au/wp-content/uploads/2018/11/DSCN4965-e1547603409710.jpg
GEO:-35.5179779;147.0294185
X-APPLE-STRUCTURED-LOCATION;VALUE=URI;X-ADDRESS=St Paul’s Henty 41 Lyne St Henty NSW 2658 Australia;X-APPLE-RADIUS=500;X-TITLE=41 Lyne St:geo:147.0294185,-35.5179779
END:VEVENT
BEGIN:VEVENT
DTSTART;TZID=Australia/Sydney:20220522T103000
DTEND;TZID=Australia/Sydney:20220522T113000
DTSTAMP:20260420T205337
CREATED:20250728T140817Z
LAST-MODIFIED:20250728T140817Z
UID:10000065-1653215400-1653219000@henty.lutheran.org.au
SUMMARY:Worship Service
DESCRIPTION:
URL:https://henty.lutheran.org.au/event/worship-service-2/2022-05-22/
LOCATION:St Paul’s Henty\, 41 Lyne St\, Henty\, NSW\, 2658\, Australia
CATEGORIES:Worship
ATTACH;FMTTYPE=image/jpeg:https://henty.lutheran.org.au/wp-content/uploads/2018/11/DSCN4965-e1547603409710.jpg
GEO:-35.5179779;147.0294185
X-APPLE-STRUCTURED-LOCATION;VALUE=URI;X-ADDRESS=St Paul’s Henty 41 Lyne St Henty NSW 2658 Australia;X-APPLE-RADIUS=500;X-TITLE=41 Lyne St:geo:147.0294185,-35.5179779
END:VEVENT
BEGIN:VEVENT
DTSTART;TZID=Australia/Sydney:20220515T090000
DTEND;TZID=Australia/Sydney:20220515T100000
DTSTAMP:20260420T205337
CREATED:20250728T140817Z
LAST-MODIFIED:20250728T140817Z
UID:10000171-1652605200-1652608800@henty.lutheran.org.au
SUMMARY:Worship Service
DESCRIPTION:Join us for a cuppa after the service!
URL:https://henty.lutheran.org.au/event/worship-service/2022-05-15/
LOCATION:St Paul’s Henty\, 41 Lyne St\, Henty\, NSW\, 2658\, Australia
CATEGORIES:Worship
ATTACH;FMTTYPE=image/jpeg:https://henty.lutheran.org.au/wp-content/uploads/2018/11/DSCN4965-e1547603409710.jpg
GEO:-35.5179779;147.0294185
X-APPLE-STRUCTURED-LOCATION;VALUE=URI;X-ADDRESS=St Paul’s Henty 41 Lyne St Henty NSW 2658 Australia;X-APPLE-RADIUS=500;X-TITLE=41 Lyne St:geo:147.0294185,-35.5179779
END:VEVENT
BEGIN:VEVENT
DTSTART;TZID=Australia/Sydney:20220508T103000
DTEND;TZID=Australia/Sydney:20220508T113000
DTSTAMP:20260420T205337
CREATED:20220213T022451Z
LAST-MODIFIED:20220213T095801Z
UID:10000011-1652005800-1652009400@henty.lutheran.org.au
SUMMARY:Worship Service
DESCRIPTION:
URL:https://henty.lutheran.org.au/event/worship-service-2/2022-05-08/
LOCATION:St Paul’s Henty\, 41 Lyne St\, Henty\, NSW\, 2658\, Australia
CATEGORIES:Worship
ATTACH;FMTTYPE=image/jpeg:https://henty.lutheran.org.au/wp-content/uploads/2018/11/DSCN4965-e1547603409710.jpg
GEO:-35.5179779;147.0294185
X-APPLE-STRUCTURED-LOCATION;VALUE=URI;X-ADDRESS=St Paul’s Henty 41 Lyne St Henty NSW 2658 Australia;X-APPLE-RADIUS=500;X-TITLE=41 Lyne St:geo:147.0294185,-35.5179779
END:VEVENT
BEGIN:VEVENT
DTSTART;TZID=Australia/Sydney:20220501T090000
DTEND;TZID=Australia/Sydney:20220501T100000
DTSTAMP:20260420T205337
CREATED:20220213T022302Z
LAST-MODIFIED:20220213T095538Z
UID:10000118-1651395600-1651399200@henty.lutheran.org.au
SUMMARY:Worship Service
DESCRIPTION:Join us for a cuppa after the service!
URL:https://henty.lutheran.org.au/event/worship-service/2022-05-01/
LOCATION:St Paul’s Henty\, 41 Lyne St\, Henty\, NSW\, 2658\, Australia
CATEGORIES:Worship
ATTACH;FMTTYPE=image/jpeg:https://henty.lutheran.org.au/wp-content/uploads/2018/11/DSCN4965-e1547603409710.jpg
GEO:-35.5179779;147.0294185
X-APPLE-STRUCTURED-LOCATION;VALUE=URI;X-ADDRESS=St Paul’s Henty 41 Lyne St Henty NSW 2658 Australia;X-APPLE-RADIUS=500;X-TITLE=41 Lyne St:geo:147.0294185,-35.5179779
END:VEVENT
BEGIN:VEVENT
DTSTART;TZID=Australia/Sydney:20220424T103000
DTEND;TZID=Australia/Sydney:20220424T113000
DTSTAMP:20260420T205337
CREATED:20250728T140817Z
LAST-MODIFIED:20250728T140817Z
UID:10000064-1650796200-1650799800@henty.lutheran.org.au
SUMMARY:Worship Service
DESCRIPTION:
URL:https://henty.lutheran.org.au/event/worship-service-2/2022-04-24/
LOCATION:St Paul’s Henty\, 41 Lyne St\, Henty\, NSW\, 2658\, Australia
CATEGORIES:Worship
ATTACH;FMTTYPE=image/jpeg:https://henty.lutheran.org.au/wp-content/uploads/2018/11/DSCN4965-e1547603409710.jpg
GEO:-35.5179779;147.0294185
X-APPLE-STRUCTURED-LOCATION;VALUE=URI;X-ADDRESS=St Paul’s Henty 41 Lyne St Henty NSW 2658 Australia;X-APPLE-RADIUS=500;X-TITLE=41 Lyne St:geo:147.0294185,-35.5179779
END:VEVENT
BEGIN:VEVENT
DTSTART;TZID=Australia/Sydney:20220417T083000
DTEND;TZID=Australia/Sydney:20220417T100000
DTSTAMP:20260420T205337
CREATED:20220213T025002Z
LAST-MODIFIED:20220213T025011Z
UID:10000003-1650184200-1650189600@henty.lutheran.org.au
SUMMARY:Easter Worship Service
DESCRIPTION:
URL:https://henty.lutheran.org.au/event/worship-service-2019-04-21/
LOCATION:St Paul’s Henty\, 41 Lyne St\, Henty\, NSW\, 2658\, Australia
CATEGORIES:Worship
ATTACH;FMTTYPE=image/jpeg:https://henty.lutheran.org.au/wp-content/uploads/2019/01/HeIsRisen.jpg
GEO:-35.5179779;147.0294185
X-APPLE-STRUCTURED-LOCATION;VALUE=URI;X-ADDRESS=St Paul’s Henty 41 Lyne St Henty NSW 2658 Australia;X-APPLE-RADIUS=500;X-TITLE=41 Lyne St:geo:147.0294185,-35.5179779
END:VEVENT
BEGIN:VEVENT
DTSTART;TZID=Australia/Sydney:20220415T093000
DTEND;TZID=Australia/Sydney:20220415T230000
DTSTAMP:20260420T205337
CREATED:20220213T024534Z
LAST-MODIFIED:20220213T094501Z
UID:10000004-1650015000-1650063600@henty.lutheran.org.au
SUMMARY:Worship - Good Friday
DESCRIPTION:
URL:https://henty.lutheran.org.au/event/worship-good-friday/
LOCATION:St Paul’s Henty\, 41 Lyne St\, Henty\, NSW\, 2658\, Australia
CATEGORIES:Worship
ATTACH;FMTTYPE=image/jpeg:https://henty.lutheran.org.au/wp-content/uploads/2019/01/cross-fs.jpg
GEO:-35.5179779;147.0294185
X-APPLE-STRUCTURED-LOCATION;VALUE=URI;X-ADDRESS=St Paul’s Henty 41 Lyne St Henty NSW 2658 Australia;X-APPLE-RADIUS=500;X-TITLE=41 Lyne St:geo:147.0294185,-35.5179779
END:VEVENT
BEGIN:VEVENT
DTSTART;TZID=Australia/Sydney:20220414T193000
DTEND;TZID=Australia/Sydney:20220414T210000
DTSTAMP:20260420T205337
CREATED:20220213T023350Z
LAST-MODIFIED:20220213T024512Z
UID:10000005-1649964600-1649970000@henty.lutheran.org.au
SUMMARY:Worship - Maundy Thursday
DESCRIPTION:
URL:https://henty.lutheran.org.au/event/worship-maundy-thursday/
LOCATION:St Paul’s Henty\, 41 Lyne St\, Henty\, NSW\, 2658\, Australia
CATEGORIES:Worship
GEO:-35.5179779;147.0294185
X-APPLE-STRUCTURED-LOCATION;VALUE=URI;X-ADDRESS=St Paul’s Henty 41 Lyne St Henty NSW 2658 Australia;X-APPLE-RADIUS=500;X-TITLE=41 Lyne St:geo:147.0294185,-35.5179779
END:VEVENT
BEGIN:VEVENT
DTSTART;TZID=Australia/Sydney:20220410T103000
DTEND;TZID=Australia/Sydney:20220410T113000
DTSTAMP:20260420T205337
CREATED:20220213T022451Z
LAST-MODIFIED:20220213T095801Z
UID:10000010-1649586600-1649590200@henty.lutheran.org.au
SUMMARY:Worship Service
DESCRIPTION:
URL:https://henty.lutheran.org.au/event/worship-service-2/2022-04-10/
LOCATION:St Paul’s Henty\, 41 Lyne St\, Henty\, NSW\, 2658\, Australia
CATEGORIES:Worship
ATTACH;FMTTYPE=image/jpeg:https://henty.lutheran.org.au/wp-content/uploads/2018/11/DSCN4965-e1547603409710.jpg
GEO:-35.5179779;147.0294185
X-APPLE-STRUCTURED-LOCATION;VALUE=URI;X-ADDRESS=St Paul’s Henty 41 Lyne St Henty NSW 2658 Australia;X-APPLE-RADIUS=500;X-TITLE=41 Lyne St:geo:147.0294185,-35.5179779
END:VEVENT
BEGIN:VEVENT
DTSTART;TZID=Australia/Sydney:20220403T090000
DTEND;TZID=Australia/Sydney:20220403T100000
DTSTAMP:20260420T205337
CREATED:20220213T022302Z
LAST-MODIFIED:20220213T095538Z
UID:10000117-1648976400-1648980000@henty.lutheran.org.au
SUMMARY:Worship Service
DESCRIPTION:Join us for a cuppa after the service!
URL:https://henty.lutheran.org.au/event/worship-service/2022-04-03/
LOCATION:St Paul’s Henty\, 41 Lyne St\, Henty\, NSW\, 2658\, Australia
CATEGORIES:Worship
ATTACH;FMTTYPE=image/jpeg:https://henty.lutheran.org.au/wp-content/uploads/2018/11/DSCN4965-e1547603409710.jpg
GEO:-35.5179779;147.0294185
X-APPLE-STRUCTURED-LOCATION;VALUE=URI;X-ADDRESS=St Paul’s Henty 41 Lyne St Henty NSW 2658 Australia;X-APPLE-RADIUS=500;X-TITLE=41 Lyne St:geo:147.0294185,-35.5179779
END:VEVENT
END:VCALENDAR