BEGIN:VCALENDAR
VERSION:2.0
PRODID:-//St Paul&#039;s Lutheran Church, Henty NSW - ECPv6.15.14//NONSGML v1.0//EN
CALSCALE:GREGORIAN
METHOD:PUBLISH
X-WR-CALNAME:St Paul&#039;s Lutheran Church, Henty NSW
X-ORIGINAL-URL:https://henty.lutheran.org.au
X-WR-CALDESC:Events for St Paul&#039;s Lutheran Church, Henty NSW
REFRESH-INTERVAL;VALUE=DURATION:PT1H
X-Robots-Tag:noindex
X-PUBLISHED-TTL:PT1H
BEGIN:VTIMEZONE
TZID:Australia/Sydney
BEGIN:STANDARD
TZOFFSETFROM:+1100
TZOFFSETTO:+1000
TZNAME:AEST
DTSTART:20220402T160000
END:STANDARD
BEGIN:DAYLIGHT
TZOFFSETFROM:+1000
TZOFFSETTO:+1100
TZNAME:AEDT
DTSTART:20221001T160000
END:DAYLIGHT
BEGIN:STANDARD
TZOFFSETFROM:+1100
TZOFFSETTO:+1000
TZNAME:AEST
DTSTART:20230401T160000
END:STANDARD
BEGIN:DAYLIGHT
TZOFFSETFROM:+1000
TZOFFSETTO:+1100
TZNAME:AEDT
DTSTART:20230930T160000
END:DAYLIGHT
BEGIN:STANDARD
TZOFFSETFROM:+1100
TZOFFSETTO:+1000
TZNAME:AEST
DTSTART:20240406T160000
END:STANDARD
BEGIN:DAYLIGHT
TZOFFSETFROM:+1000
TZOFFSETTO:+1100
TZNAME:AEDT
DTSTART:20241005T160000
END:DAYLIGHT
BEGIN:STANDARD
TZOFFSETFROM:+1100
TZOFFSETTO:+1000
TZNAME:AEST
DTSTART:20250405T160000
END:STANDARD
BEGIN:DAYLIGHT
TZOFFSETFROM:+1000
TZOFFSETTO:+1100
TZNAME:AEDT
DTSTART:20251004T160000
END:DAYLIGHT
END:VTIMEZONE
BEGIN:VEVENT
DTSTART;TZID=Australia/Sydney:20240114T103000
DTEND;TZID=Australia/Sydney:20240114T113000
DTSTAMP:20260420T112026
CREATED:20220213T022451Z
LAST-MODIFIED:20220213T095801Z
UID:10000031-1705228200-1705231800@henty.lutheran.org.au
SUMMARY:Worship Service
DESCRIPTION:
URL:https://henty.lutheran.org.au/event/worship-service-2/2024-01-14/
LOCATION:St Paul’s Henty\, 41 Lyne St\, Henty\, NSW\, 2658\, Australia
CATEGORIES:Worship
ATTACH;FMTTYPE=image/jpeg:https://henty.lutheran.org.au/wp-content/uploads/2018/11/DSCN4965-e1547603409710.jpg
GEO:-35.5179779;147.0294185
X-APPLE-STRUCTURED-LOCATION;VALUE=URI;X-ADDRESS=St Paul’s Henty 41 Lyne St Henty NSW 2658 Australia;X-APPLE-RADIUS=500;X-TITLE=41 Lyne St:geo:147.0294185,-35.5179779
END:VEVENT
BEGIN:VEVENT
DTSTART;TZID=Australia/Sydney:20240107T090000
DTEND;TZID=Australia/Sydney:20240107T100000
DTSTAMP:20260420T112026
CREATED:20220213T022302Z
LAST-MODIFIED:20220213T095538Z
UID:10000138-1704618000-1704621600@henty.lutheran.org.au
SUMMARY:Worship Service
DESCRIPTION:Join us for a cuppa after the service!
URL:https://henty.lutheran.org.au/event/worship-service/2024-01-07/
LOCATION:St Paul’s Henty\, 41 Lyne St\, Henty\, NSW\, 2658\, Australia
CATEGORIES:Worship
ATTACH;FMTTYPE=image/jpeg:https://henty.lutheran.org.au/wp-content/uploads/2018/11/DSCN4965-e1547603409710.jpg
GEO:-35.5179779;147.0294185
X-APPLE-STRUCTURED-LOCATION;VALUE=URI;X-ADDRESS=St Paul’s Henty 41 Lyne St Henty NSW 2658 Australia;X-APPLE-RADIUS=500;X-TITLE=41 Lyne St:geo:147.0294185,-35.5179779
END:VEVENT
BEGIN:VEVENT
DTSTART;TZID=Australia/Sydney:20231224T103000
DTEND;TZID=Australia/Sydney:20231224T113000
DTSTAMP:20260420T112026
CREATED:20250728T140817Z
LAST-MODIFIED:20250728T140817Z
UID:10000083-1703413800-1703417400@henty.lutheran.org.au
SUMMARY:Worship Service
DESCRIPTION:
URL:https://henty.lutheran.org.au/event/worship-service-2/2023-12-24/
LOCATION:St Paul’s Henty\, 41 Lyne St\, Henty\, NSW\, 2658\, Australia
CATEGORIES:Worship
ATTACH;FMTTYPE=image/jpeg:https://henty.lutheran.org.au/wp-content/uploads/2018/11/DSCN4965-e1547603409710.jpg
GEO:-35.5179779;147.0294185
X-APPLE-STRUCTURED-LOCATION;VALUE=URI;X-ADDRESS=St Paul’s Henty 41 Lyne St Henty NSW 2658 Australia;X-APPLE-RADIUS=500;X-TITLE=41 Lyne St:geo:147.0294185,-35.5179779
END:VEVENT
BEGIN:VEVENT
DTSTART;TZID=Australia/Sydney:20231217T090000
DTEND;TZID=Australia/Sydney:20231217T100000
DTSTAMP:20260420T112026
CREATED:20250728T140817Z
LAST-MODIFIED:20250728T140817Z
UID:10000190-1702803600-1702807200@henty.lutheran.org.au
SUMMARY:Worship Service
DESCRIPTION:Join us for a cuppa after the service!
URL:https://henty.lutheran.org.au/event/worship-service/2023-12-17/
LOCATION:St Paul’s Henty\, 41 Lyne St\, Henty\, NSW\, 2658\, Australia
CATEGORIES:Worship
ATTACH;FMTTYPE=image/jpeg:https://henty.lutheran.org.au/wp-content/uploads/2018/11/DSCN4965-e1547603409710.jpg
GEO:-35.5179779;147.0294185
X-APPLE-STRUCTURED-LOCATION;VALUE=URI;X-ADDRESS=St Paul’s Henty 41 Lyne St Henty NSW 2658 Australia;X-APPLE-RADIUS=500;X-TITLE=41 Lyne St:geo:147.0294185,-35.5179779
END:VEVENT
BEGIN:VEVENT
DTSTART;TZID=Australia/Sydney:20231210T103000
DTEND;TZID=Australia/Sydney:20231210T113000
DTSTAMP:20260420T112026
CREATED:20220213T022451Z
LAST-MODIFIED:20220213T095801Z
UID:10000030-1702204200-1702207800@henty.lutheran.org.au
SUMMARY:Worship Service
DESCRIPTION:
URL:https://henty.lutheran.org.au/event/worship-service-2/2023-12-10/
LOCATION:St Paul’s Henty\, 41 Lyne St\, Henty\, NSW\, 2658\, Australia
CATEGORIES:Worship
ATTACH;FMTTYPE=image/jpeg:https://henty.lutheran.org.au/wp-content/uploads/2018/11/DSCN4965-e1547603409710.jpg
GEO:-35.5179779;147.0294185
X-APPLE-STRUCTURED-LOCATION;VALUE=URI;X-ADDRESS=St Paul’s Henty 41 Lyne St Henty NSW 2658 Australia;X-APPLE-RADIUS=500;X-TITLE=41 Lyne St:geo:147.0294185,-35.5179779
END:VEVENT
BEGIN:VEVENT
DTSTART;TZID=Australia/Sydney:20231203T090000
DTEND;TZID=Australia/Sydney:20231203T100000
DTSTAMP:20260420T112026
CREATED:20220213T022302Z
LAST-MODIFIED:20220213T095538Z
UID:10000137-1701594000-1701597600@henty.lutheran.org.au
SUMMARY:Worship Service
DESCRIPTION:Join us for a cuppa after the service!
URL:https://henty.lutheran.org.au/event/worship-service/2023-12-03/
LOCATION:St Paul’s Henty\, 41 Lyne St\, Henty\, NSW\, 2658\, Australia
CATEGORIES:Worship
ATTACH;FMTTYPE=image/jpeg:https://henty.lutheran.org.au/wp-content/uploads/2018/11/DSCN4965-e1547603409710.jpg
GEO:-35.5179779;147.0294185
X-APPLE-STRUCTURED-LOCATION;VALUE=URI;X-ADDRESS=St Paul’s Henty 41 Lyne St Henty NSW 2658 Australia;X-APPLE-RADIUS=500;X-TITLE=41 Lyne St:geo:147.0294185,-35.5179779
END:VEVENT
BEGIN:VEVENT
DTSTART;TZID=Australia/Sydney:20231126T103000
DTEND;TZID=Australia/Sydney:20231126T113000
DTSTAMP:20260420T112026
CREATED:20250728T140817Z
LAST-MODIFIED:20250728T140817Z
UID:10000082-1700994600-1700998200@henty.lutheran.org.au
SUMMARY:Worship Service
DESCRIPTION:
URL:https://henty.lutheran.org.au/event/worship-service-2/2023-11-26/
LOCATION:St Paul’s Henty\, 41 Lyne St\, Henty\, NSW\, 2658\, Australia
CATEGORIES:Worship
ATTACH;FMTTYPE=image/jpeg:https://henty.lutheran.org.au/wp-content/uploads/2018/11/DSCN4965-e1547603409710.jpg
GEO:-35.5179779;147.0294185
X-APPLE-STRUCTURED-LOCATION;VALUE=URI;X-ADDRESS=St Paul’s Henty 41 Lyne St Henty NSW 2658 Australia;X-APPLE-RADIUS=500;X-TITLE=41 Lyne St:geo:147.0294185,-35.5179779
END:VEVENT
BEGIN:VEVENT
DTSTART;TZID=Australia/Sydney:20231119T090000
DTEND;TZID=Australia/Sydney:20231119T100000
DTSTAMP:20260420T112026
CREATED:20250728T140817Z
LAST-MODIFIED:20250728T140817Z
UID:10000189-1700384400-1700388000@henty.lutheran.org.au
SUMMARY:Worship Service
DESCRIPTION:Join us for a cuppa after the service!
URL:https://henty.lutheran.org.au/event/worship-service/2023-11-19/
LOCATION:St Paul’s Henty\, 41 Lyne St\, Henty\, NSW\, 2658\, Australia
CATEGORIES:Worship
ATTACH;FMTTYPE=image/jpeg:https://henty.lutheran.org.au/wp-content/uploads/2018/11/DSCN4965-e1547603409710.jpg
GEO:-35.5179779;147.0294185
X-APPLE-STRUCTURED-LOCATION;VALUE=URI;X-ADDRESS=St Paul’s Henty 41 Lyne St Henty NSW 2658 Australia;X-APPLE-RADIUS=500;X-TITLE=41 Lyne St:geo:147.0294185,-35.5179779
END:VEVENT
BEGIN:VEVENT
DTSTART;TZID=Australia/Sydney:20231112T103000
DTEND;TZID=Australia/Sydney:20231112T113000
DTSTAMP:20260420T112026
CREATED:20220213T022451Z
LAST-MODIFIED:20220213T095801Z
UID:10000029-1699785000-1699788600@henty.lutheran.org.au
SUMMARY:Worship Service
DESCRIPTION:
URL:https://henty.lutheran.org.au/event/worship-service-2/2023-11-12/
LOCATION:St Paul’s Henty\, 41 Lyne St\, Henty\, NSW\, 2658\, Australia
CATEGORIES:Worship
ATTACH;FMTTYPE=image/jpeg:https://henty.lutheran.org.au/wp-content/uploads/2018/11/DSCN4965-e1547603409710.jpg
GEO:-35.5179779;147.0294185
X-APPLE-STRUCTURED-LOCATION;VALUE=URI;X-ADDRESS=St Paul’s Henty 41 Lyne St Henty NSW 2658 Australia;X-APPLE-RADIUS=500;X-TITLE=41 Lyne St:geo:147.0294185,-35.5179779
END:VEVENT
BEGIN:VEVENT
DTSTART;TZID=Australia/Sydney:20231105T090000
DTEND;TZID=Australia/Sydney:20231105T100000
DTSTAMP:20260420T112026
CREATED:20220213T022302Z
LAST-MODIFIED:20220213T095538Z
UID:10000136-1699174800-1699178400@henty.lutheran.org.au
SUMMARY:Worship Service
DESCRIPTION:Join us for a cuppa after the service!
URL:https://henty.lutheran.org.au/event/worship-service/2023-11-05/
LOCATION:St Paul’s Henty\, 41 Lyne St\, Henty\, NSW\, 2658\, Australia
CATEGORIES:Worship
ATTACH;FMTTYPE=image/jpeg:https://henty.lutheran.org.au/wp-content/uploads/2018/11/DSCN4965-e1547603409710.jpg
GEO:-35.5179779;147.0294185
X-APPLE-STRUCTURED-LOCATION;VALUE=URI;X-ADDRESS=St Paul’s Henty 41 Lyne St Henty NSW 2658 Australia;X-APPLE-RADIUS=500;X-TITLE=41 Lyne St:geo:147.0294185,-35.5179779
END:VEVENT
BEGIN:VEVENT
DTSTART;TZID=Australia/Sydney:20231022T103000
DTEND;TZID=Australia/Sydney:20231022T113000
DTSTAMP:20260420T112026
CREATED:20250728T140817Z
LAST-MODIFIED:20250728T140817Z
UID:10000081-1697970600-1697974200@henty.lutheran.org.au
SUMMARY:Worship Service
DESCRIPTION:
URL:https://henty.lutheran.org.au/event/worship-service-2/2023-10-22/
LOCATION:St Paul’s Henty\, 41 Lyne St\, Henty\, NSW\, 2658\, Australia
CATEGORIES:Worship
ATTACH;FMTTYPE=image/jpeg:https://henty.lutheran.org.au/wp-content/uploads/2018/11/DSCN4965-e1547603409710.jpg
GEO:-35.5179779;147.0294185
X-APPLE-STRUCTURED-LOCATION;VALUE=URI;X-ADDRESS=St Paul’s Henty 41 Lyne St Henty NSW 2658 Australia;X-APPLE-RADIUS=500;X-TITLE=41 Lyne St:geo:147.0294185,-35.5179779
END:VEVENT
BEGIN:VEVENT
DTSTART;TZID=Australia/Sydney:20231015T090000
DTEND;TZID=Australia/Sydney:20231015T100000
DTSTAMP:20260420T112026
CREATED:20250728T140817Z
LAST-MODIFIED:20250728T140817Z
UID:10000188-1697360400-1697364000@henty.lutheran.org.au
SUMMARY:Worship Service
DESCRIPTION:Join us for a cuppa after the service!
URL:https://henty.lutheran.org.au/event/worship-service/2023-10-15/
LOCATION:St Paul’s Henty\, 41 Lyne St\, Henty\, NSW\, 2658\, Australia
CATEGORIES:Worship
ATTACH;FMTTYPE=image/jpeg:https://henty.lutheran.org.au/wp-content/uploads/2018/11/DSCN4965-e1547603409710.jpg
GEO:-35.5179779;147.0294185
X-APPLE-STRUCTURED-LOCATION;VALUE=URI;X-ADDRESS=St Paul’s Henty 41 Lyne St Henty NSW 2658 Australia;X-APPLE-RADIUS=500;X-TITLE=41 Lyne St:geo:147.0294185,-35.5179779
END:VEVENT
BEGIN:VEVENT
DTSTART;TZID=Australia/Sydney:20231008T103000
DTEND;TZID=Australia/Sydney:20231008T113000
DTSTAMP:20260420T112026
CREATED:20220213T022451Z
LAST-MODIFIED:20220213T095801Z
UID:10000028-1696761000-1696764600@henty.lutheran.org.au
SUMMARY:Worship Service
DESCRIPTION:
URL:https://henty.lutheran.org.au/event/worship-service-2/2023-10-08/
LOCATION:St Paul’s Henty\, 41 Lyne St\, Henty\, NSW\, 2658\, Australia
CATEGORIES:Worship
ATTACH;FMTTYPE=image/jpeg:https://henty.lutheran.org.au/wp-content/uploads/2018/11/DSCN4965-e1547603409710.jpg
GEO:-35.5179779;147.0294185
X-APPLE-STRUCTURED-LOCATION;VALUE=URI;X-ADDRESS=St Paul’s Henty 41 Lyne St Henty NSW 2658 Australia;X-APPLE-RADIUS=500;X-TITLE=41 Lyne St:geo:147.0294185,-35.5179779
END:VEVENT
BEGIN:VEVENT
DTSTART;TZID=Australia/Sydney:20231001T090000
DTEND;TZID=Australia/Sydney:20231001T100000
DTSTAMP:20260420T112026
CREATED:20220213T022302Z
LAST-MODIFIED:20220213T095538Z
UID:10000135-1696150800-1696154400@henty.lutheran.org.au
SUMMARY:Worship Service
DESCRIPTION:Join us for a cuppa after the service!
URL:https://henty.lutheran.org.au/event/worship-service/2023-10-01/
LOCATION:St Paul’s Henty\, 41 Lyne St\, Henty\, NSW\, 2658\, Australia
CATEGORIES:Worship
ATTACH;FMTTYPE=image/jpeg:https://henty.lutheran.org.au/wp-content/uploads/2018/11/DSCN4965-e1547603409710.jpg
GEO:-35.5179779;147.0294185
X-APPLE-STRUCTURED-LOCATION;VALUE=URI;X-ADDRESS=St Paul’s Henty 41 Lyne St Henty NSW 2658 Australia;X-APPLE-RADIUS=500;X-TITLE=41 Lyne St:geo:147.0294185,-35.5179779
END:VEVENT
BEGIN:VEVENT
DTSTART;TZID=Australia/Sydney:20230924T103000
DTEND;TZID=Australia/Sydney:20230924T113000
DTSTAMP:20260420T112026
CREATED:20250728T140817Z
LAST-MODIFIED:20250728T140817Z
UID:10000080-1695551400-1695555000@henty.lutheran.org.au
SUMMARY:Worship Service
DESCRIPTION:
URL:https://henty.lutheran.org.au/event/worship-service-2/2023-09-24/
LOCATION:St Paul’s Henty\, 41 Lyne St\, Henty\, NSW\, 2658\, Australia
CATEGORIES:Worship
ATTACH;FMTTYPE=image/jpeg:https://henty.lutheran.org.au/wp-content/uploads/2018/11/DSCN4965-e1547603409710.jpg
GEO:-35.5179779;147.0294185
X-APPLE-STRUCTURED-LOCATION;VALUE=URI;X-ADDRESS=St Paul’s Henty 41 Lyne St Henty NSW 2658 Australia;X-APPLE-RADIUS=500;X-TITLE=41 Lyne St:geo:147.0294185,-35.5179779
END:VEVENT
BEGIN:VEVENT
DTSTART;TZID=Australia/Sydney:20230917T090000
DTEND;TZID=Australia/Sydney:20230917T100000
DTSTAMP:20260420T112026
CREATED:20250728T140817Z
LAST-MODIFIED:20250728T140817Z
UID:10000187-1694941200-1694944800@henty.lutheran.org.au
SUMMARY:Worship Service
DESCRIPTION:Join us for a cuppa after the service!
URL:https://henty.lutheran.org.au/event/worship-service/2023-09-17/
LOCATION:St Paul’s Henty\, 41 Lyne St\, Henty\, NSW\, 2658\, Australia
CATEGORIES:Worship
ATTACH;FMTTYPE=image/jpeg:https://henty.lutheran.org.au/wp-content/uploads/2018/11/DSCN4965-e1547603409710.jpg
GEO:-35.5179779;147.0294185
X-APPLE-STRUCTURED-LOCATION;VALUE=URI;X-ADDRESS=St Paul’s Henty 41 Lyne St Henty NSW 2658 Australia;X-APPLE-RADIUS=500;X-TITLE=41 Lyne St:geo:147.0294185,-35.5179779
END:VEVENT
BEGIN:VEVENT
DTSTART;TZID=Australia/Sydney:20230910T103000
DTEND;TZID=Australia/Sydney:20230910T113000
DTSTAMP:20260420T112026
CREATED:20220213T022451Z
LAST-MODIFIED:20220213T095801Z
UID:10000027-1694341800-1694345400@henty.lutheran.org.au
SUMMARY:Worship Service
DESCRIPTION:
URL:https://henty.lutheran.org.au/event/worship-service-2/2023-09-10/
LOCATION:St Paul’s Henty\, 41 Lyne St\, Henty\, NSW\, 2658\, Australia
CATEGORIES:Worship
ATTACH;FMTTYPE=image/jpeg:https://henty.lutheran.org.au/wp-content/uploads/2018/11/DSCN4965-e1547603409710.jpg
GEO:-35.5179779;147.0294185
X-APPLE-STRUCTURED-LOCATION;VALUE=URI;X-ADDRESS=St Paul’s Henty 41 Lyne St Henty NSW 2658 Australia;X-APPLE-RADIUS=500;X-TITLE=41 Lyne St:geo:147.0294185,-35.5179779
END:VEVENT
BEGIN:VEVENT
DTSTART;TZID=Australia/Sydney:20230903T090000
DTEND;TZID=Australia/Sydney:20230903T100000
DTSTAMP:20260420T112026
CREATED:20220213T022302Z
LAST-MODIFIED:20220213T095538Z
UID:10000134-1693731600-1693735200@henty.lutheran.org.au
SUMMARY:Worship Service
DESCRIPTION:Join us for a cuppa after the service!
URL:https://henty.lutheran.org.au/event/worship-service/2023-09-03/
LOCATION:St Paul’s Henty\, 41 Lyne St\, Henty\, NSW\, 2658\, Australia
CATEGORIES:Worship
ATTACH;FMTTYPE=image/jpeg:https://henty.lutheran.org.au/wp-content/uploads/2018/11/DSCN4965-e1547603409710.jpg
GEO:-35.5179779;147.0294185
X-APPLE-STRUCTURED-LOCATION;VALUE=URI;X-ADDRESS=St Paul’s Henty 41 Lyne St Henty NSW 2658 Australia;X-APPLE-RADIUS=500;X-TITLE=41 Lyne St:geo:147.0294185,-35.5179779
END:VEVENT
BEGIN:VEVENT
DTSTART;TZID=Australia/Sydney:20230827T103000
DTEND;TZID=Australia/Sydney:20230827T113000
DTSTAMP:20260420T112026
CREATED:20250728T140817Z
LAST-MODIFIED:20250728T140817Z
UID:10000079-1693132200-1693135800@henty.lutheran.org.au
SUMMARY:Worship Service
DESCRIPTION:
URL:https://henty.lutheran.org.au/event/worship-service-2/2023-08-27/
LOCATION:St Paul’s Henty\, 41 Lyne St\, Henty\, NSW\, 2658\, Australia
CATEGORIES:Worship
ATTACH;FMTTYPE=image/jpeg:https://henty.lutheran.org.au/wp-content/uploads/2018/11/DSCN4965-e1547603409710.jpg
GEO:-35.5179779;147.0294185
X-APPLE-STRUCTURED-LOCATION;VALUE=URI;X-ADDRESS=St Paul’s Henty 41 Lyne St Henty NSW 2658 Australia;X-APPLE-RADIUS=500;X-TITLE=41 Lyne St:geo:147.0294185,-35.5179779
END:VEVENT
BEGIN:VEVENT
DTSTART;TZID=Australia/Sydney:20230820T090000
DTEND;TZID=Australia/Sydney:20230820T100000
DTSTAMP:20260420T112026
CREATED:20250728T140817Z
LAST-MODIFIED:20250728T140817Z
UID:10000186-1692522000-1692525600@henty.lutheran.org.au
SUMMARY:Worship Service
DESCRIPTION:Join us for a cuppa after the service!
URL:https://henty.lutheran.org.au/event/worship-service/2023-08-20/
LOCATION:St Paul’s Henty\, 41 Lyne St\, Henty\, NSW\, 2658\, Australia
CATEGORIES:Worship
ATTACH;FMTTYPE=image/jpeg:https://henty.lutheran.org.au/wp-content/uploads/2018/11/DSCN4965-e1547603409710.jpg
GEO:-35.5179779;147.0294185
X-APPLE-STRUCTURED-LOCATION;VALUE=URI;X-ADDRESS=St Paul’s Henty 41 Lyne St Henty NSW 2658 Australia;X-APPLE-RADIUS=500;X-TITLE=41 Lyne St:geo:147.0294185,-35.5179779
END:VEVENT
BEGIN:VEVENT
DTSTART;TZID=Australia/Sydney:20230813T103000
DTEND;TZID=Australia/Sydney:20230813T113000
DTSTAMP:20260420T112026
CREATED:20220213T022451Z
LAST-MODIFIED:20220213T095801Z
UID:10000026-1691922600-1691926200@henty.lutheran.org.au
SUMMARY:Worship Service
DESCRIPTION:
URL:https://henty.lutheran.org.au/event/worship-service-2/2023-08-13/
LOCATION:St Paul’s Henty\, 41 Lyne St\, Henty\, NSW\, 2658\, Australia
CATEGORIES:Worship
ATTACH;FMTTYPE=image/jpeg:https://henty.lutheran.org.au/wp-content/uploads/2018/11/DSCN4965-e1547603409710.jpg
GEO:-35.5179779;147.0294185
X-APPLE-STRUCTURED-LOCATION;VALUE=URI;X-ADDRESS=St Paul’s Henty 41 Lyne St Henty NSW 2658 Australia;X-APPLE-RADIUS=500;X-TITLE=41 Lyne St:geo:147.0294185,-35.5179779
END:VEVENT
BEGIN:VEVENT
DTSTART;TZID=Australia/Sydney:20230806T090000
DTEND;TZID=Australia/Sydney:20230806T100000
DTSTAMP:20260420T112026
CREATED:20220213T022302Z
LAST-MODIFIED:20220213T095538Z
UID:10000133-1691312400-1691316000@henty.lutheran.org.au
SUMMARY:Worship Service
DESCRIPTION:Join us for a cuppa after the service!
URL:https://henty.lutheran.org.au/event/worship-service/2023-08-06/
LOCATION:St Paul’s Henty\, 41 Lyne St\, Henty\, NSW\, 2658\, Australia
CATEGORIES:Worship
ATTACH;FMTTYPE=image/jpeg:https://henty.lutheran.org.au/wp-content/uploads/2018/11/DSCN4965-e1547603409710.jpg
GEO:-35.5179779;147.0294185
X-APPLE-STRUCTURED-LOCATION;VALUE=URI;X-ADDRESS=St Paul’s Henty 41 Lyne St Henty NSW 2658 Australia;X-APPLE-RADIUS=500;X-TITLE=41 Lyne St:geo:147.0294185,-35.5179779
END:VEVENT
BEGIN:VEVENT
DTSTART;TZID=Australia/Sydney:20230723T103000
DTEND;TZID=Australia/Sydney:20230723T113000
DTSTAMP:20260420T112026
CREATED:20250728T140817Z
LAST-MODIFIED:20250728T140817Z
UID:10000078-1690108200-1690111800@henty.lutheran.org.au
SUMMARY:Worship Service
DESCRIPTION:
URL:https://henty.lutheran.org.au/event/worship-service-2/2023-07-23/
LOCATION:St Paul’s Henty\, 41 Lyne St\, Henty\, NSW\, 2658\, Australia
CATEGORIES:Worship
ATTACH;FMTTYPE=image/jpeg:https://henty.lutheran.org.au/wp-content/uploads/2018/11/DSCN4965-e1547603409710.jpg
GEO:-35.5179779;147.0294185
X-APPLE-STRUCTURED-LOCATION;VALUE=URI;X-ADDRESS=St Paul’s Henty 41 Lyne St Henty NSW 2658 Australia;X-APPLE-RADIUS=500;X-TITLE=41 Lyne St:geo:147.0294185,-35.5179779
END:VEVENT
BEGIN:VEVENT
DTSTART;TZID=Australia/Sydney:20230716T090000
DTEND;TZID=Australia/Sydney:20230716T100000
DTSTAMP:20260420T112026
CREATED:20250728T140817Z
LAST-MODIFIED:20250728T140817Z
UID:10000185-1689498000-1689501600@henty.lutheran.org.au
SUMMARY:Worship Service
DESCRIPTION:Join us for a cuppa after the service!
URL:https://henty.lutheran.org.au/event/worship-service/2023-07-16/
LOCATION:St Paul’s Henty\, 41 Lyne St\, Henty\, NSW\, 2658\, Australia
CATEGORIES:Worship
ATTACH;FMTTYPE=image/jpeg:https://henty.lutheran.org.au/wp-content/uploads/2018/11/DSCN4965-e1547603409710.jpg
GEO:-35.5179779;147.0294185
X-APPLE-STRUCTURED-LOCATION;VALUE=URI;X-ADDRESS=St Paul’s Henty 41 Lyne St Henty NSW 2658 Australia;X-APPLE-RADIUS=500;X-TITLE=41 Lyne St:geo:147.0294185,-35.5179779
END:VEVENT
BEGIN:VEVENT
DTSTART;TZID=Australia/Sydney:20230709T103000
DTEND;TZID=Australia/Sydney:20230709T113000
DTSTAMP:20260420T112026
CREATED:20220213T022451Z
LAST-MODIFIED:20220213T095801Z
UID:10000025-1688898600-1688902200@henty.lutheran.org.au
SUMMARY:Worship Service
DESCRIPTION:
URL:https://henty.lutheran.org.au/event/worship-service-2/2023-07-09/
LOCATION:St Paul’s Henty\, 41 Lyne St\, Henty\, NSW\, 2658\, Australia
CATEGORIES:Worship
ATTACH;FMTTYPE=image/jpeg:https://henty.lutheran.org.au/wp-content/uploads/2018/11/DSCN4965-e1547603409710.jpg
GEO:-35.5179779;147.0294185
X-APPLE-STRUCTURED-LOCATION;VALUE=URI;X-ADDRESS=St Paul’s Henty 41 Lyne St Henty NSW 2658 Australia;X-APPLE-RADIUS=500;X-TITLE=41 Lyne St:geo:147.0294185,-35.5179779
END:VEVENT
BEGIN:VEVENT
DTSTART;TZID=Australia/Sydney:20230702T090000
DTEND;TZID=Australia/Sydney:20230702T100000
DTSTAMP:20260420T112026
CREATED:20220213T022302Z
LAST-MODIFIED:20220213T095538Z
UID:10000132-1688288400-1688292000@henty.lutheran.org.au
SUMMARY:Worship Service
DESCRIPTION:Join us for a cuppa after the service!
URL:https://henty.lutheran.org.au/event/worship-service/2023-07-02/
LOCATION:St Paul’s Henty\, 41 Lyne St\, Henty\, NSW\, 2658\, Australia
CATEGORIES:Worship
ATTACH;FMTTYPE=image/jpeg:https://henty.lutheran.org.au/wp-content/uploads/2018/11/DSCN4965-e1547603409710.jpg
GEO:-35.5179779;147.0294185
X-APPLE-STRUCTURED-LOCATION;VALUE=URI;X-ADDRESS=St Paul’s Henty 41 Lyne St Henty NSW 2658 Australia;X-APPLE-RADIUS=500;X-TITLE=41 Lyne St:geo:147.0294185,-35.5179779
END:VEVENT
BEGIN:VEVENT
DTSTART;TZID=Australia/Sydney:20230625T103000
DTEND;TZID=Australia/Sydney:20230625T113000
DTSTAMP:20260420T112026
CREATED:20250728T140817Z
LAST-MODIFIED:20250728T140817Z
UID:10000077-1687689000-1687692600@henty.lutheran.org.au
SUMMARY:Worship Service
DESCRIPTION:
URL:https://henty.lutheran.org.au/event/worship-service-2/2023-06-25/
LOCATION:St Paul’s Henty\, 41 Lyne St\, Henty\, NSW\, 2658\, Australia
CATEGORIES:Worship
ATTACH;FMTTYPE=image/jpeg:https://henty.lutheran.org.au/wp-content/uploads/2018/11/DSCN4965-e1547603409710.jpg
GEO:-35.5179779;147.0294185
X-APPLE-STRUCTURED-LOCATION;VALUE=URI;X-ADDRESS=St Paul’s Henty 41 Lyne St Henty NSW 2658 Australia;X-APPLE-RADIUS=500;X-TITLE=41 Lyne St:geo:147.0294185,-35.5179779
END:VEVENT
BEGIN:VEVENT
DTSTART;TZID=Australia/Sydney:20230618T090000
DTEND;TZID=Australia/Sydney:20230618T100000
DTSTAMP:20260420T112026
CREATED:20250728T140817Z
LAST-MODIFIED:20250728T140817Z
UID:10000184-1687078800-1687082400@henty.lutheran.org.au
SUMMARY:Worship Service
DESCRIPTION:Join us for a cuppa after the service!
URL:https://henty.lutheran.org.au/event/worship-service/2023-06-18/
LOCATION:St Paul’s Henty\, 41 Lyne St\, Henty\, NSW\, 2658\, Australia
CATEGORIES:Worship
ATTACH;FMTTYPE=image/jpeg:https://henty.lutheran.org.au/wp-content/uploads/2018/11/DSCN4965-e1547603409710.jpg
GEO:-35.5179779;147.0294185
X-APPLE-STRUCTURED-LOCATION;VALUE=URI;X-ADDRESS=St Paul’s Henty 41 Lyne St Henty NSW 2658 Australia;X-APPLE-RADIUS=500;X-TITLE=41 Lyne St:geo:147.0294185,-35.5179779
END:VEVENT
BEGIN:VEVENT
DTSTART;TZID=Australia/Sydney:20230611T103000
DTEND;TZID=Australia/Sydney:20230611T113000
DTSTAMP:20260420T112026
CREATED:20220213T022451Z
LAST-MODIFIED:20220213T095801Z
UID:10000024-1686479400-1686483000@henty.lutheran.org.au
SUMMARY:Worship Service
DESCRIPTION:
URL:https://henty.lutheran.org.au/event/worship-service-2/2023-06-11/
LOCATION:St Paul’s Henty\, 41 Lyne St\, Henty\, NSW\, 2658\, Australia
CATEGORIES:Worship
ATTACH;FMTTYPE=image/jpeg:https://henty.lutheran.org.au/wp-content/uploads/2018/11/DSCN4965-e1547603409710.jpg
GEO:-35.5179779;147.0294185
X-APPLE-STRUCTURED-LOCATION;VALUE=URI;X-ADDRESS=St Paul’s Henty 41 Lyne St Henty NSW 2658 Australia;X-APPLE-RADIUS=500;X-TITLE=41 Lyne St:geo:147.0294185,-35.5179779
END:VEVENT
BEGIN:VEVENT
DTSTART;TZID=Australia/Sydney:20230604T090000
DTEND;TZID=Australia/Sydney:20230604T100000
DTSTAMP:20260420T112026
CREATED:20220213T022302Z
LAST-MODIFIED:20220213T095538Z
UID:10000131-1685869200-1685872800@henty.lutheran.org.au
SUMMARY:Worship Service
DESCRIPTION:Join us for a cuppa after the service!
URL:https://henty.lutheran.org.au/event/worship-service/2023-06-04/
LOCATION:St Paul’s Henty\, 41 Lyne St\, Henty\, NSW\, 2658\, Australia
CATEGORIES:Worship
ATTACH;FMTTYPE=image/jpeg:https://henty.lutheran.org.au/wp-content/uploads/2018/11/DSCN4965-e1547603409710.jpg
GEO:-35.5179779;147.0294185
X-APPLE-STRUCTURED-LOCATION;VALUE=URI;X-ADDRESS=St Paul’s Henty 41 Lyne St Henty NSW 2658 Australia;X-APPLE-RADIUS=500;X-TITLE=41 Lyne St:geo:147.0294185,-35.5179779
END:VEVENT
END:VCALENDAR