BEGIN:VCALENDAR
VERSION:2.0
PRODID:-//St Paul&#039;s Lutheran Church, Henty NSW - ECPv6.15.14//NONSGML v1.0//EN
CALSCALE:GREGORIAN
METHOD:PUBLISH
X-ORIGINAL-URL:https://henty.lutheran.org.au
X-WR-CALDESC:Events for St Paul&#039;s Lutheran Church, Henty NSW
REFRESH-INTERVAL;VALUE=DURATION:PT1H
X-Robots-Tag:noindex
X-PUBLISHED-TTL:PT1H
BEGIN:VTIMEZONE
TZID:Australia/Sydney
BEGIN:STANDARD
TZOFFSETFROM:+1100
TZOFFSETTO:+1000
TZNAME:AEST
DTSTART:20250405T160000
END:STANDARD
BEGIN:DAYLIGHT
TZOFFSETFROM:+1000
TZOFFSETTO:+1100
TZNAME:AEDT
DTSTART:20251004T160000
END:DAYLIGHT
BEGIN:STANDARD
TZOFFSETFROM:+1100
TZOFFSETTO:+1000
TZNAME:AEST
DTSTART:20260404T160000
END:STANDARD
BEGIN:DAYLIGHT
TZOFFSETFROM:+1000
TZOFFSETTO:+1100
TZNAME:AEDT
DTSTART:20261003T160000
END:DAYLIGHT
BEGIN:STANDARD
TZOFFSETFROM:+1100
TZOFFSETTO:+1000
TZNAME:AEST
DTSTART:20270403T160000
END:STANDARD
BEGIN:DAYLIGHT
TZOFFSETFROM:+1000
TZOFFSETTO:+1100
TZNAME:AEDT
DTSTART:20271002T160000
END:DAYLIGHT
BEGIN:STANDARD
TZOFFSETFROM:+1100
TZOFFSETTO:+1000
TZNAME:AEST
DTSTART:20280401T160000
END:STANDARD
BEGIN:DAYLIGHT
TZOFFSETFROM:+1000
TZOFFSETTO:+1100
TZNAME:AEDT
DTSTART:20280930T160000
END:DAYLIGHT
END:VTIMEZONE
BEGIN:VEVENT
DTSTART;TZID=Australia/Sydney:20260903T100000
DTEND;TZID=Australia/Sydney:20260903T110000
DTSTAMP:20260422T074926
CREATED:20260302T030200Z
LAST-MODIFIED:20260302T030200Z
UID:10000278-1788429600-1788433200@henty.lutheran.org.au
SUMMARY:Lenten Devotions
DESCRIPTION:Join us every Thursday during Lent at 10am for our Lenten Devotions!
URL:https://henty.lutheran.org.au/event/lenten-devotions/2026-09-03/
LOCATION:St Paul’s Henty\, 41 Lyne St\, Henty\, NSW\, 2658\, Australia
GEO:-35.5179779;147.0294185
X-APPLE-STRUCTURED-LOCATION;VALUE=URI;X-ADDRESS=St Paul’s Henty 41 Lyne St Henty NSW 2658 Australia;X-APPLE-RADIUS=500;X-TITLE=41 Lyne St:geo:147.0294185,-35.5179779
END:VEVENT
BEGIN:VEVENT
DTSTART;TZID=Australia/Sydney:20260910T100000
DTEND;TZID=Australia/Sydney:20260910T110000
DTSTAMP:20260422T074926
CREATED:20260302T030200Z
LAST-MODIFIED:20260302T030200Z
UID:10000279-1789034400-1789038000@henty.lutheran.org.au
SUMMARY:Lenten Devotions
DESCRIPTION:Join us every Thursday during Lent at 10am for our Lenten Devotions!
URL:https://henty.lutheran.org.au/event/lenten-devotions/2026-09-10/
LOCATION:St Paul’s Henty\, 41 Lyne St\, Henty\, NSW\, 2658\, Australia
GEO:-35.5179779;147.0294185
X-APPLE-STRUCTURED-LOCATION;VALUE=URI;X-ADDRESS=St Paul’s Henty 41 Lyne St Henty NSW 2658 Australia;X-APPLE-RADIUS=500;X-TITLE=41 Lyne St:geo:147.0294185,-35.5179779
END:VEVENT
BEGIN:VEVENT
DTSTART;TZID=Australia/Sydney:20260917T100000
DTEND;TZID=Australia/Sydney:20260917T110000
DTSTAMP:20260422T074926
CREATED:20260302T030200Z
LAST-MODIFIED:20260302T030200Z
UID:10000280-1789639200-1789642800@henty.lutheran.org.au
SUMMARY:Lenten Devotions
DESCRIPTION:Join us every Thursday during Lent at 10am for our Lenten Devotions!
URL:https://henty.lutheran.org.au/event/lenten-devotions/2026-09-17/
LOCATION:St Paul’s Henty\, 41 Lyne St\, Henty\, NSW\, 2658\, Australia
GEO:-35.5179779;147.0294185
X-APPLE-STRUCTURED-LOCATION;VALUE=URI;X-ADDRESS=St Paul’s Henty 41 Lyne St Henty NSW 2658 Australia;X-APPLE-RADIUS=500;X-TITLE=41 Lyne St:geo:147.0294185,-35.5179779
END:VEVENT
BEGIN:VEVENT
DTSTART;TZID=Australia/Sydney:20260924T100000
DTEND;TZID=Australia/Sydney:20260924T110000
DTSTAMP:20260422T074926
CREATED:20260302T030200Z
LAST-MODIFIED:20260302T030200Z
UID:10000281-1790244000-1790247600@henty.lutheran.org.au
SUMMARY:Lenten Devotions
DESCRIPTION:Join us every Thursday during Lent at 10am for our Lenten Devotions!
URL:https://henty.lutheran.org.au/event/lenten-devotions/2026-09-24/
LOCATION:St Paul’s Henty\, 41 Lyne St\, Henty\, NSW\, 2658\, Australia
GEO:-35.5179779;147.0294185
X-APPLE-STRUCTURED-LOCATION;VALUE=URI;X-ADDRESS=St Paul’s Henty 41 Lyne St Henty NSW 2658 Australia;X-APPLE-RADIUS=500;X-TITLE=41 Lyne St:geo:147.0294185,-35.5179779
END:VEVENT
BEGIN:VEVENT
DTSTART;TZID=Australia/Sydney:20261001T100000
DTEND;TZID=Australia/Sydney:20261001T110000
DTSTAMP:20260422T074926
CREATED:20260302T030200Z
LAST-MODIFIED:20260302T030200Z
UID:10000282-1790848800-1790852400@henty.lutheran.org.au
SUMMARY:Lenten Devotions
DESCRIPTION:Join us every Thursday during Lent at 10am for our Lenten Devotions!
URL:https://henty.lutheran.org.au/event/lenten-devotions/2026-10-01/
LOCATION:St Paul’s Henty\, 41 Lyne St\, Henty\, NSW\, 2658\, Australia
GEO:-35.5179779;147.0294185
X-APPLE-STRUCTURED-LOCATION;VALUE=URI;X-ADDRESS=St Paul’s Henty 41 Lyne St Henty NSW 2658 Australia;X-APPLE-RADIUS=500;X-TITLE=41 Lyne St:geo:147.0294185,-35.5179779
END:VEVENT
BEGIN:VEVENT
DTSTART;TZID=Australia/Sydney:20261008T100000
DTEND;TZID=Australia/Sydney:20261008T110000
DTSTAMP:20260422T074926
CREATED:20260302T030200Z
LAST-MODIFIED:20260302T030200Z
UID:10000283-1791453600-1791457200@henty.lutheran.org.au
SUMMARY:Lenten Devotions
DESCRIPTION:Join us every Thursday during Lent at 10am for our Lenten Devotions!
URL:https://henty.lutheran.org.au/event/lenten-devotions/2026-10-08/
LOCATION:St Paul’s Henty\, 41 Lyne St\, Henty\, NSW\, 2658\, Australia
GEO:-35.5179779;147.0294185
X-APPLE-STRUCTURED-LOCATION;VALUE=URI;X-ADDRESS=St Paul’s Henty 41 Lyne St Henty NSW 2658 Australia;X-APPLE-RADIUS=500;X-TITLE=41 Lyne St:geo:147.0294185,-35.5179779
END:VEVENT
BEGIN:VEVENT
DTSTART;TZID=Australia/Sydney:20261015T100000
DTEND;TZID=Australia/Sydney:20261015T110000
DTSTAMP:20260422T074926
CREATED:20260302T030200Z
LAST-MODIFIED:20260302T030200Z
UID:10000284-1792058400-1792062000@henty.lutheran.org.au
SUMMARY:Lenten Devotions
DESCRIPTION:Join us every Thursday during Lent at 10am for our Lenten Devotions!
URL:https://henty.lutheran.org.au/event/lenten-devotions/2026-10-15/
LOCATION:St Paul’s Henty\, 41 Lyne St\, Henty\, NSW\, 2658\, Australia
GEO:-35.5179779;147.0294185
X-APPLE-STRUCTURED-LOCATION;VALUE=URI;X-ADDRESS=St Paul’s Henty 41 Lyne St Henty NSW 2658 Australia;X-APPLE-RADIUS=500;X-TITLE=41 Lyne St:geo:147.0294185,-35.5179779
END:VEVENT
BEGIN:VEVENT
DTSTART;TZID=Australia/Sydney:20261022T100000
DTEND;TZID=Australia/Sydney:20261022T110000
DTSTAMP:20260422T074926
CREATED:20260302T030200Z
LAST-MODIFIED:20260302T030200Z
UID:10000285-1792663200-1792666800@henty.lutheran.org.au
SUMMARY:Lenten Devotions
DESCRIPTION:Join us every Thursday during Lent at 10am for our Lenten Devotions!
URL:https://henty.lutheran.org.au/event/lenten-devotions/2026-10-22/
LOCATION:St Paul’s Henty\, 41 Lyne St\, Henty\, NSW\, 2658\, Australia
GEO:-35.5179779;147.0294185
X-APPLE-STRUCTURED-LOCATION;VALUE=URI;X-ADDRESS=St Paul’s Henty 41 Lyne St Henty NSW 2658 Australia;X-APPLE-RADIUS=500;X-TITLE=41 Lyne St:geo:147.0294185,-35.5179779
END:VEVENT
BEGIN:VEVENT
DTSTART;TZID=Australia/Sydney:20261029T100000
DTEND;TZID=Australia/Sydney:20261029T110000
DTSTAMP:20260422T074926
CREATED:20260302T030200Z
LAST-MODIFIED:20260302T030200Z
UID:10000286-1793268000-1793271600@henty.lutheran.org.au
SUMMARY:Lenten Devotions
DESCRIPTION:Join us every Thursday during Lent at 10am for our Lenten Devotions!
URL:https://henty.lutheran.org.au/event/lenten-devotions/2026-10-29/
LOCATION:St Paul’s Henty\, 41 Lyne St\, Henty\, NSW\, 2658\, Australia
GEO:-35.5179779;147.0294185
X-APPLE-STRUCTURED-LOCATION;VALUE=URI;X-ADDRESS=St Paul’s Henty 41 Lyne St Henty NSW 2658 Australia;X-APPLE-RADIUS=500;X-TITLE=41 Lyne St:geo:147.0294185,-35.5179779
END:VEVENT
BEGIN:VEVENT
DTSTART;TZID=Australia/Sydney:20261105T100000
DTEND;TZID=Australia/Sydney:20261105T110000
DTSTAMP:20260422T074926
CREATED:20260302T030200Z
LAST-MODIFIED:20260302T030200Z
UID:10000287-1793872800-1793876400@henty.lutheran.org.au
SUMMARY:Lenten Devotions
DESCRIPTION:Join us every Thursday during Lent at 10am for our Lenten Devotions!
URL:https://henty.lutheran.org.au/event/lenten-devotions/2026-11-05/
LOCATION:St Paul’s Henty\, 41 Lyne St\, Henty\, NSW\, 2658\, Australia
GEO:-35.5179779;147.0294185
X-APPLE-STRUCTURED-LOCATION;VALUE=URI;X-ADDRESS=St Paul’s Henty 41 Lyne St Henty NSW 2658 Australia;X-APPLE-RADIUS=500;X-TITLE=41 Lyne St:geo:147.0294185,-35.5179779
END:VEVENT
BEGIN:VEVENT
DTSTART;TZID=Australia/Sydney:20261112T100000
DTEND;TZID=Australia/Sydney:20261112T110000
DTSTAMP:20260422T074926
CREATED:20260302T030200Z
LAST-MODIFIED:20260302T030200Z
UID:10000288-1794477600-1794481200@henty.lutheran.org.au
SUMMARY:Lenten Devotions
DESCRIPTION:Join us every Thursday during Lent at 10am for our Lenten Devotions!
URL:https://henty.lutheran.org.au/event/lenten-devotions/2026-11-12/
LOCATION:St Paul’s Henty\, 41 Lyne St\, Henty\, NSW\, 2658\, Australia
GEO:-35.5179779;147.0294185
X-APPLE-STRUCTURED-LOCATION;VALUE=URI;X-ADDRESS=St Paul’s Henty 41 Lyne St Henty NSW 2658 Australia;X-APPLE-RADIUS=500;X-TITLE=41 Lyne St:geo:147.0294185,-35.5179779
END:VEVENT
BEGIN:VEVENT
DTSTART;TZID=Australia/Sydney:20261119T100000
DTEND;TZID=Australia/Sydney:20261119T110000
DTSTAMP:20260422T074926
CREATED:20260302T030200Z
LAST-MODIFIED:20260302T030200Z
UID:10000289-1795082400-1795086000@henty.lutheran.org.au
SUMMARY:Lenten Devotions
DESCRIPTION:Join us every Thursday during Lent at 10am for our Lenten Devotions!
URL:https://henty.lutheran.org.au/event/lenten-devotions/2026-11-19/
LOCATION:St Paul’s Henty\, 41 Lyne St\, Henty\, NSW\, 2658\, Australia
GEO:-35.5179779;147.0294185
X-APPLE-STRUCTURED-LOCATION;VALUE=URI;X-ADDRESS=St Paul’s Henty 41 Lyne St Henty NSW 2658 Australia;X-APPLE-RADIUS=500;X-TITLE=41 Lyne St:geo:147.0294185,-35.5179779
END:VEVENT
BEGIN:VEVENT
DTSTART;TZID=Australia/Sydney:20261126T100000
DTEND;TZID=Australia/Sydney:20261126T110000
DTSTAMP:20260422T074926
CREATED:20260302T030200Z
LAST-MODIFIED:20260302T030200Z
UID:10000290-1795687200-1795690800@henty.lutheran.org.au
SUMMARY:Lenten Devotions
DESCRIPTION:Join us every Thursday during Lent at 10am for our Lenten Devotions!
URL:https://henty.lutheran.org.au/event/lenten-devotions/2026-11-26/
LOCATION:St Paul’s Henty\, 41 Lyne St\, Henty\, NSW\, 2658\, Australia
GEO:-35.5179779;147.0294185
X-APPLE-STRUCTURED-LOCATION;VALUE=URI;X-ADDRESS=St Paul’s Henty 41 Lyne St Henty NSW 2658 Australia;X-APPLE-RADIUS=500;X-TITLE=41 Lyne St:geo:147.0294185,-35.5179779
END:VEVENT
BEGIN:VEVENT
DTSTART;TZID=Australia/Sydney:20261129T100000
DTEND;TZID=Australia/Sydney:20261129T110000
DTSTAMP:20260422T074926
CREATED:20260109T062813Z
LAST-MODIFIED:20260109T062813Z
UID:10000234-1795946400-1795950000@henty.lutheran.org.au
SUMMARY:Parish Combined Worship Service
DESCRIPTION:Join us for a shared luncheon and a cuppa after the service! \nCombined Parish Service happens every 5th Sunday and is lead by the Pastor.
URL:https://henty.lutheran.org.au/event/parish-combined-worship-service/2026-11-29/
LOCATION:St Paul’s Henty\, 41 Lyne St\, Henty\, NSW\, 2658\, Australia
CATEGORIES:Worship
ATTACH;FMTTYPE=image/jpeg:https://henty.lutheran.org.au/wp-content/uploads/2018/12/DSCN4965.jpg
GEO:-35.5179779;147.0294185
X-APPLE-STRUCTURED-LOCATION;VALUE=URI;X-ADDRESS=St Paul’s Henty 41 Lyne St Henty NSW 2658 Australia;X-APPLE-RADIUS=500;X-TITLE=41 Lyne St:geo:147.0294185,-35.5179779
END:VEVENT
BEGIN:VEVENT
DTSTART;TZID=Australia/Sydney:20261129T100000
DTEND;TZID=Australia/Sydney:20261129T110000
DTSTAMP:20260422T074926
CREATED:20260302T031015Z
LAST-MODIFIED:20260302T031015Z
UID:10000314-1795946400-1795950000@henty.lutheran.org.au
SUMMARY:Palm Sunday Parish Combined Worship Service
DESCRIPTION:Join us for a shared luncheon and a cuppa after the service! \nCombined Parish Service happens every 5th Sunday and is lead by the Pastor.
URL:https://henty.lutheran.org.au/event/palm-sunday-parish-combined-worship-service/2026-11-29/
LOCATION:St Paul’s Henty\, 41 Lyne St\, Henty\, NSW\, 2658\, Australia
CATEGORIES:Worship
ATTACH;FMTTYPE=image/jpeg:https://henty.lutheran.org.au/wp-content/uploads/2018/12/DSCN4965.jpg
GEO:-35.5179779;147.0294185
X-APPLE-STRUCTURED-LOCATION;VALUE=URI;X-ADDRESS=St Paul’s Henty 41 Lyne St Henty NSW 2658 Australia;X-APPLE-RADIUS=500;X-TITLE=41 Lyne St:geo:147.0294185,-35.5179779
END:VEVENT
BEGIN:VEVENT
DTSTART;TZID=Australia/Sydney:20261203T100000
DTEND;TZID=Australia/Sydney:20261203T110000
DTSTAMP:20260422T074926
CREATED:20260302T030200Z
LAST-MODIFIED:20260302T030200Z
UID:10000291-1796292000-1796295600@henty.lutheran.org.au
SUMMARY:Lenten Devotions
DESCRIPTION:Join us every Thursday during Lent at 10am for our Lenten Devotions!
URL:https://henty.lutheran.org.au/event/lenten-devotions/2026-12-03/
LOCATION:St Paul’s Henty\, 41 Lyne St\, Henty\, NSW\, 2658\, Australia
GEO:-35.5179779;147.0294185
X-APPLE-STRUCTURED-LOCATION;VALUE=URI;X-ADDRESS=St Paul’s Henty 41 Lyne St Henty NSW 2658 Australia;X-APPLE-RADIUS=500;X-TITLE=41 Lyne St:geo:147.0294185,-35.5179779
END:VEVENT
BEGIN:VEVENT
DTSTART;TZID=Australia/Sydney:20261210T100000
DTEND;TZID=Australia/Sydney:20261210T110000
DTSTAMP:20260422T074926
CREATED:20260302T030200Z
LAST-MODIFIED:20260302T030200Z
UID:10000292-1796896800-1796900400@henty.lutheran.org.au
SUMMARY:Lenten Devotions
DESCRIPTION:Join us every Thursday during Lent at 10am for our Lenten Devotions!
URL:https://henty.lutheran.org.au/event/lenten-devotions/2026-12-10/
LOCATION:St Paul’s Henty\, 41 Lyne St\, Henty\, NSW\, 2658\, Australia
GEO:-35.5179779;147.0294185
X-APPLE-STRUCTURED-LOCATION;VALUE=URI;X-ADDRESS=St Paul’s Henty 41 Lyne St Henty NSW 2658 Australia;X-APPLE-RADIUS=500;X-TITLE=41 Lyne St:geo:147.0294185,-35.5179779
END:VEVENT
BEGIN:VEVENT
DTSTART;TZID=Australia/Sydney:20261217T100000
DTEND;TZID=Australia/Sydney:20261217T110000
DTSTAMP:20260422T074926
CREATED:20260302T030200Z
LAST-MODIFIED:20260302T030200Z
UID:10000293-1797501600-1797505200@henty.lutheran.org.au
SUMMARY:Lenten Devotions
DESCRIPTION:Join us every Thursday during Lent at 10am for our Lenten Devotions!
URL:https://henty.lutheran.org.au/event/lenten-devotions/2026-12-17/
LOCATION:St Paul’s Henty\, 41 Lyne St\, Henty\, NSW\, 2658\, Australia
GEO:-35.5179779;147.0294185
X-APPLE-STRUCTURED-LOCATION;VALUE=URI;X-ADDRESS=St Paul’s Henty 41 Lyne St Henty NSW 2658 Australia;X-APPLE-RADIUS=500;X-TITLE=41 Lyne St:geo:147.0294185,-35.5179779
END:VEVENT
BEGIN:VEVENT
DTSTART;TZID=Australia/Sydney:20261224T100000
DTEND;TZID=Australia/Sydney:20261224T110000
DTSTAMP:20260422T074926
CREATED:20260302T030200Z
LAST-MODIFIED:20260302T030200Z
UID:10000294-1798106400-1798110000@henty.lutheran.org.au
SUMMARY:Lenten Devotions
DESCRIPTION:Join us every Thursday during Lent at 10am for our Lenten Devotions!
URL:https://henty.lutheran.org.au/event/lenten-devotions/2026-12-24/
LOCATION:St Paul’s Henty\, 41 Lyne St\, Henty\, NSW\, 2658\, Australia
GEO:-35.5179779;147.0294185
X-APPLE-STRUCTURED-LOCATION;VALUE=URI;X-ADDRESS=St Paul’s Henty 41 Lyne St Henty NSW 2658 Australia;X-APPLE-RADIUS=500;X-TITLE=41 Lyne St:geo:147.0294185,-35.5179779
END:VEVENT
BEGIN:VEVENT
DTSTART;TZID=Australia/Sydney:20261231T100000
DTEND;TZID=Australia/Sydney:20261231T110000
DTSTAMP:20260422T074926
CREATED:20260302T030200Z
LAST-MODIFIED:20260302T030200Z
UID:10000295-1798711200-1798714800@henty.lutheran.org.au
SUMMARY:Lenten Devotions
DESCRIPTION:Join us every Thursday during Lent at 10am for our Lenten Devotions!
URL:https://henty.lutheran.org.au/event/lenten-devotions/2026-12-31/
LOCATION:St Paul’s Henty\, 41 Lyne St\, Henty\, NSW\, 2658\, Australia
GEO:-35.5179779;147.0294185
X-APPLE-STRUCTURED-LOCATION;VALUE=URI;X-ADDRESS=St Paul’s Henty 41 Lyne St Henty NSW 2658 Australia;X-APPLE-RADIUS=500;X-TITLE=41 Lyne St:geo:147.0294185,-35.5179779
END:VEVENT
BEGIN:VEVENT
DTSTART;TZID=Australia/Sydney:20270107T100000
DTEND;TZID=Australia/Sydney:20270107T110000
DTSTAMP:20260422T074926
CREATED:20260302T030200Z
LAST-MODIFIED:20260302T030200Z
UID:10000296-1799316000-1799319600@henty.lutheran.org.au
SUMMARY:Lenten Devotions
DESCRIPTION:Join us every Thursday during Lent at 10am for our Lenten Devotions!
URL:https://henty.lutheran.org.au/event/lenten-devotions/2027-01-07/
LOCATION:St Paul’s Henty\, 41 Lyne St\, Henty\, NSW\, 2658\, Australia
GEO:-35.5179779;147.0294185
X-APPLE-STRUCTURED-LOCATION;VALUE=URI;X-ADDRESS=St Paul’s Henty 41 Lyne St Henty NSW 2658 Australia;X-APPLE-RADIUS=500;X-TITLE=41 Lyne St:geo:147.0294185,-35.5179779
END:VEVENT
BEGIN:VEVENT
DTSTART;TZID=Australia/Sydney:20270114T100000
DTEND;TZID=Australia/Sydney:20270114T110000
DTSTAMP:20260422T074926
CREATED:20260302T030200Z
LAST-MODIFIED:20260302T030200Z
UID:10000297-1799920800-1799924400@henty.lutheran.org.au
SUMMARY:Lenten Devotions
DESCRIPTION:Join us every Thursday during Lent at 10am for our Lenten Devotions!
URL:https://henty.lutheran.org.au/event/lenten-devotions/2027-01-14/
LOCATION:St Paul’s Henty\, 41 Lyne St\, Henty\, NSW\, 2658\, Australia
GEO:-35.5179779;147.0294185
X-APPLE-STRUCTURED-LOCATION;VALUE=URI;X-ADDRESS=St Paul’s Henty 41 Lyne St Henty NSW 2658 Australia;X-APPLE-RADIUS=500;X-TITLE=41 Lyne St:geo:147.0294185,-35.5179779
END:VEVENT
BEGIN:VEVENT
DTSTART;TZID=Australia/Sydney:20270121T100000
DTEND;TZID=Australia/Sydney:20270121T110000
DTSTAMP:20260422T074926
CREATED:20260302T030200Z
LAST-MODIFIED:20260302T030200Z
UID:10000298-1800525600-1800529200@henty.lutheran.org.au
SUMMARY:Lenten Devotions
DESCRIPTION:Join us every Thursday during Lent at 10am for our Lenten Devotions!
URL:https://henty.lutheran.org.au/event/lenten-devotions/2027-01-21/
LOCATION:St Paul’s Henty\, 41 Lyne St\, Henty\, NSW\, 2658\, Australia
GEO:-35.5179779;147.0294185
X-APPLE-STRUCTURED-LOCATION;VALUE=URI;X-ADDRESS=St Paul’s Henty 41 Lyne St Henty NSW 2658 Australia;X-APPLE-RADIUS=500;X-TITLE=41 Lyne St:geo:147.0294185,-35.5179779
END:VEVENT
BEGIN:VEVENT
DTSTART;TZID=Australia/Sydney:20270128T100000
DTEND;TZID=Australia/Sydney:20270128T110000
DTSTAMP:20260422T074926
CREATED:20260302T030200Z
LAST-MODIFIED:20260302T030200Z
UID:10000299-1801130400-1801134000@henty.lutheran.org.au
SUMMARY:Lenten Devotions
DESCRIPTION:Join us every Thursday during Lent at 10am for our Lenten Devotions!
URL:https://henty.lutheran.org.au/event/lenten-devotions/2027-01-28/
LOCATION:St Paul’s Henty\, 41 Lyne St\, Henty\, NSW\, 2658\, Australia
GEO:-35.5179779;147.0294185
X-APPLE-STRUCTURED-LOCATION;VALUE=URI;X-ADDRESS=St Paul’s Henty 41 Lyne St Henty NSW 2658 Australia;X-APPLE-RADIUS=500;X-TITLE=41 Lyne St:geo:147.0294185,-35.5179779
END:VEVENT
BEGIN:VEVENT
DTSTART;TZID=Australia/Sydney:20270131T100000
DTEND;TZID=Australia/Sydney:20270131T110000
DTSTAMP:20260422T074926
CREATED:20260109T062813Z
LAST-MODIFIED:20260109T062813Z
UID:10000235-1801389600-1801393200@henty.lutheran.org.au
SUMMARY:Parish Combined Worship Service
DESCRIPTION:Join us for a shared luncheon and a cuppa after the service! \nCombined Parish Service happens every 5th Sunday and is lead by the Pastor.
URL:https://henty.lutheran.org.au/event/parish-combined-worship-service/2027-01-31/
LOCATION:St Paul’s Henty\, 41 Lyne St\, Henty\, NSW\, 2658\, Australia
CATEGORIES:Worship
ATTACH;FMTTYPE=image/jpeg:https://henty.lutheran.org.au/wp-content/uploads/2018/12/DSCN4965.jpg
GEO:-35.5179779;147.0294185
X-APPLE-STRUCTURED-LOCATION;VALUE=URI;X-ADDRESS=St Paul’s Henty 41 Lyne St Henty NSW 2658 Australia;X-APPLE-RADIUS=500;X-TITLE=41 Lyne St:geo:147.0294185,-35.5179779
END:VEVENT
BEGIN:VEVENT
DTSTART;TZID=Australia/Sydney:20270131T100000
DTEND;TZID=Australia/Sydney:20270131T110000
DTSTAMP:20260422T074926
CREATED:20260302T031015Z
LAST-MODIFIED:20260302T031015Z
UID:10000315-1801389600-1801393200@henty.lutheran.org.au
SUMMARY:Palm Sunday Parish Combined Worship Service
DESCRIPTION:Join us for a shared luncheon and a cuppa after the service! \nCombined Parish Service happens every 5th Sunday and is lead by the Pastor.
URL:https://henty.lutheran.org.au/event/palm-sunday-parish-combined-worship-service/2027-01-31/
LOCATION:St Paul’s Henty\, 41 Lyne St\, Henty\, NSW\, 2658\, Australia
CATEGORIES:Worship
ATTACH;FMTTYPE=image/jpeg:https://henty.lutheran.org.au/wp-content/uploads/2018/12/DSCN4965.jpg
GEO:-35.5179779;147.0294185
X-APPLE-STRUCTURED-LOCATION;VALUE=URI;X-ADDRESS=St Paul’s Henty 41 Lyne St Henty NSW 2658 Australia;X-APPLE-RADIUS=500;X-TITLE=41 Lyne St:geo:147.0294185,-35.5179779
END:VEVENT
BEGIN:VEVENT
DTSTART;TZID=Australia/Sydney:20270204T100000
DTEND;TZID=Australia/Sydney:20270204T110000
DTSTAMP:20260422T074926
CREATED:20260302T030200Z
LAST-MODIFIED:20260302T030200Z
UID:10000300-1801735200-1801738800@henty.lutheran.org.au
SUMMARY:Lenten Devotions
DESCRIPTION:Join us every Thursday during Lent at 10am for our Lenten Devotions!
URL:https://henty.lutheran.org.au/event/lenten-devotions/2027-02-04/
LOCATION:St Paul’s Henty\, 41 Lyne St\, Henty\, NSW\, 2658\, Australia
GEO:-35.5179779;147.0294185
X-APPLE-STRUCTURED-LOCATION;VALUE=URI;X-ADDRESS=St Paul’s Henty 41 Lyne St Henty NSW 2658 Australia;X-APPLE-RADIUS=500;X-TITLE=41 Lyne St:geo:147.0294185,-35.5179779
END:VEVENT
BEGIN:VEVENT
DTSTART;TZID=Australia/Sydney:20270211T100000
DTEND;TZID=Australia/Sydney:20270211T110000
DTSTAMP:20260422T074926
CREATED:20260302T030200Z
LAST-MODIFIED:20260302T030200Z
UID:10000301-1802340000-1802343600@henty.lutheran.org.au
SUMMARY:Lenten Devotions
DESCRIPTION:Join us every Thursday during Lent at 10am for our Lenten Devotions!
URL:https://henty.lutheran.org.au/event/lenten-devotions/2027-02-11/
LOCATION:St Paul’s Henty\, 41 Lyne St\, Henty\, NSW\, 2658\, Australia
GEO:-35.5179779;147.0294185
X-APPLE-STRUCTURED-LOCATION;VALUE=URI;X-ADDRESS=St Paul’s Henty 41 Lyne St Henty NSW 2658 Australia;X-APPLE-RADIUS=500;X-TITLE=41 Lyne St:geo:147.0294185,-35.5179779
END:VEVENT
BEGIN:VEVENT
DTSTART;TZID=Australia/Sydney:20270218T100000
DTEND;TZID=Australia/Sydney:20270218T110000
DTSTAMP:20260422T074927
CREATED:20260302T030200Z
LAST-MODIFIED:20260302T030200Z
UID:10000302-1802944800-1802948400@henty.lutheran.org.au
SUMMARY:Lenten Devotions
DESCRIPTION:Join us every Thursday during Lent at 10am for our Lenten Devotions!
URL:https://henty.lutheran.org.au/event/lenten-devotions/2027-02-18/
LOCATION:St Paul’s Henty\, 41 Lyne St\, Henty\, NSW\, 2658\, Australia
GEO:-35.5179779;147.0294185
X-APPLE-STRUCTURED-LOCATION;VALUE=URI;X-ADDRESS=St Paul’s Henty 41 Lyne St Henty NSW 2658 Australia;X-APPLE-RADIUS=500;X-TITLE=41 Lyne St:geo:147.0294185,-35.5179779
END:VEVENT
BEGIN:VEVENT
DTSTART;TZID=Australia/Sydney:20270225T100000
DTEND;TZID=Australia/Sydney:20270225T110000
DTSTAMP:20260422T074927
CREATED:20260302T030200Z
LAST-MODIFIED:20260302T030200Z
UID:10000303-1803549600-1803553200@henty.lutheran.org.au
SUMMARY:Lenten Devotions
DESCRIPTION:Join us every Thursday during Lent at 10am for our Lenten Devotions!
URL:https://henty.lutheran.org.au/event/lenten-devotions/2027-02-25/
LOCATION:St Paul’s Henty\, 41 Lyne St\, Henty\, NSW\, 2658\, Australia
GEO:-35.5179779;147.0294185
X-APPLE-STRUCTURED-LOCATION;VALUE=URI;X-ADDRESS=St Paul’s Henty 41 Lyne St Henty NSW 2658 Australia;X-APPLE-RADIUS=500;X-TITLE=41 Lyne St:geo:147.0294185,-35.5179779
END:VEVENT
END:VCALENDAR