BEGIN:VCALENDAR
VERSION:2.0
PRODID:-//St Paul&#039;s Lutheran Church, Henty NSW - ECPv6.15.14//NONSGML v1.0//EN
CALSCALE:GREGORIAN
METHOD:PUBLISH
X-ORIGINAL-URL:https://henty.lutheran.org.au
X-WR-CALDESC:Events for St Paul&#039;s Lutheran Church, Henty NSW
REFRESH-INTERVAL;VALUE=DURATION:PT1H
X-Robots-Tag:noindex
X-PUBLISHED-TTL:PT1H
BEGIN:VTIMEZONE
TZID:Australia/Sydney
BEGIN:STANDARD
TZOFFSETFROM:+1100
TZOFFSETTO:+1000
TZNAME:AEST
DTSTART:20240406T160000
END:STANDARD
BEGIN:DAYLIGHT
TZOFFSETFROM:+1000
TZOFFSETTO:+1100
TZNAME:AEDT
DTSTART:20241005T160000
END:DAYLIGHT
BEGIN:STANDARD
TZOFFSETFROM:+1100
TZOFFSETTO:+1000
TZNAME:AEST
DTSTART:20250405T160000
END:STANDARD
BEGIN:DAYLIGHT
TZOFFSETFROM:+1000
TZOFFSETTO:+1100
TZNAME:AEDT
DTSTART:20251004T160000
END:DAYLIGHT
BEGIN:STANDARD
TZOFFSETFROM:+1100
TZOFFSETTO:+1000
TZNAME:AEST
DTSTART:20260404T160000
END:STANDARD
BEGIN:DAYLIGHT
TZOFFSETFROM:+1000
TZOFFSETTO:+1100
TZNAME:AEDT
DTSTART:20261003T160000
END:DAYLIGHT
BEGIN:STANDARD
TZOFFSETFROM:+1100
TZOFFSETTO:+1000
TZNAME:AEST
DTSTART:20270403T160000
END:STANDARD
BEGIN:DAYLIGHT
TZOFFSETFROM:+1000
TZOFFSETTO:+1100
TZNAME:AEDT
DTSTART:20271002T160000
END:DAYLIGHT
END:VTIMEZONE
BEGIN:VEVENT
DTSTART;TZID=Australia/Sydney:20260405T063000
DTEND;TZID=Australia/Sydney:20260405T193000
DTSTAMP:20260422T012310
CREATED:20260302T033248Z
LAST-MODIFIED:20260302T033248Z
UID:10000333-1775370600-1775417400@henty.lutheran.org.au
SUMMARY:Easter Dawn Service
DESCRIPTION:We will be holding an Dawn Service on Easter Sunday at 630am
URL:https://henty.lutheran.org.au/event/easter-dawn-service-2/
LOCATION:St Paul’s Henty\, 41 Lyne St\, Henty\, NSW\, 2658\, Australia
GEO:-35.5179779;147.0294185
X-APPLE-STRUCTURED-LOCATION;VALUE=URI;X-ADDRESS=St Paul’s Henty 41 Lyne St Henty NSW 2658 Australia;X-APPLE-RADIUS=500;X-TITLE=41 Lyne St:geo:147.0294185,-35.5179779
END:VEVENT
BEGIN:VEVENT
DTSTART;TZID=Australia/Sydney:20260403T103000
DTEND;TZID=Australia/Sydney:20260403T103000
DTSTAMP:20260422T012310
CREATED:20260302T030725Z
LAST-MODIFIED:20260302T031114Z
UID:10000309-1775212200-1775212200@henty.lutheran.org.au
SUMMARY:Good Friday Service-Henty
DESCRIPTION:Our Good Friday service will be held at 1030 at Henty/Pleasant Hills. There will also be an 830am Service at Culcairn
URL:https://henty.lutheran.org.au/event/good-friday-service-henty/
LOCATION:St Paul’s Henty\, 41 Lyne St\, Henty\, NSW\, 2658\, Australia
GEO:-35.5179779;147.0294185
X-APPLE-STRUCTURED-LOCATION;VALUE=URI;X-ADDRESS=St Paul’s Henty 41 Lyne St Henty NSW 2658 Australia;X-APPLE-RADIUS=500;X-TITLE=41 Lyne St:geo:147.0294185,-35.5179779
END:VEVENT
BEGIN:VEVENT
DTSTART;TZID=Australia/Sydney:20260403T083000
DTEND;TZID=Australia/Sydney:20260403T093000
DTSTAMP:20260422T012310
CREATED:20260302T030859Z
LAST-MODIFIED:20260302T034211Z
UID:10000310-1775205000-1775208600@henty.lutheran.org.au
SUMMARY:Good Friday Service-Culcairn
DESCRIPTION:Culcairn will be holding a Good Friday service at 830am. There will also be a 1030am service for Henty/Pleasant Hills
URL:https://henty.lutheran.org.au/event/good-friday-service-culcairn/
LOCATION:St Stephen Church\, Culcairn\, cnr McBean & Henty St\, NSW\, Australia
GEO:-35.6643703;147.0352891
X-APPLE-STRUCTURED-LOCATION;VALUE=URI;X-ADDRESS=St Stephen Church Culcairn cnr McBean & Henty St NSW Australia;X-APPLE-RADIUS=500;X-TITLE=cnr McBean & Henty St:geo:147.0352891,-35.6643703
END:VEVENT
BEGIN:VEVENT
DTSTART;TZID=Australia/Sydney:20260402T193000
DTEND;TZID=Australia/Sydney:20260402T200000
DTSTAMP:20260422T012310
CREATED:20260302T030509Z
LAST-MODIFIED:20260302T030509Z
UID:10000308-1775158200-1775160000@henty.lutheran.org.au
SUMMARY:Maundy Thursday Service
DESCRIPTION:Our Maundy Thursday service will be held at 730pm in Henty!
URL:https://henty.lutheran.org.au/event/maundy-thursday-service/
LOCATION:St Paul’s Henty\, 41 Lyne St\, Henty\, NSW\, 2658\, Australia
GEO:-35.5179779;147.0294185
X-APPLE-STRUCTURED-LOCATION;VALUE=URI;X-ADDRESS=St Paul’s Henty 41 Lyne St Henty NSW 2658 Australia;X-APPLE-RADIUS=500;X-TITLE=41 Lyne St:geo:147.0294185,-35.5179779
END:VEVENT
BEGIN:VEVENT
DTSTART;TZID=Australia/Sydney:20260402T100000
DTEND;TZID=Australia/Sydney:20260402T110000
DTSTAMP:20260422T012310
CREATED:20260302T030200Z
LAST-MODIFIED:20260302T030200Z
UID:10000256-1775124000-1775127600@henty.lutheran.org.au
SUMMARY:Lenten Devotions
DESCRIPTION:Join us every Thursday during Lent at 10am for our Lenten Devotions!
URL:https://henty.lutheran.org.au/event/lenten-devotions/2026-04-02/
LOCATION:St Paul’s Henty\, 41 Lyne St\, Henty\, NSW\, 2658\, Australia
GEO:-35.5179779;147.0294185
X-APPLE-STRUCTURED-LOCATION;VALUE=URI;X-ADDRESS=St Paul’s Henty 41 Lyne St Henty NSW 2658 Australia;X-APPLE-RADIUS=500;X-TITLE=41 Lyne St:geo:147.0294185,-35.5179779
END:VEVENT
BEGIN:VEVENT
DTSTART;TZID=Australia/Sydney:20260329T100000
DTEND;TZID=Australia/Sydney:20260329T110000
DTSTAMP:20260422T012310
CREATED:20260302T031015Z
LAST-MODIFIED:20260302T031015Z
UID:10000311-1774778400-1774782000@henty.lutheran.org.au
SUMMARY:Palm Sunday Parish Combined Worship Service
DESCRIPTION:Join us for a shared luncheon and a cuppa after the service! \nCombined Parish Service happens every 5th Sunday and is lead by the Pastor.
URL:https://henty.lutheran.org.au/event/palm-sunday-parish-combined-worship-service/2026-03-29/
LOCATION:St Paul’s Henty\, 41 Lyne St\, Henty\, NSW\, 2658\, Australia
CATEGORIES:Worship
ATTACH;FMTTYPE=image/jpeg:https://henty.lutheran.org.au/wp-content/uploads/2018/12/DSCN4965.jpg
GEO:-35.5179779;147.0294185
X-APPLE-STRUCTURED-LOCATION;VALUE=URI;X-ADDRESS=St Paul’s Henty 41 Lyne St Henty NSW 2658 Australia;X-APPLE-RADIUS=500;X-TITLE=41 Lyne St:geo:147.0294185,-35.5179779
END:VEVENT
BEGIN:VEVENT
DTSTART;TZID=Australia/Sydney:20260326T100000
DTEND;TZID=Australia/Sydney:20260326T110000
DTSTAMP:20260422T012310
CREATED:20260302T030200Z
LAST-MODIFIED:20260302T030200Z
UID:10000255-1774519200-1774522800@henty.lutheran.org.au
SUMMARY:Lenten Devotions
DESCRIPTION:Join us every Thursday during Lent at 10am for our Lenten Devotions!
URL:https://henty.lutheran.org.au/event/lenten-devotions/2026-03-26/
LOCATION:St Paul’s Henty\, 41 Lyne St\, Henty\, NSW\, 2658\, Australia
GEO:-35.5179779;147.0294185
X-APPLE-STRUCTURED-LOCATION;VALUE=URI;X-ADDRESS=St Paul’s Henty 41 Lyne St Henty NSW 2658 Australia;X-APPLE-RADIUS=500;X-TITLE=41 Lyne St:geo:147.0294185,-35.5179779
END:VEVENT
BEGIN:VEVENT
DTSTART;TZID=Australia/Sydney:20260322T103000
DTEND;TZID=Australia/Sydney:20260322T113000
DTSTAMP:20260422T012310
CREATED:20250728T140817Z
LAST-MODIFIED:20250728T140817Z
UID:10000110-1774175400-1774179000@henty.lutheran.org.au
SUMMARY:Worship Service
DESCRIPTION:
URL:https://henty.lutheran.org.au/event/worship-service-2/2026-03-22/
LOCATION:St Paul’s Henty\, 41 Lyne St\, Henty\, NSW\, 2658\, Australia
CATEGORIES:Worship
ATTACH;FMTTYPE=image/jpeg:https://henty.lutheran.org.au/wp-content/uploads/2018/11/DSCN4965-e1547603409710.jpg
GEO:-35.5179779;147.0294185
X-APPLE-STRUCTURED-LOCATION;VALUE=URI;X-ADDRESS=St Paul’s Henty 41 Lyne St Henty NSW 2658 Australia;X-APPLE-RADIUS=500;X-TITLE=41 Lyne St:geo:147.0294185,-35.5179779
END:VEVENT
BEGIN:VEVENT
DTSTART;TZID=Australia/Sydney:20260319T100000
DTEND;TZID=Australia/Sydney:20260319T110000
DTSTAMP:20260422T012310
CREATED:20260302T030200Z
LAST-MODIFIED:20260302T030200Z
UID:10000254-1773914400-1773918000@henty.lutheran.org.au
SUMMARY:Lenten Devotions
DESCRIPTION:Join us every Thursday during Lent at 10am for our Lenten Devotions!
URL:https://henty.lutheran.org.au/event/lenten-devotions/2026-03-19/
LOCATION:St Paul’s Henty\, 41 Lyne St\, Henty\, NSW\, 2658\, Australia
GEO:-35.5179779;147.0294185
X-APPLE-STRUCTURED-LOCATION;VALUE=URI;X-ADDRESS=St Paul’s Henty 41 Lyne St Henty NSW 2658 Australia;X-APPLE-RADIUS=500;X-TITLE=41 Lyne St:geo:147.0294185,-35.5179779
END:VEVENT
BEGIN:VEVENT
DTSTART;TZID=Australia/Sydney:20260315T090000
DTEND;TZID=Australia/Sydney:20260315T100000
DTSTAMP:20260422T012310
CREATED:20250728T140817Z
LAST-MODIFIED:20250728T140817Z
UID:10000217-1773565200-1773568800@henty.lutheran.org.au
SUMMARY:Worship Service
DESCRIPTION:Join us for a cuppa after the service!
URL:https://henty.lutheran.org.au/event/worship-service/2026-03-15/
LOCATION:St Paul’s Henty\, 41 Lyne St\, Henty\, NSW\, 2658\, Australia
CATEGORIES:Worship
ATTACH;FMTTYPE=image/jpeg:https://henty.lutheran.org.au/wp-content/uploads/2018/11/DSCN4965-e1547603409710.jpg
GEO:-35.5179779;147.0294185
X-APPLE-STRUCTURED-LOCATION;VALUE=URI;X-ADDRESS=St Paul’s Henty 41 Lyne St Henty NSW 2658 Australia;X-APPLE-RADIUS=500;X-TITLE=41 Lyne St:geo:147.0294185,-35.5179779
END:VEVENT
BEGIN:VEVENT
DTSTART;TZID=Australia/Sydney:20260312T100000
DTEND;TZID=Australia/Sydney:20260312T110000
DTSTAMP:20260422T012310
CREATED:20260302T030200Z
LAST-MODIFIED:20260302T030200Z
UID:10000253-1773309600-1773313200@henty.lutheran.org.au
SUMMARY:Lenten Devotions
DESCRIPTION:Join us every Thursday during Lent at 10am for our Lenten Devotions!
URL:https://henty.lutheran.org.au/event/lenten-devotions/2026-03-12/
LOCATION:St Paul’s Henty\, 41 Lyne St\, Henty\, NSW\, 2658\, Australia
GEO:-35.5179779;147.0294185
X-APPLE-STRUCTURED-LOCATION;VALUE=URI;X-ADDRESS=St Paul’s Henty 41 Lyne St Henty NSW 2658 Australia;X-APPLE-RADIUS=500;X-TITLE=41 Lyne St:geo:147.0294185,-35.5179779
END:VEVENT
BEGIN:VEVENT
DTSTART;TZID=Australia/Sydney:20260308T103000
DTEND;TZID=Australia/Sydney:20260308T113000
DTSTAMP:20260422T012310
CREATED:20220213T022451Z
LAST-MODIFIED:20220213T095801Z
UID:10000057-1772965800-1772969400@henty.lutheran.org.au
SUMMARY:Worship Service
DESCRIPTION:
URL:https://henty.lutheran.org.au/event/worship-service-2/2026-03-08/
LOCATION:St Paul’s Henty\, 41 Lyne St\, Henty\, NSW\, 2658\, Australia
CATEGORIES:Worship
ATTACH;FMTTYPE=image/jpeg:https://henty.lutheran.org.au/wp-content/uploads/2018/11/DSCN4965-e1547603409710.jpg
GEO:-35.5179779;147.0294185
X-APPLE-STRUCTURED-LOCATION;VALUE=URI;X-ADDRESS=St Paul’s Henty 41 Lyne St Henty NSW 2658 Australia;X-APPLE-RADIUS=500;X-TITLE=41 Lyne St:geo:147.0294185,-35.5179779
END:VEVENT
BEGIN:VEVENT
DTSTART;TZID=Australia/Sydney:20260305T100000
DTEND;TZID=Australia/Sydney:20260305T110000
DTSTAMP:20260422T012310
CREATED:20260302T030200Z
LAST-MODIFIED:20260302T030200Z
UID:10000252-1772704800-1772708400@henty.lutheran.org.au
SUMMARY:Lenten Devotions
DESCRIPTION:Join us every Thursday during Lent at 10am for our Lenten Devotions!
URL:https://henty.lutheran.org.au/event/lenten-devotions/2026-03-05/
LOCATION:St Paul’s Henty\, 41 Lyne St\, Henty\, NSW\, 2658\, Australia
GEO:-35.5179779;147.0294185
X-APPLE-STRUCTURED-LOCATION;VALUE=URI;X-ADDRESS=St Paul’s Henty 41 Lyne St Henty NSW 2658 Australia;X-APPLE-RADIUS=500;X-TITLE=41 Lyne St:geo:147.0294185,-35.5179779
END:VEVENT
BEGIN:VEVENT
DTSTART;TZID=Australia/Sydney:20260301T090000
DTEND;TZID=Australia/Sydney:20260301T100000
DTSTAMP:20260422T012310
CREATED:20220213T022302Z
LAST-MODIFIED:20220213T095538Z
UID:10000164-1772355600-1772359200@henty.lutheran.org.au
SUMMARY:Worship Service
DESCRIPTION:Join us for a cuppa after the service!
URL:https://henty.lutheran.org.au/event/worship-service/2026-03-01/
LOCATION:St Paul’s Henty\, 41 Lyne St\, Henty\, NSW\, 2658\, Australia
CATEGORIES:Worship
ATTACH;FMTTYPE=image/jpeg:https://henty.lutheran.org.au/wp-content/uploads/2018/11/DSCN4965-e1547603409710.jpg
GEO:-35.5179779;147.0294185
X-APPLE-STRUCTURED-LOCATION;VALUE=URI;X-ADDRESS=St Paul’s Henty 41 Lyne St Henty NSW 2658 Australia;X-APPLE-RADIUS=500;X-TITLE=41 Lyne St:geo:147.0294185,-35.5179779
END:VEVENT
BEGIN:VEVENT
DTSTART;TZID=Australia/Sydney:20260222T103000
DTEND;TZID=Australia/Sydney:20260222T113000
DTSTAMP:20260422T012310
CREATED:20250728T140817Z
LAST-MODIFIED:20250728T140817Z
UID:10000109-1771756200-1771759800@henty.lutheran.org.au
SUMMARY:Worship Service
DESCRIPTION:
URL:https://henty.lutheran.org.au/event/worship-service-2/2026-02-22/
LOCATION:St Paul’s Henty\, 41 Lyne St\, Henty\, NSW\, 2658\, Australia
CATEGORIES:Worship
ATTACH;FMTTYPE=image/jpeg:https://henty.lutheran.org.au/wp-content/uploads/2018/11/DSCN4965-e1547603409710.jpg
GEO:-35.5179779;147.0294185
X-APPLE-STRUCTURED-LOCATION;VALUE=URI;X-ADDRESS=St Paul’s Henty 41 Lyne St Henty NSW 2658 Australia;X-APPLE-RADIUS=500;X-TITLE=41 Lyne St:geo:147.0294185,-35.5179779
END:VEVENT
BEGIN:VEVENT
DTSTART;TZID=Australia/Sydney:20260215T090000
DTEND;TZID=Australia/Sydney:20260215T100000
DTSTAMP:20260422T012310
CREATED:20250728T140817Z
LAST-MODIFIED:20250728T140817Z
UID:10000216-1771146000-1771149600@henty.lutheran.org.au
SUMMARY:Worship Service
DESCRIPTION:Join us for a cuppa after the service!
URL:https://henty.lutheran.org.au/event/worship-service/2026-02-15/
LOCATION:St Paul’s Henty\, 41 Lyne St\, Henty\, NSW\, 2658\, Australia
CATEGORIES:Worship
ATTACH;FMTTYPE=image/jpeg:https://henty.lutheran.org.au/wp-content/uploads/2018/11/DSCN4965-e1547603409710.jpg
GEO:-35.5179779;147.0294185
X-APPLE-STRUCTURED-LOCATION;VALUE=URI;X-ADDRESS=St Paul’s Henty 41 Lyne St Henty NSW 2658 Australia;X-APPLE-RADIUS=500;X-TITLE=41 Lyne St:geo:147.0294185,-35.5179779
END:VEVENT
BEGIN:VEVENT
DTSTART;TZID=Australia/Sydney:20260208T103000
DTEND;TZID=Australia/Sydney:20260208T113000
DTSTAMP:20260422T012310
CREATED:20220213T022451Z
LAST-MODIFIED:20220213T095801Z
UID:10000056-1770546600-1770550200@henty.lutheran.org.au
SUMMARY:Worship Service
DESCRIPTION:
URL:https://henty.lutheran.org.au/event/worship-service-2/2026-02-08/
LOCATION:St Paul’s Henty\, 41 Lyne St\, Henty\, NSW\, 2658\, Australia
CATEGORIES:Worship
ATTACH;FMTTYPE=image/jpeg:https://henty.lutheran.org.au/wp-content/uploads/2018/11/DSCN4965-e1547603409710.jpg
GEO:-35.5179779;147.0294185
X-APPLE-STRUCTURED-LOCATION;VALUE=URI;X-ADDRESS=St Paul’s Henty 41 Lyne St Henty NSW 2658 Australia;X-APPLE-RADIUS=500;X-TITLE=41 Lyne St:geo:147.0294185,-35.5179779
END:VEVENT
BEGIN:VEVENT
DTSTART;TZID=Australia/Sydney:20260201T090000
DTEND;TZID=Australia/Sydney:20260201T100000
DTSTAMP:20260422T012310
CREATED:20220213T022302Z
LAST-MODIFIED:20220213T095538Z
UID:10000163-1769936400-1769940000@henty.lutheran.org.au
SUMMARY:Worship Service
DESCRIPTION:Join us for a cuppa after the service!
URL:https://henty.lutheran.org.au/event/worship-service/2026-02-01/
LOCATION:St Paul’s Henty\, 41 Lyne St\, Henty\, NSW\, 2658\, Australia
CATEGORIES:Worship
ATTACH;FMTTYPE=image/jpeg:https://henty.lutheran.org.au/wp-content/uploads/2018/11/DSCN4965-e1547603409710.jpg
GEO:-35.5179779;147.0294185
X-APPLE-STRUCTURED-LOCATION;VALUE=URI;X-ADDRESS=St Paul’s Henty 41 Lyne St Henty NSW 2658 Australia;X-APPLE-RADIUS=500;X-TITLE=41 Lyne St:geo:147.0294185,-35.5179779
END:VEVENT
BEGIN:VEVENT
DTSTART;TZID=Australia/Sydney:20260125T103000
DTEND;TZID=Australia/Sydney:20260125T113000
DTSTAMP:20260422T012310
CREATED:20250728T140817Z
LAST-MODIFIED:20250728T140817Z
UID:10000108-1769337000-1769340600@henty.lutheran.org.au
SUMMARY:Worship Service
DESCRIPTION:
URL:https://henty.lutheran.org.au/event/worship-service-2/2026-01-25/
LOCATION:St Paul’s Henty\, 41 Lyne St\, Henty\, NSW\, 2658\, Australia
CATEGORIES:Worship
ATTACH;FMTTYPE=image/jpeg:https://henty.lutheran.org.au/wp-content/uploads/2018/11/DSCN4965-e1547603409710.jpg
GEO:-35.5179779;147.0294185
X-APPLE-STRUCTURED-LOCATION;VALUE=URI;X-ADDRESS=St Paul’s Henty 41 Lyne St Henty NSW 2658 Australia;X-APPLE-RADIUS=500;X-TITLE=41 Lyne St:geo:147.0294185,-35.5179779
END:VEVENT
BEGIN:VEVENT
DTSTART;TZID=Australia/Sydney:20260118T090000
DTEND;TZID=Australia/Sydney:20260118T100000
DTSTAMP:20260422T012310
CREATED:20250728T140817Z
LAST-MODIFIED:20250728T140817Z
UID:10000215-1768726800-1768730400@henty.lutheran.org.au
SUMMARY:Worship Service
DESCRIPTION:Join us for a cuppa after the service!
URL:https://henty.lutheran.org.au/event/worship-service/2026-01-18/
LOCATION:St Paul’s Henty\, 41 Lyne St\, Henty\, NSW\, 2658\, Australia
CATEGORIES:Worship
ATTACH;FMTTYPE=image/jpeg:https://henty.lutheran.org.au/wp-content/uploads/2018/11/DSCN4965-e1547603409710.jpg
GEO:-35.5179779;147.0294185
X-APPLE-STRUCTURED-LOCATION;VALUE=URI;X-ADDRESS=St Paul’s Henty 41 Lyne St Henty NSW 2658 Australia;X-APPLE-RADIUS=500;X-TITLE=41 Lyne St:geo:147.0294185,-35.5179779
END:VEVENT
BEGIN:VEVENT
DTSTART;TZID=Australia/Sydney:20260111T103000
DTEND;TZID=Australia/Sydney:20260111T113000
DTSTAMP:20260422T012310
CREATED:20220213T022451Z
LAST-MODIFIED:20220213T095801Z
UID:10000055-1768127400-1768131000@henty.lutheran.org.au
SUMMARY:Worship Service
DESCRIPTION:
URL:https://henty.lutheran.org.au/event/worship-service-2/2026-01-11/
LOCATION:St Paul’s Henty\, 41 Lyne St\, Henty\, NSW\, 2658\, Australia
CATEGORIES:Worship
ATTACH;FMTTYPE=image/jpeg:https://henty.lutheran.org.au/wp-content/uploads/2018/11/DSCN4965-e1547603409710.jpg
GEO:-35.5179779;147.0294185
X-APPLE-STRUCTURED-LOCATION;VALUE=URI;X-ADDRESS=St Paul’s Henty 41 Lyne St Henty NSW 2658 Australia;X-APPLE-RADIUS=500;X-TITLE=41 Lyne St:geo:147.0294185,-35.5179779
END:VEVENT
BEGIN:VEVENT
DTSTART;TZID=Australia/Sydney:20260104T090000
DTEND;TZID=Australia/Sydney:20260104T100000
DTSTAMP:20260422T012310
CREATED:20220213T022302Z
LAST-MODIFIED:20220213T095538Z
UID:10000162-1767517200-1767520800@henty.lutheran.org.au
SUMMARY:Worship Service
DESCRIPTION:Join us for a cuppa after the service!
URL:https://henty.lutheran.org.au/event/worship-service/2026-01-04/
LOCATION:St Paul’s Henty\, 41 Lyne St\, Henty\, NSW\, 2658\, Australia
CATEGORIES:Worship
ATTACH;FMTTYPE=image/jpeg:https://henty.lutheran.org.au/wp-content/uploads/2018/11/DSCN4965-e1547603409710.jpg
GEO:-35.5179779;147.0294185
X-APPLE-STRUCTURED-LOCATION;VALUE=URI;X-ADDRESS=St Paul’s Henty 41 Lyne St Henty NSW 2658 Australia;X-APPLE-RADIUS=500;X-TITLE=41 Lyne St:geo:147.0294185,-35.5179779
END:VEVENT
BEGIN:VEVENT
DTSTART;TZID=Australia/Sydney:20251228T103000
DTEND;TZID=Australia/Sydney:20251228T113000
DTSTAMP:20260422T012310
CREATED:20250728T140817Z
LAST-MODIFIED:20250728T140817Z
UID:10000107-1766917800-1766921400@henty.lutheran.org.au
SUMMARY:Worship Service
DESCRIPTION:
URL:https://henty.lutheran.org.au/event/worship-service-2/2025-12-28/
LOCATION:St Paul’s Henty\, 41 Lyne St\, Henty\, NSW\, 2658\, Australia
CATEGORIES:Worship
ATTACH;FMTTYPE=image/jpeg:https://henty.lutheran.org.au/wp-content/uploads/2018/11/DSCN4965-e1547603409710.jpg
GEO:-35.5179779;147.0294185
X-APPLE-STRUCTURED-LOCATION;VALUE=URI;X-ADDRESS=St Paul’s Henty 41 Lyne St Henty NSW 2658 Australia;X-APPLE-RADIUS=500;X-TITLE=41 Lyne St:geo:147.0294185,-35.5179779
END:VEVENT
BEGIN:VEVENT
DTSTART;TZID=Australia/Sydney:20251225T093000
DTEND;TZID=Australia/Sydney:20251225T223000
DTSTAMP:20260422T012310
CREATED:20251016T213409Z
LAST-MODIFIED:20251016T213409Z
UID:10000230-1766655000-1766701800@henty.lutheran.org.au
SUMMARY:Christmas Morning Service at Henty
DESCRIPTION:Please join us on Christmas Day for our Culcairn or Henty service! \n\nCulcairn-8am \nHenty-930am
URL:https://henty.lutheran.org.au/event/christmas-morning-service-at-henty/
LOCATION:NSW
END:VEVENT
BEGIN:VEVENT
DTSTART;TZID=Australia/Sydney:20251225T080000
DTEND;TZID=Australia/Sydney:20251225T090000
DTSTAMP:20260422T012310
CREATED:20251016T213037Z
LAST-MODIFIED:20251016T213037Z
UID:10000229-1766649600-1766653200@henty.lutheran.org.au
SUMMARY:Christmas Morning Service at Culcairn
DESCRIPTION:Please join us on Christmas Day for our Culcairn or Henty service! \nCulcairn-8am \nHenty-930am
URL:https://henty.lutheran.org.au/event/christmas-morning-service-at-culcairn/
LOCATION:NSW
END:VEVENT
BEGIN:VEVENT
DTSTART;TZID=Australia/Sydney:20251224T193000
DTEND;TZID=Australia/Sydney:20251224T203000
DTSTAMP:20260422T012310
CREATED:20251016T212852Z
LAST-MODIFIED:20251016T212852Z
UID:10000228-1766604600-1766608200@henty.lutheran.org.au
SUMMARY:Parish Christmas Eve Service at Henty!
DESCRIPTION:Please join us for our Parish Christmas Eve Service at St Paul’s Henty at 730pm
URL:https://henty.lutheran.org.au/event/parish-christmas-eve-service-at-henty/
LOCATION:NSW
END:VEVENT
BEGIN:VEVENT
DTSTART;TZID=Australia/Sydney:20251223T080000
DTEND;TZID=Australia/Sydney:20251223T170000
DTSTAMP:20260422T012310
CREATED:20251016T212731Z
LAST-MODIFIED:20251016T212731Z
UID:10000227-1766476800-1766509200@henty.lutheran.org.au
SUMMARY:Christmas Service at Pleasant Hills
DESCRIPTION:Please join us for Pleasant Hills’s Christmas service!
URL:https://henty.lutheran.org.au/event/christmas-service-at-pleasant-hills/
LOCATION:NSW
END:VEVENT
BEGIN:VEVENT
DTSTART;TZID=Australia/Sydney:20251221T090000
DTEND;TZID=Australia/Sydney:20251221T100000
DTSTAMP:20260422T012310
CREATED:20250728T140817Z
LAST-MODIFIED:20250728T140817Z
UID:10000214-1766307600-1766311200@henty.lutheran.org.au
SUMMARY:Worship Service
DESCRIPTION:Join us for a cuppa after the service!
URL:https://henty.lutheran.org.au/event/worship-service/2025-12-21/
LOCATION:St Paul’s Henty\, 41 Lyne St\, Henty\, NSW\, 2658\, Australia
CATEGORIES:Worship
ATTACH;FMTTYPE=image/jpeg:https://henty.lutheran.org.au/wp-content/uploads/2018/11/DSCN4965-e1547603409710.jpg
GEO:-35.5179779;147.0294185
X-APPLE-STRUCTURED-LOCATION;VALUE=URI;X-ADDRESS=St Paul’s Henty 41 Lyne St Henty NSW 2658 Australia;X-APPLE-RADIUS=500;X-TITLE=41 Lyne St:geo:147.0294185,-35.5179779
END:VEVENT
BEGIN:VEVENT
DTSTART;TZID=Australia/Sydney:20251214T103000
DTEND;TZID=Australia/Sydney:20251214T113000
DTSTAMP:20260422T012310
CREATED:20220213T022451Z
LAST-MODIFIED:20220213T095801Z
UID:10000054-1765708200-1765711800@henty.lutheran.org.au
SUMMARY:Worship Service
DESCRIPTION:
URL:https://henty.lutheran.org.au/event/worship-service-2/2025-12-14/
LOCATION:St Paul’s Henty\, 41 Lyne St\, Henty\, NSW\, 2658\, Australia
CATEGORIES:Worship
ATTACH;FMTTYPE=image/jpeg:https://henty.lutheran.org.au/wp-content/uploads/2018/11/DSCN4965-e1547603409710.jpg
GEO:-35.5179779;147.0294185
X-APPLE-STRUCTURED-LOCATION;VALUE=URI;X-ADDRESS=St Paul’s Henty 41 Lyne St Henty NSW 2658 Australia;X-APPLE-RADIUS=500;X-TITLE=41 Lyne St:geo:147.0294185,-35.5179779
END:VEVENT
BEGIN:VEVENT
DTSTART;TZID=Australia/Sydney:20251207T090000
DTEND;TZID=Australia/Sydney:20251207T100000
DTSTAMP:20260422T012310
CREATED:20220213T022302Z
LAST-MODIFIED:20220213T095538Z
UID:10000161-1765098000-1765101600@henty.lutheran.org.au
SUMMARY:Worship Service
DESCRIPTION:Join us for a cuppa after the service!
URL:https://henty.lutheran.org.au/event/worship-service/2025-12-07/
LOCATION:St Paul’s Henty\, 41 Lyne St\, Henty\, NSW\, 2658\, Australia
CATEGORIES:Worship
ATTACH;FMTTYPE=image/jpeg:https://henty.lutheran.org.au/wp-content/uploads/2018/11/DSCN4965-e1547603409710.jpg
GEO:-35.5179779;147.0294185
X-APPLE-STRUCTURED-LOCATION;VALUE=URI;X-ADDRESS=St Paul’s Henty 41 Lyne St Henty NSW 2658 Australia;X-APPLE-RADIUS=500;X-TITLE=41 Lyne St:geo:147.0294185,-35.5179779
END:VEVENT
END:VCALENDAR