BEGIN:VCALENDAR
VERSION:2.0
PRODID:-//St Paul&#039;s Lutheran Church, Henty NSW - ECPv6.15.14//NONSGML v1.0//EN
CALSCALE:GREGORIAN
METHOD:PUBLISH
X-WR-CALNAME:St Paul&#039;s Lutheran Church, Henty NSW
X-ORIGINAL-URL:https://henty.lutheran.org.au
X-WR-CALDESC:Events for St Paul&#039;s Lutheran Church, Henty NSW
REFRESH-INTERVAL;VALUE=DURATION:PT1H
X-Robots-Tag:noindex
X-PUBLISHED-TTL:PT1H
BEGIN:VTIMEZONE
TZID:Australia/Sydney
BEGIN:STANDARD
TZOFFSETFROM:+1100
TZOFFSETTO:+1000
TZNAME:AEST
DTSTART:20260404T160000
END:STANDARD
BEGIN:DAYLIGHT
TZOFFSETFROM:+1000
TZOFFSETTO:+1100
TZNAME:AEDT
DTSTART:20261003T160000
END:DAYLIGHT
BEGIN:STANDARD
TZOFFSETFROM:+1100
TZOFFSETTO:+1000
TZNAME:AEST
DTSTART:20270403T160000
END:STANDARD
BEGIN:DAYLIGHT
TZOFFSETFROM:+1000
TZOFFSETTO:+1100
TZNAME:AEDT
DTSTART:20271002T160000
END:DAYLIGHT
BEGIN:STANDARD
TZOFFSETFROM:+1100
TZOFFSETTO:+1000
TZNAME:AEST
DTSTART:20280401T160000
END:STANDARD
BEGIN:DAYLIGHT
TZOFFSETFROM:+1000
TZOFFSETTO:+1100
TZNAME:AEDT
DTSTART:20280930T160000
END:DAYLIGHT
BEGIN:STANDARD
TZOFFSETFROM:+1100
TZOFFSETTO:+1000
TZNAME:AEST
DTSTART:20290331T160000
END:STANDARD
BEGIN:DAYLIGHT
TZOFFSETFROM:+1000
TZOFFSETTO:+1100
TZNAME:AEDT
DTSTART:20291006T160000
END:DAYLIGHT
BEGIN:STANDARD
TZOFFSETFROM:+1100
TZOFFSETTO:+1000
TZNAME:AEST
DTSTART:20300406T160000
END:STANDARD
BEGIN:DAYLIGHT
TZOFFSETFROM:+1000
TZOFFSETTO:+1100
TZNAME:AEDT
DTSTART:20301005T160000
END:DAYLIGHT
BEGIN:STANDARD
TZOFFSETFROM:+1100
TZOFFSETTO:+1000
TZNAME:AEST
DTSTART:20310405T160000
END:STANDARD
BEGIN:DAYLIGHT
TZOFFSETFROM:+1000
TZOFFSETTO:+1100
TZNAME:AEDT
DTSTART:20311004T160000
END:DAYLIGHT
END:VTIMEZONE
BEGIN:VEVENT
DTSTART;TZID=Australia/Sydney:20270304T100000
DTEND;TZID=Australia/Sydney:20270304T110000
DTSTAMP:20260422T112852
CREATED:20260302T030200Z
LAST-MODIFIED:20260302T030200Z
UID:10000304-1804154400-1804158000@henty.lutheran.org.au
SUMMARY:Lenten Devotions
DESCRIPTION:Join us every Thursday during Lent at 10am for our Lenten Devotions!
URL:https://henty.lutheran.org.au/event/lenten-devotions/2027-03-04/
LOCATION:St Paul’s Henty\, 41 Lyne St\, Henty\, NSW\, 2658\, Australia
GEO:-35.5179779;147.0294185
X-APPLE-STRUCTURED-LOCATION;VALUE=URI;X-ADDRESS=St Paul’s Henty 41 Lyne St Henty NSW 2658 Australia;X-APPLE-RADIUS=500;X-TITLE=41 Lyne St:geo:147.0294185,-35.5179779
END:VEVENT
BEGIN:VEVENT
DTSTART;TZID=Australia/Sydney:20270311T100000
DTEND;TZID=Australia/Sydney:20270311T110000
DTSTAMP:20260422T112852
CREATED:20260302T030200Z
LAST-MODIFIED:20260302T030200Z
UID:10000305-1804759200-1804762800@henty.lutheran.org.au
SUMMARY:Lenten Devotions
DESCRIPTION:Join us every Thursday during Lent at 10am for our Lenten Devotions!
URL:https://henty.lutheran.org.au/event/lenten-devotions/2027-03-11/
LOCATION:St Paul’s Henty\, 41 Lyne St\, Henty\, NSW\, 2658\, Australia
GEO:-35.5179779;147.0294185
X-APPLE-STRUCTURED-LOCATION;VALUE=URI;X-ADDRESS=St Paul’s Henty 41 Lyne St Henty NSW 2658 Australia;X-APPLE-RADIUS=500;X-TITLE=41 Lyne St:geo:147.0294185,-35.5179779
END:VEVENT
BEGIN:VEVENT
DTSTART;TZID=Australia/Sydney:20270318T100000
DTEND;TZID=Australia/Sydney:20270318T110000
DTSTAMP:20260422T112852
CREATED:20260302T030200Z
LAST-MODIFIED:20260302T030200Z
UID:10000306-1805364000-1805367600@henty.lutheran.org.au
SUMMARY:Lenten Devotions
DESCRIPTION:Join us every Thursday during Lent at 10am for our Lenten Devotions!
URL:https://henty.lutheran.org.au/event/lenten-devotions/2027-03-18/
LOCATION:St Paul’s Henty\, 41 Lyne St\, Henty\, NSW\, 2658\, Australia
GEO:-35.5179779;147.0294185
X-APPLE-STRUCTURED-LOCATION;VALUE=URI;X-ADDRESS=St Paul’s Henty 41 Lyne St Henty NSW 2658 Australia;X-APPLE-RADIUS=500;X-TITLE=41 Lyne St:geo:147.0294185,-35.5179779
END:VEVENT
BEGIN:VEVENT
DTSTART;TZID=Australia/Sydney:20270325T100000
DTEND;TZID=Australia/Sydney:20270325T110000
DTSTAMP:20260422T112852
CREATED:20260302T030200Z
LAST-MODIFIED:20260302T030200Z
UID:10000307-1805968800-1805972400@henty.lutheran.org.au
SUMMARY:Lenten Devotions
DESCRIPTION:Join us every Thursday during Lent at 10am for our Lenten Devotions!
URL:https://henty.lutheran.org.au/event/lenten-devotions/2027-03-25/
LOCATION:St Paul’s Henty\, 41 Lyne St\, Henty\, NSW\, 2658\, Australia
GEO:-35.5179779;147.0294185
X-APPLE-STRUCTURED-LOCATION;VALUE=URI;X-ADDRESS=St Paul’s Henty 41 Lyne St Henty NSW 2658 Australia;X-APPLE-RADIUS=500;X-TITLE=41 Lyne St:geo:147.0294185,-35.5179779
END:VEVENT
BEGIN:VEVENT
DTSTART;TZID=Australia/Sydney:20270530T100000
DTEND;TZID=Australia/Sydney:20270530T110000
DTSTAMP:20260422T112852
CREATED:20260109T062813Z
LAST-MODIFIED:20260109T062813Z
UID:10000236-1811671200-1811674800@henty.lutheran.org.au
SUMMARY:Parish Combined Worship Service
DESCRIPTION:Join us for a shared luncheon and a cuppa after the service! \nCombined Parish Service happens every 5th Sunday and is lead by the Pastor.
URL:https://henty.lutheran.org.au/event/parish-combined-worship-service/2027-05-30/
LOCATION:St Paul’s Henty\, 41 Lyne St\, Henty\, NSW\, 2658\, Australia
CATEGORIES:Worship
ATTACH;FMTTYPE=image/jpeg:https://henty.lutheran.org.au/wp-content/uploads/2018/12/DSCN4965.jpg
GEO:-35.5179779;147.0294185
X-APPLE-STRUCTURED-LOCATION;VALUE=URI;X-ADDRESS=St Paul’s Henty 41 Lyne St Henty NSW 2658 Australia;X-APPLE-RADIUS=500;X-TITLE=41 Lyne St:geo:147.0294185,-35.5179779
END:VEVENT
BEGIN:VEVENT
DTSTART;TZID=Australia/Sydney:20270530T100000
DTEND;TZID=Australia/Sydney:20270530T110000
DTSTAMP:20260422T112852
CREATED:20260302T031015Z
LAST-MODIFIED:20260302T031015Z
UID:10000316-1811671200-1811674800@henty.lutheran.org.au
SUMMARY:Palm Sunday Parish Combined Worship Service
DESCRIPTION:Join us for a shared luncheon and a cuppa after the service! \nCombined Parish Service happens every 5th Sunday and is lead by the Pastor.
URL:https://henty.lutheran.org.au/event/palm-sunday-parish-combined-worship-service/2027-05-30/
LOCATION:St Paul’s Henty\, 41 Lyne St\, Henty\, NSW\, 2658\, Australia
CATEGORIES:Worship
ATTACH;FMTTYPE=image/jpeg:https://henty.lutheran.org.au/wp-content/uploads/2018/12/DSCN4965.jpg
GEO:-35.5179779;147.0294185
X-APPLE-STRUCTURED-LOCATION;VALUE=URI;X-ADDRESS=St Paul’s Henty 41 Lyne St Henty NSW 2658 Australia;X-APPLE-RADIUS=500;X-TITLE=41 Lyne St:geo:147.0294185,-35.5179779
END:VEVENT
BEGIN:VEVENT
DTSTART;TZID=Australia/Sydney:20270829T100000
DTEND;TZID=Australia/Sydney:20270829T110000
DTSTAMP:20260422T112852
CREATED:20260109T062813Z
LAST-MODIFIED:20260109T062813Z
UID:10000237-1819533600-1819537200@henty.lutheran.org.au
SUMMARY:Parish Combined Worship Service
DESCRIPTION:Join us for a shared luncheon and a cuppa after the service! \nCombined Parish Service happens every 5th Sunday and is lead by the Pastor.
URL:https://henty.lutheran.org.au/event/parish-combined-worship-service/2027-08-29/
LOCATION:St Paul’s Henty\, 41 Lyne St\, Henty\, NSW\, 2658\, Australia
CATEGORIES:Worship
ATTACH;FMTTYPE=image/jpeg:https://henty.lutheran.org.au/wp-content/uploads/2018/12/DSCN4965.jpg
GEO:-35.5179779;147.0294185
X-APPLE-STRUCTURED-LOCATION;VALUE=URI;X-ADDRESS=St Paul’s Henty 41 Lyne St Henty NSW 2658 Australia;X-APPLE-RADIUS=500;X-TITLE=41 Lyne St:geo:147.0294185,-35.5179779
END:VEVENT
BEGIN:VEVENT
DTSTART;TZID=Australia/Sydney:20270829T100000
DTEND;TZID=Australia/Sydney:20270829T110000
DTSTAMP:20260422T112852
CREATED:20260302T031015Z
LAST-MODIFIED:20260302T031015Z
UID:10000317-1819533600-1819537200@henty.lutheran.org.au
SUMMARY:Palm Sunday Parish Combined Worship Service
DESCRIPTION:Join us for a shared luncheon and a cuppa after the service! \nCombined Parish Service happens every 5th Sunday and is lead by the Pastor.
URL:https://henty.lutheran.org.au/event/palm-sunday-parish-combined-worship-service/2027-08-29/
LOCATION:St Paul’s Henty\, 41 Lyne St\, Henty\, NSW\, 2658\, Australia
CATEGORIES:Worship
ATTACH;FMTTYPE=image/jpeg:https://henty.lutheran.org.au/wp-content/uploads/2018/12/DSCN4965.jpg
GEO:-35.5179779;147.0294185
X-APPLE-STRUCTURED-LOCATION;VALUE=URI;X-ADDRESS=St Paul’s Henty 41 Lyne St Henty NSW 2658 Australia;X-APPLE-RADIUS=500;X-TITLE=41 Lyne St:geo:147.0294185,-35.5179779
END:VEVENT
BEGIN:VEVENT
DTSTART;TZID=Australia/Sydney:20271031T100000
DTEND;TZID=Australia/Sydney:20271031T110000
DTSTAMP:20260422T112852
CREATED:20260109T062813Z
LAST-MODIFIED:20260109T062813Z
UID:10000238-1824976800-1824980400@henty.lutheran.org.au
SUMMARY:Parish Combined Worship Service
DESCRIPTION:Join us for a shared luncheon and a cuppa after the service! \nCombined Parish Service happens every 5th Sunday and is lead by the Pastor.
URL:https://henty.lutheran.org.au/event/parish-combined-worship-service/2027-10-31/
LOCATION:St Paul’s Henty\, 41 Lyne St\, Henty\, NSW\, 2658\, Australia
CATEGORIES:Worship
ATTACH;FMTTYPE=image/jpeg:https://henty.lutheran.org.au/wp-content/uploads/2018/12/DSCN4965.jpg
GEO:-35.5179779;147.0294185
X-APPLE-STRUCTURED-LOCATION;VALUE=URI;X-ADDRESS=St Paul’s Henty 41 Lyne St Henty NSW 2658 Australia;X-APPLE-RADIUS=500;X-TITLE=41 Lyne St:geo:147.0294185,-35.5179779
END:VEVENT
BEGIN:VEVENT
DTSTART;TZID=Australia/Sydney:20271031T100000
DTEND;TZID=Australia/Sydney:20271031T110000
DTSTAMP:20260422T112852
CREATED:20260302T031015Z
LAST-MODIFIED:20260302T031015Z
UID:10000318-1824976800-1824980400@henty.lutheran.org.au
SUMMARY:Palm Sunday Parish Combined Worship Service
DESCRIPTION:Join us for a shared luncheon and a cuppa after the service! \nCombined Parish Service happens every 5th Sunday and is lead by the Pastor.
URL:https://henty.lutheran.org.au/event/palm-sunday-parish-combined-worship-service/2027-10-31/
LOCATION:St Paul’s Henty\, 41 Lyne St\, Henty\, NSW\, 2658\, Australia
CATEGORIES:Worship
ATTACH;FMTTYPE=image/jpeg:https://henty.lutheran.org.au/wp-content/uploads/2018/12/DSCN4965.jpg
GEO:-35.5179779;147.0294185
X-APPLE-STRUCTURED-LOCATION;VALUE=URI;X-ADDRESS=St Paul’s Henty 41 Lyne St Henty NSW 2658 Australia;X-APPLE-RADIUS=500;X-TITLE=41 Lyne St:geo:147.0294185,-35.5179779
END:VEVENT
BEGIN:VEVENT
DTSTART;TZID=Australia/Sydney:20280130T100000
DTEND;TZID=Australia/Sydney:20280130T110000
DTSTAMP:20260422T112852
CREATED:20260109T062813Z
LAST-MODIFIED:20260109T062813Z
UID:10000239-1832839200-1832842800@henty.lutheran.org.au
SUMMARY:Parish Combined Worship Service
DESCRIPTION:Join us for a shared luncheon and a cuppa after the service! \nCombined Parish Service happens every 5th Sunday and is lead by the Pastor.
URL:https://henty.lutheran.org.au/event/parish-combined-worship-service/2028-01-30/
LOCATION:St Paul’s Henty\, 41 Lyne St\, Henty\, NSW\, 2658\, Australia
CATEGORIES:Worship
ATTACH;FMTTYPE=image/jpeg:https://henty.lutheran.org.au/wp-content/uploads/2018/12/DSCN4965.jpg
GEO:-35.5179779;147.0294185
X-APPLE-STRUCTURED-LOCATION;VALUE=URI;X-ADDRESS=St Paul’s Henty 41 Lyne St Henty NSW 2658 Australia;X-APPLE-RADIUS=500;X-TITLE=41 Lyne St:geo:147.0294185,-35.5179779
END:VEVENT
BEGIN:VEVENT
DTSTART;TZID=Australia/Sydney:20280130T100000
DTEND;TZID=Australia/Sydney:20280130T110000
DTSTAMP:20260422T112852
CREATED:20260302T031015Z
LAST-MODIFIED:20260302T031015Z
UID:10000319-1832839200-1832842800@henty.lutheran.org.au
SUMMARY:Palm Sunday Parish Combined Worship Service
DESCRIPTION:Join us for a shared luncheon and a cuppa after the service! \nCombined Parish Service happens every 5th Sunday and is lead by the Pastor.
URL:https://henty.lutheran.org.au/event/palm-sunday-parish-combined-worship-service/2028-01-30/
LOCATION:St Paul’s Henty\, 41 Lyne St\, Henty\, NSW\, 2658\, Australia
CATEGORIES:Worship
ATTACH;FMTTYPE=image/jpeg:https://henty.lutheran.org.au/wp-content/uploads/2018/12/DSCN4965.jpg
GEO:-35.5179779;147.0294185
X-APPLE-STRUCTURED-LOCATION;VALUE=URI;X-ADDRESS=St Paul’s Henty 41 Lyne St Henty NSW 2658 Australia;X-APPLE-RADIUS=500;X-TITLE=41 Lyne St:geo:147.0294185,-35.5179779
END:VEVENT
BEGIN:VEVENT
DTSTART;TZID=Australia/Sydney:20280430T100000
DTEND;TZID=Australia/Sydney:20280430T110000
DTSTAMP:20260422T112852
CREATED:20260109T062813Z
LAST-MODIFIED:20260109T062813Z
UID:10000240-1840701600-1840705200@henty.lutheran.org.au
SUMMARY:Parish Combined Worship Service
DESCRIPTION:Join us for a shared luncheon and a cuppa after the service! \nCombined Parish Service happens every 5th Sunday and is lead by the Pastor.
URL:https://henty.lutheran.org.au/event/parish-combined-worship-service/2028-04-30/
LOCATION:St Paul’s Henty\, 41 Lyne St\, Henty\, NSW\, 2658\, Australia
CATEGORIES:Worship
ATTACH;FMTTYPE=image/jpeg:https://henty.lutheran.org.au/wp-content/uploads/2018/12/DSCN4965.jpg
GEO:-35.5179779;147.0294185
X-APPLE-STRUCTURED-LOCATION;VALUE=URI;X-ADDRESS=St Paul’s Henty 41 Lyne St Henty NSW 2658 Australia;X-APPLE-RADIUS=500;X-TITLE=41 Lyne St:geo:147.0294185,-35.5179779
END:VEVENT
BEGIN:VEVENT
DTSTART;TZID=Australia/Sydney:20280430T100000
DTEND;TZID=Australia/Sydney:20280430T110000
DTSTAMP:20260422T112852
CREATED:20260302T031015Z
LAST-MODIFIED:20260302T031015Z
UID:10000320-1840701600-1840705200@henty.lutheran.org.au
SUMMARY:Palm Sunday Parish Combined Worship Service
DESCRIPTION:Join us for a shared luncheon and a cuppa after the service! \nCombined Parish Service happens every 5th Sunday and is lead by the Pastor.
URL:https://henty.lutheran.org.au/event/palm-sunday-parish-combined-worship-service/2028-04-30/
LOCATION:St Paul’s Henty\, 41 Lyne St\, Henty\, NSW\, 2658\, Australia
CATEGORIES:Worship
ATTACH;FMTTYPE=image/jpeg:https://henty.lutheran.org.au/wp-content/uploads/2018/12/DSCN4965.jpg
GEO:-35.5179779;147.0294185
X-APPLE-STRUCTURED-LOCATION;VALUE=URI;X-ADDRESS=St Paul’s Henty 41 Lyne St Henty NSW 2658 Australia;X-APPLE-RADIUS=500;X-TITLE=41 Lyne St:geo:147.0294185,-35.5179779
END:VEVENT
BEGIN:VEVENT
DTSTART;TZID=Australia/Sydney:20280730T100000
DTEND;TZID=Australia/Sydney:20280730T110000
DTSTAMP:20260422T112852
CREATED:20260109T062813Z
LAST-MODIFIED:20260109T062813Z
UID:10000241-1848564000-1848567600@henty.lutheran.org.au
SUMMARY:Parish Combined Worship Service
DESCRIPTION:Join us for a shared luncheon and a cuppa after the service! \nCombined Parish Service happens every 5th Sunday and is lead by the Pastor.
URL:https://henty.lutheran.org.au/event/parish-combined-worship-service/2028-07-30/
LOCATION:St Paul’s Henty\, 41 Lyne St\, Henty\, NSW\, 2658\, Australia
CATEGORIES:Worship
ATTACH;FMTTYPE=image/jpeg:https://henty.lutheran.org.au/wp-content/uploads/2018/12/DSCN4965.jpg
GEO:-35.5179779;147.0294185
X-APPLE-STRUCTURED-LOCATION;VALUE=URI;X-ADDRESS=St Paul’s Henty 41 Lyne St Henty NSW 2658 Australia;X-APPLE-RADIUS=500;X-TITLE=41 Lyne St:geo:147.0294185,-35.5179779
END:VEVENT
BEGIN:VEVENT
DTSTART;TZID=Australia/Sydney:20280730T100000
DTEND;TZID=Australia/Sydney:20280730T110000
DTSTAMP:20260422T112852
CREATED:20260302T031015Z
LAST-MODIFIED:20260302T031015Z
UID:10000321-1848564000-1848567600@henty.lutheran.org.au
SUMMARY:Palm Sunday Parish Combined Worship Service
DESCRIPTION:Join us for a shared luncheon and a cuppa after the service! \nCombined Parish Service happens every 5th Sunday and is lead by the Pastor.
URL:https://henty.lutheran.org.au/event/palm-sunday-parish-combined-worship-service/2028-07-30/
LOCATION:St Paul’s Henty\, 41 Lyne St\, Henty\, NSW\, 2658\, Australia
CATEGORIES:Worship
ATTACH;FMTTYPE=image/jpeg:https://henty.lutheran.org.au/wp-content/uploads/2018/12/DSCN4965.jpg
GEO:-35.5179779;147.0294185
X-APPLE-STRUCTURED-LOCATION;VALUE=URI;X-ADDRESS=St Paul’s Henty 41 Lyne St Henty NSW 2658 Australia;X-APPLE-RADIUS=500;X-TITLE=41 Lyne St:geo:147.0294185,-35.5179779
END:VEVENT
BEGIN:VEVENT
DTSTART;TZID=Australia/Sydney:20281029T100000
DTEND;TZID=Australia/Sydney:20281029T110000
DTSTAMP:20260422T112852
CREATED:20260109T062813Z
LAST-MODIFIED:20260109T062813Z
UID:10000242-1856426400-1856430000@henty.lutheran.org.au
SUMMARY:Parish Combined Worship Service
DESCRIPTION:Join us for a shared luncheon and a cuppa after the service! \nCombined Parish Service happens every 5th Sunday and is lead by the Pastor.
URL:https://henty.lutheran.org.au/event/parish-combined-worship-service/2028-10-29/
LOCATION:St Paul’s Henty\, 41 Lyne St\, Henty\, NSW\, 2658\, Australia
CATEGORIES:Worship
ATTACH;FMTTYPE=image/jpeg:https://henty.lutheran.org.au/wp-content/uploads/2018/12/DSCN4965.jpg
GEO:-35.5179779;147.0294185
X-APPLE-STRUCTURED-LOCATION;VALUE=URI;X-ADDRESS=St Paul’s Henty 41 Lyne St Henty NSW 2658 Australia;X-APPLE-RADIUS=500;X-TITLE=41 Lyne St:geo:147.0294185,-35.5179779
END:VEVENT
BEGIN:VEVENT
DTSTART;TZID=Australia/Sydney:20281029T100000
DTEND;TZID=Australia/Sydney:20281029T110000
DTSTAMP:20260422T112852
CREATED:20260302T031015Z
LAST-MODIFIED:20260302T031015Z
UID:10000322-1856426400-1856430000@henty.lutheran.org.au
SUMMARY:Palm Sunday Parish Combined Worship Service
DESCRIPTION:Join us for a shared luncheon and a cuppa after the service! \nCombined Parish Service happens every 5th Sunday and is lead by the Pastor.
URL:https://henty.lutheran.org.au/event/palm-sunday-parish-combined-worship-service/2028-10-29/
LOCATION:St Paul’s Henty\, 41 Lyne St\, Henty\, NSW\, 2658\, Australia
CATEGORIES:Worship
ATTACH;FMTTYPE=image/jpeg:https://henty.lutheran.org.au/wp-content/uploads/2018/12/DSCN4965.jpg
GEO:-35.5179779;147.0294185
X-APPLE-STRUCTURED-LOCATION;VALUE=URI;X-ADDRESS=St Paul’s Henty 41 Lyne St Henty NSW 2658 Australia;X-APPLE-RADIUS=500;X-TITLE=41 Lyne St:geo:147.0294185,-35.5179779
END:VEVENT
BEGIN:VEVENT
DTSTART;TZID=Australia/Sydney:20281231T100000
DTEND;TZID=Australia/Sydney:20281231T110000
DTSTAMP:20260422T112852
CREATED:20260109T062813Z
LAST-MODIFIED:20260109T062813Z
UID:10000243-1861869600-1861873200@henty.lutheran.org.au
SUMMARY:Parish Combined Worship Service
DESCRIPTION:Join us for a shared luncheon and a cuppa after the service! \nCombined Parish Service happens every 5th Sunday and is lead by the Pastor.
URL:https://henty.lutheran.org.au/event/parish-combined-worship-service/2028-12-31/
LOCATION:St Paul’s Henty\, 41 Lyne St\, Henty\, NSW\, 2658\, Australia
CATEGORIES:Worship
ATTACH;FMTTYPE=image/jpeg:https://henty.lutheran.org.au/wp-content/uploads/2018/12/DSCN4965.jpg
GEO:-35.5179779;147.0294185
X-APPLE-STRUCTURED-LOCATION;VALUE=URI;X-ADDRESS=St Paul’s Henty 41 Lyne St Henty NSW 2658 Australia;X-APPLE-RADIUS=500;X-TITLE=41 Lyne St:geo:147.0294185,-35.5179779
END:VEVENT
BEGIN:VEVENT
DTSTART;TZID=Australia/Sydney:20281231T100000
DTEND;TZID=Australia/Sydney:20281231T110000
DTSTAMP:20260422T112852
CREATED:20260302T031015Z
LAST-MODIFIED:20260302T031015Z
UID:10000323-1861869600-1861873200@henty.lutheran.org.au
SUMMARY:Palm Sunday Parish Combined Worship Service
DESCRIPTION:Join us for a shared luncheon and a cuppa after the service! \nCombined Parish Service happens every 5th Sunday and is lead by the Pastor.
URL:https://henty.lutheran.org.au/event/palm-sunday-parish-combined-worship-service/2028-12-31/
LOCATION:St Paul’s Henty\, 41 Lyne St\, Henty\, NSW\, 2658\, Australia
CATEGORIES:Worship
ATTACH;FMTTYPE=image/jpeg:https://henty.lutheran.org.au/wp-content/uploads/2018/12/DSCN4965.jpg
GEO:-35.5179779;147.0294185
X-APPLE-STRUCTURED-LOCATION;VALUE=URI;X-ADDRESS=St Paul’s Henty 41 Lyne St Henty NSW 2658 Australia;X-APPLE-RADIUS=500;X-TITLE=41 Lyne St:geo:147.0294185,-35.5179779
END:VEVENT
BEGIN:VEVENT
DTSTART;TZID=Australia/Sydney:20290429T100000
DTEND;TZID=Australia/Sydney:20290429T110000
DTSTAMP:20260422T112852
CREATED:20260109T062813Z
LAST-MODIFIED:20260109T062813Z
UID:10000244-1872151200-1872154800@henty.lutheran.org.au
SUMMARY:Parish Combined Worship Service
DESCRIPTION:Join us for a shared luncheon and a cuppa after the service! \nCombined Parish Service happens every 5th Sunday and is lead by the Pastor.
URL:https://henty.lutheran.org.au/event/parish-combined-worship-service/2029-04-29/
LOCATION:St Paul’s Henty\, 41 Lyne St\, Henty\, NSW\, 2658\, Australia
CATEGORIES:Worship
ATTACH;FMTTYPE=image/jpeg:https://henty.lutheran.org.au/wp-content/uploads/2018/12/DSCN4965.jpg
GEO:-35.5179779;147.0294185
X-APPLE-STRUCTURED-LOCATION;VALUE=URI;X-ADDRESS=St Paul’s Henty 41 Lyne St Henty NSW 2658 Australia;X-APPLE-RADIUS=500;X-TITLE=41 Lyne St:geo:147.0294185,-35.5179779
END:VEVENT
BEGIN:VEVENT
DTSTART;TZID=Australia/Sydney:20290429T100000
DTEND;TZID=Australia/Sydney:20290429T110000
DTSTAMP:20260422T112852
CREATED:20260302T031015Z
LAST-MODIFIED:20260302T031015Z
UID:10000324-1872151200-1872154800@henty.lutheran.org.au
SUMMARY:Palm Sunday Parish Combined Worship Service
DESCRIPTION:Join us for a shared luncheon and a cuppa after the service! \nCombined Parish Service happens every 5th Sunday and is lead by the Pastor.
URL:https://henty.lutheran.org.au/event/palm-sunday-parish-combined-worship-service/2029-04-29/
LOCATION:St Paul’s Henty\, 41 Lyne St\, Henty\, NSW\, 2658\, Australia
CATEGORIES:Worship
ATTACH;FMTTYPE=image/jpeg:https://henty.lutheran.org.au/wp-content/uploads/2018/12/DSCN4965.jpg
GEO:-35.5179779;147.0294185
X-APPLE-STRUCTURED-LOCATION;VALUE=URI;X-ADDRESS=St Paul’s Henty 41 Lyne St Henty NSW 2658 Australia;X-APPLE-RADIUS=500;X-TITLE=41 Lyne St:geo:147.0294185,-35.5179779
END:VEVENT
BEGIN:VEVENT
DTSTART;TZID=Australia/Sydney:20290729T100000
DTEND;TZID=Australia/Sydney:20290729T110000
DTSTAMP:20260422T112852
CREATED:20260109T062813Z
LAST-MODIFIED:20260109T062813Z
UID:10000245-1880013600-1880017200@henty.lutheran.org.au
SUMMARY:Parish Combined Worship Service
DESCRIPTION:Join us for a shared luncheon and a cuppa after the service! \nCombined Parish Service happens every 5th Sunday and is lead by the Pastor.
URL:https://henty.lutheran.org.au/event/parish-combined-worship-service/2029-07-29/
LOCATION:St Paul’s Henty\, 41 Lyne St\, Henty\, NSW\, 2658\, Australia
CATEGORIES:Worship
ATTACH;FMTTYPE=image/jpeg:https://henty.lutheran.org.au/wp-content/uploads/2018/12/DSCN4965.jpg
GEO:-35.5179779;147.0294185
X-APPLE-STRUCTURED-LOCATION;VALUE=URI;X-ADDRESS=St Paul’s Henty 41 Lyne St Henty NSW 2658 Australia;X-APPLE-RADIUS=500;X-TITLE=41 Lyne St:geo:147.0294185,-35.5179779
END:VEVENT
BEGIN:VEVENT
DTSTART;TZID=Australia/Sydney:20290729T100000
DTEND;TZID=Australia/Sydney:20290729T110000
DTSTAMP:20260422T112852
CREATED:20260302T031015Z
LAST-MODIFIED:20260302T031015Z
UID:10000325-1880013600-1880017200@henty.lutheran.org.au
SUMMARY:Palm Sunday Parish Combined Worship Service
DESCRIPTION:Join us for a shared luncheon and a cuppa after the service! \nCombined Parish Service happens every 5th Sunday and is lead by the Pastor.
URL:https://henty.lutheran.org.au/event/palm-sunday-parish-combined-worship-service/2029-07-29/
LOCATION:St Paul’s Henty\, 41 Lyne St\, Henty\, NSW\, 2658\, Australia
CATEGORIES:Worship
ATTACH;FMTTYPE=image/jpeg:https://henty.lutheran.org.au/wp-content/uploads/2018/12/DSCN4965.jpg
GEO:-35.5179779;147.0294185
X-APPLE-STRUCTURED-LOCATION;VALUE=URI;X-ADDRESS=St Paul’s Henty 41 Lyne St Henty NSW 2658 Australia;X-APPLE-RADIUS=500;X-TITLE=41 Lyne St:geo:147.0294185,-35.5179779
END:VEVENT
BEGIN:VEVENT
DTSTART;TZID=Australia/Sydney:20290930T100000
DTEND;TZID=Australia/Sydney:20290930T110000
DTSTAMP:20260422T112852
CREATED:20260109T062813Z
LAST-MODIFIED:20260109T062813Z
UID:10000246-1885456800-1885460400@henty.lutheran.org.au
SUMMARY:Parish Combined Worship Service
DESCRIPTION:Join us for a shared luncheon and a cuppa after the service! \nCombined Parish Service happens every 5th Sunday and is lead by the Pastor.
URL:https://henty.lutheran.org.au/event/parish-combined-worship-service/2029-09-30/
LOCATION:St Paul’s Henty\, 41 Lyne St\, Henty\, NSW\, 2658\, Australia
CATEGORIES:Worship
ATTACH;FMTTYPE=image/jpeg:https://henty.lutheran.org.au/wp-content/uploads/2018/12/DSCN4965.jpg
GEO:-35.5179779;147.0294185
X-APPLE-STRUCTURED-LOCATION;VALUE=URI;X-ADDRESS=St Paul’s Henty 41 Lyne St Henty NSW 2658 Australia;X-APPLE-RADIUS=500;X-TITLE=41 Lyne St:geo:147.0294185,-35.5179779
END:VEVENT
BEGIN:VEVENT
DTSTART;TZID=Australia/Sydney:20290930T100000
DTEND;TZID=Australia/Sydney:20290930T110000
DTSTAMP:20260422T112852
CREATED:20260302T031015Z
LAST-MODIFIED:20260302T031015Z
UID:10000326-1885456800-1885460400@henty.lutheran.org.au
SUMMARY:Palm Sunday Parish Combined Worship Service
DESCRIPTION:Join us for a shared luncheon and a cuppa after the service! \nCombined Parish Service happens every 5th Sunday and is lead by the Pastor.
URL:https://henty.lutheran.org.au/event/palm-sunday-parish-combined-worship-service/2029-09-30/
LOCATION:St Paul’s Henty\, 41 Lyne St\, Henty\, NSW\, 2658\, Australia
CATEGORIES:Worship
ATTACH;FMTTYPE=image/jpeg:https://henty.lutheran.org.au/wp-content/uploads/2018/12/DSCN4965.jpg
GEO:-35.5179779;147.0294185
X-APPLE-STRUCTURED-LOCATION;VALUE=URI;X-ADDRESS=St Paul’s Henty 41 Lyne St Henty NSW 2658 Australia;X-APPLE-RADIUS=500;X-TITLE=41 Lyne St:geo:147.0294185,-35.5179779
END:VEVENT
BEGIN:VEVENT
DTSTART;TZID=Australia/Sydney:20291230T100000
DTEND;TZID=Australia/Sydney:20291230T110000
DTSTAMP:20260422T112852
CREATED:20260109T062813Z
LAST-MODIFIED:20260109T062813Z
UID:10000247-1893319200-1893322800@henty.lutheran.org.au
SUMMARY:Parish Combined Worship Service
DESCRIPTION:Join us for a shared luncheon and a cuppa after the service! \nCombined Parish Service happens every 5th Sunday and is lead by the Pastor.
URL:https://henty.lutheran.org.au/event/parish-combined-worship-service/2029-12-30/
LOCATION:St Paul’s Henty\, 41 Lyne St\, Henty\, NSW\, 2658\, Australia
CATEGORIES:Worship
ATTACH;FMTTYPE=image/jpeg:https://henty.lutheran.org.au/wp-content/uploads/2018/12/DSCN4965.jpg
GEO:-35.5179779;147.0294185
X-APPLE-STRUCTURED-LOCATION;VALUE=URI;X-ADDRESS=St Paul’s Henty 41 Lyne St Henty NSW 2658 Australia;X-APPLE-RADIUS=500;X-TITLE=41 Lyne St:geo:147.0294185,-35.5179779
END:VEVENT
BEGIN:VEVENT
DTSTART;TZID=Australia/Sydney:20291230T100000
DTEND;TZID=Australia/Sydney:20291230T110000
DTSTAMP:20260422T112852
CREATED:20260302T031015Z
LAST-MODIFIED:20260302T031015Z
UID:10000327-1893319200-1893322800@henty.lutheran.org.au
SUMMARY:Palm Sunday Parish Combined Worship Service
DESCRIPTION:Join us for a shared luncheon and a cuppa after the service! \nCombined Parish Service happens every 5th Sunday and is lead by the Pastor.
URL:https://henty.lutheran.org.au/event/palm-sunday-parish-combined-worship-service/2029-12-30/
LOCATION:St Paul’s Henty\, 41 Lyne St\, Henty\, NSW\, 2658\, Australia
CATEGORIES:Worship
ATTACH;FMTTYPE=image/jpeg:https://henty.lutheran.org.au/wp-content/uploads/2018/12/DSCN4965.jpg
GEO:-35.5179779;147.0294185
X-APPLE-STRUCTURED-LOCATION;VALUE=URI;X-ADDRESS=St Paul’s Henty 41 Lyne St Henty NSW 2658 Australia;X-APPLE-RADIUS=500;X-TITLE=41 Lyne St:geo:147.0294185,-35.5179779
END:VEVENT
BEGIN:VEVENT
DTSTART;TZID=Australia/Sydney:20300331T100000
DTEND;TZID=Australia/Sydney:20300331T110000
DTSTAMP:20260422T112852
CREATED:20260109T062813Z
LAST-MODIFIED:20260109T062813Z
UID:10000248-1901181600-1901185200@henty.lutheran.org.au
SUMMARY:Parish Combined Worship Service
DESCRIPTION:Join us for a shared luncheon and a cuppa after the service! \nCombined Parish Service happens every 5th Sunday and is lead by the Pastor.
URL:https://henty.lutheran.org.au/event/parish-combined-worship-service/2030-03-31/
LOCATION:St Paul’s Henty\, 41 Lyne St\, Henty\, NSW\, 2658\, Australia
CATEGORIES:Worship
ATTACH;FMTTYPE=image/jpeg:https://henty.lutheran.org.au/wp-content/uploads/2018/12/DSCN4965.jpg
GEO:-35.5179779;147.0294185
X-APPLE-STRUCTURED-LOCATION;VALUE=URI;X-ADDRESS=St Paul’s Henty 41 Lyne St Henty NSW 2658 Australia;X-APPLE-RADIUS=500;X-TITLE=41 Lyne St:geo:147.0294185,-35.5179779
END:VEVENT
BEGIN:VEVENT
DTSTART;TZID=Australia/Sydney:20300331T100000
DTEND;TZID=Australia/Sydney:20300331T110000
DTSTAMP:20260422T112852
CREATED:20260302T031015Z
LAST-MODIFIED:20260302T031015Z
UID:10000328-1901181600-1901185200@henty.lutheran.org.au
SUMMARY:Palm Sunday Parish Combined Worship Service
DESCRIPTION:Join us for a shared luncheon and a cuppa after the service! \nCombined Parish Service happens every 5th Sunday and is lead by the Pastor.
URL:https://henty.lutheran.org.au/event/palm-sunday-parish-combined-worship-service/2030-03-31/
LOCATION:St Paul’s Henty\, 41 Lyne St\, Henty\, NSW\, 2658\, Australia
CATEGORIES:Worship
ATTACH;FMTTYPE=image/jpeg:https://henty.lutheran.org.au/wp-content/uploads/2018/12/DSCN4965.jpg
GEO:-35.5179779;147.0294185
X-APPLE-STRUCTURED-LOCATION;VALUE=URI;X-ADDRESS=St Paul’s Henty 41 Lyne St Henty NSW 2658 Australia;X-APPLE-RADIUS=500;X-TITLE=41 Lyne St:geo:147.0294185,-35.5179779
END:VEVENT
END:VCALENDAR